BEGIN:VCALENDAR
VERSION:2.0
PRODID:-//La parfumerie - ECPv6.15.11//NONSGML v1.0//EN
CALSCALE:GREGORIAN
METHOD:PUBLISH
X-WR-CALNAME:La parfumerie
X-ORIGINAL-URL:https://www.laparfumerie.ch
X-WR-CALDESC:Évènements pour La parfumerie
REFRESH-INTERVAL;VALUE=DURATION:PT1H
X-Robots-Tag:noindex
X-PUBLISHED-TTL:PT1H
BEGIN:VTIMEZONE
TZID:Europe/Paris
BEGIN:DAYLIGHT
TZOFFSETFROM:+0100
TZOFFSETTO:+0200
TZNAME:CEST
DTSTART:20240331T010000
END:DAYLIGHT
BEGIN:STANDARD
TZOFFSETFROM:+0200
TZOFFSETTO:+0100
TZNAME:CET
DTSTART:20241027T010000
END:STANDARD
BEGIN:DAYLIGHT
TZOFFSETFROM:+0100
TZOFFSETTO:+0200
TZNAME:CEST
DTSTART:20250330T010000
END:DAYLIGHT
BEGIN:STANDARD
TZOFFSETFROM:+0200
TZOFFSETTO:+0100
TZNAME:CET
DTSTART:20251026T010000
END:STANDARD
BEGIN:DAYLIGHT
TZOFFSETFROM:+0100
TZOFFSETTO:+0200
TZNAME:CEST
DTSTART:20260329T010000
END:DAYLIGHT
BEGIN:STANDARD
TZOFFSETFROM:+0200
TZOFFSETTO:+0100
TZNAME:CET
DTSTART:20261025T010000
END:STANDARD
END:VTIMEZONE
BEGIN:VEVENT
DTSTART;TZID=Europe/Paris:20250114T200000
DTEND;TZID=Europe/Paris:20250114T210000
DTSTAMP:20260422T131650
CREATED:20240820T093609Z
LAST-MODIFIED:20241221T111915Z
UID:10000356-1736884800-1736888400@www.laparfumerie.ch
SUMMARY:Monstre Mama - [Les Artpenteurs]
DESCRIPTION:Pour réserver\, cliquez ici \nAux mères \nAu fil des mots et de la musique\, entre coeur et ventre\, entre voix et violon-celle\, l’artiste invite à un voyage hors du temps. \nDu Valais jusqu’au Nicaragua\, en passant par l’Argentine pour revenir au bord du Léman\, elle raconte des moments de vie charnières\, servis par une parole nue\, puissante et espiègle. \nVioloncelle\, bande-son électronique et voix entrent tour à tour en résonance\, dans une vibration à la frontière des mondes. \nMélodies\, chansons à textes et slams battent le coeur en creusant à vif la condition féminine. \nDe et par Chantal Bianchi\nVioloncelle : Annabelle Rogelet\nArrangements et création bande-son : MÅHŮ\nConseil artistique et espace : Thierry Crozat\nDramaturgie : Lefki Papachrysostomou\nDirection technique : Gilbert Maire\nCostumes : Fanny Buchs \nPour réserver\, cliquez ici
URL:https://www.laparfumerie.ch/evenement/monstre-mama-les-artpenteurs/
LOCATION:La Parfumerie\, 7 chemin de la Gravière\, Genève\, 1227\, Switzerland
CATEGORIES:Programme de Saison,Saison 2024-2025,Théâtre
ATTACH;FMTTYPE=image/png:https://www.laparfumerie.ch/wp-content/uploads/2024/12/monstre_mama11.png
GEO:46.197429;6.1301376
X-APPLE-STRUCTURED-LOCATION;VALUE=URI;X-ADDRESS=La Parfumerie 7 chemin de la Gravière Genève 1227 Switzerland;X-APPLE-RADIUS=500;X-TITLE=7 chemin de la Gravière:geo:6.1301376,46.197429
END:VEVENT
BEGIN:VEVENT
DTSTART;TZID=Europe/Paris:20250115T200000
DTEND;TZID=Europe/Paris:20250115T210000
DTSTAMP:20260422T131650
CREATED:20241221T111950Z
LAST-MODIFIED:20241221T111950Z
UID:10000602-1736971200-1736974800@www.laparfumerie.ch
SUMMARY:Monstre Mama - [Les Artpenteurs]
DESCRIPTION:Pour réserver\, cliquez ici \nAux mères \nAu fil des mots et de la musique\, entre coeur et ventre\, entre voix et violon-celle\, l’artiste invite à un voyage hors du temps. \nDu Valais jusqu’au Nicaragua\, en passant par l’Argentine pour revenir au bord du Léman\, elle raconte des moments de vie charnières\, servis par une parole nue\, puissante et espiègle. \nVioloncelle\, bande-son électronique et voix entrent tour à tour en résonance\, dans une vibration à la frontière des mondes. \nMélodies\, chansons à textes et slams battent le coeur en creusant à vif la condition féminine. \nDe et par Chantal Bianchi\nVioloncelle : Annabelle Rogelet\nArrangements et création bande-son : MÅHŮ\nConseil artistique et espace : Thierry Crozat\nDramaturgie : Lefki Papachrysostomou\nDirection technique : Gilbert Maire\nCostumes : Fanny Buchs \nPour réserver\, cliquez ici
URL:https://www.laparfumerie.ch/evenement/monstre-mama-les-artpenteurs-2/
LOCATION:La Parfumerie\, 7 chemin de la Gravière\, Genève\, 1227\, Switzerland
CATEGORIES:Programme de Saison,Saison 2024-2025,Théâtre
ATTACH;FMTTYPE=image/png:https://www.laparfumerie.ch/wp-content/uploads/2024/12/monstre_mama11.png
GEO:46.197429;6.1301376
X-APPLE-STRUCTURED-LOCATION;VALUE=URI;X-ADDRESS=La Parfumerie 7 chemin de la Gravière Genève 1227 Switzerland;X-APPLE-RADIUS=500;X-TITLE=7 chemin de la Gravière:geo:6.1301376,46.197429
END:VEVENT
END:VCALENDAR