BEGIN:VCALENDAR
VERSION:2.0
PRODID:-//La parfumerie - ECPv6.15.11//NONSGML v1.0//EN
CALSCALE:GREGORIAN
METHOD:PUBLISH
X-WR-CALNAME:La parfumerie
X-ORIGINAL-URL:https://www.laparfumerie.ch
X-WR-CALDESC:Évènements pour La parfumerie
REFRESH-INTERVAL;VALUE=DURATION:PT1H
X-Robots-Tag:noindex
X-PUBLISHED-TTL:PT1H
BEGIN:VTIMEZONE
TZID:Europe/Paris
BEGIN:DAYLIGHT
TZOFFSETFROM:+0100
TZOFFSETTO:+0200
TZNAME:CEST
DTSTART:20210328T010000
END:DAYLIGHT
BEGIN:STANDARD
TZOFFSETFROM:+0200
TZOFFSETTO:+0100
TZNAME:CET
DTSTART:20211031T010000
END:STANDARD
BEGIN:DAYLIGHT
TZOFFSETFROM:+0100
TZOFFSETTO:+0200
TZNAME:CEST
DTSTART:20220327T010000
END:DAYLIGHT
BEGIN:STANDARD
TZOFFSETFROM:+0200
TZOFFSETTO:+0100
TZNAME:CET
DTSTART:20221030T010000
END:STANDARD
BEGIN:DAYLIGHT
TZOFFSETFROM:+0100
TZOFFSETTO:+0200
TZNAME:CEST
DTSTART:20230326T010000
END:DAYLIGHT
BEGIN:STANDARD
TZOFFSETFROM:+0200
TZOFFSETTO:+0100
TZNAME:CET
DTSTART:20231029T010000
END:STANDARD
BEGIN:DAYLIGHT
TZOFFSETFROM:+0100
TZOFFSETTO:+0200
TZNAME:CEST
DTSTART:20240331T010000
END:DAYLIGHT
BEGIN:STANDARD
TZOFFSETFROM:+0200
TZOFFSETTO:+0100
TZNAME:CET
DTSTART:20241027T010000
END:STANDARD
END:VTIMEZONE
BEGIN:VEVENT
DTSTART;VALUE=DATE:20221017
DTEND;VALUE=DATE:20230703
DTSTAMP:20260421T232639
CREATED:20220826T095310Z
LAST-MODIFIED:20221112T105355Z
UID:10000423-1665964800-1688342399@www.laparfumerie.ch
SUMMARY:Programme de saison 2022-2023
DESCRIPTION:
URL:https://www.laparfumerie.ch/evenement/programme-de-saison-2022-2023/
LOCATION:La Parfumerie\, 7 chemin de la Gravière\, Genève\, 1227\, Switzerland
CATEGORIES:Programme de Saison,Saison 2022-2023,Théâtre
ATTACH;FMTTYPE=image/jpeg:https://www.laparfumerie.ch/wp-content/uploads/2022/08/1p.jpg
GEO:46.197429;6.1301376
X-APPLE-STRUCTURED-LOCATION;VALUE=URI;X-ADDRESS=La Parfumerie 7 chemin de la Gravière Genève 1227 Switzerland;X-APPLE-RADIUS=500;X-TITLE=7 chemin de la Gravière:geo:6.1301376,46.197429
END:VEVENT
BEGIN:VEVENT
DTSTART;TZID=Europe/Paris:20230106T230000
DTEND;TZID=Europe/Paris:20230107T230000
DTSTAMP:20260421T232639
CREATED:20221230T103702Z
LAST-MODIFIED:20221230T103702Z
UID:10000187-1673046000-1673132400@www.laparfumerie.ch
SUMMARY:Soirée Combo All Style
DESCRIPTION: SOIRÉE COMBO ALL STYLE \n By DJ JEST\n\nLa soirée COMBO ALL STYLE tu connais ?\nJusqu’à preuve du contraire\, et ça n’arrivera jamais… c’est une idée #madeinlaparf\, imaginée par nos p’tis cerveaux géniaux (dérangés?). C’est aussi un peu notre « signature » (à lire en français avec un accent anglais un peu snob).\nUn savant mélange de musique All Style avec en plus…\n Du Just Dance :\nInitialement destiné à ton salon\, c’est un jeu vidéo qui t’invite à reproduire des chorégraphies ! Diffusé sur notre dance floor\, ça fout un zbeul carrément beau à voir !\n Du Karaoké :\nDosé avec précision\, ça permet les plus beaux congés maladie du lundi pour raison évidente d’extinction de voix suite à un « refroidissement » (certificat médical non compris dans l’offre)\nEn vrai tu connaissais déjà\, mais c’est quand même important que ça rentre.\n\n PS : Pour bien prononcer le mot « signature » en français avec un accent anglais\, merci de visionner cette vidéo de 12 secondes…. ET DE NE PAS…. le dire comme ça :\nhttps://www.youtube.com/watch?v=QKC-26pq06U\n PS2 : Pour bien prononcer le nombre 9988\, en parfait français\, merci de visionner cette vidéo (ça peut toujours servir) :\nhttps://www.youtube.com/watch?v=u3xbggcd6K0\nOuais\, de rien.\n\nHoraires d’ouverture :\n 23h – Ouverture des portes\n 05h – Fermeture\nPrix :\n 5 Chf de 23h à 00h00\n 10 Chf après 00h00
URL:https://www.laparfumerie.ch/evenement/soiree-combo-all-style-9/
LOCATION:La Parfumerie\, 7 chemin de la Gravière\, Genève\, 1227\, Switzerland
CATEGORIES:Soirée dansante
ATTACH;FMTTYPE=image/jpeg:https://www.laparfumerie.ch/wp-content/uploads/2022/08/combo_merde.jpg
GEO:46.197429;6.1301376
X-APPLE-STRUCTURED-LOCATION;VALUE=URI;X-ADDRESS=La Parfumerie 7 chemin de la Gravière Genève 1227 Switzerland;X-APPLE-RADIUS=500;X-TITLE=7 chemin de la Gravière:geo:6.1301376,46.197429
END:VEVENT
BEGIN:VEVENT
DTSTART;TZID=Europe/Paris:20230107T230000
DTEND;TZID=Europe/Paris:20230108T230000
DTSTAMP:20260421T232639
CREATED:20221230T102852Z
LAST-MODIFIED:20221230T102904Z
UID:10000186-1673132400-1673218800@www.laparfumerie.ch
SUMMARY:Soirée Mucho Caliente (Dj RSPT)
DESCRIPTION:Pour bien commencer l’année 2023 et directement réchauffer vos gambettes rouillées\, la soirée 🔥🌴MUCHO CALIENTE🔥🌴 est de retour ce premier samedi de janvier !\nRSPT a carte blanche pour vous atomiser le fessier à base de sons qui Booty shake et de musiques qui donnent envie de se déhancher en secret devant son miroir. \nAttendez-vous donc à une augmentation globale de bien 2-3 degrés parce que ça va être chaud ! RSPT est en mode « four a pyrolyse »\, et il vient pour tout griller ! 🌋\nGrosse all style teintée de sons tropicaux et latins BRU-LANTS\, pas sûr qu’il reste encore beaucoup de glaçons après son passage ! \nHoraires d’ouverture :\n 23h – Ouverture des portes\n 05h – Fermeture \nPrix :\n 5 Chf de 23h à 00h00\n 10 Chf après 00h00 \n \n 
URL:https://www.laparfumerie.ch/evenement/soiree-mucho-caliente-dj-rspt/
LOCATION:La Parfumerie\, 7 chemin de la Gravière\, Genève\, 1227\, Switzerland
CATEGORIES:Soirée dansante
ATTACH;FMTTYPE=image/jpeg:https://www.laparfumerie.ch/wp-content/uploads/2022/02/mucho-caliente_rspt_c.jpg
GEO:46.197429;6.1301376
X-APPLE-STRUCTURED-LOCATION;VALUE=URI;X-ADDRESS=La Parfumerie 7 chemin de la Gravière Genève 1227 Switzerland;X-APPLE-RADIUS=500;X-TITLE=7 chemin de la Gravière:geo:6.1301376,46.197429
END:VEVENT
BEGIN:VEVENT
DTSTART;VALUE=DATE:20230110
DTEND;VALUE=DATE:20230123
DTSTAMP:20260421T232639
CREATED:20221226T112227Z
LAST-MODIFIED:20230112T112631Z
UID:10000438-1673308800-1674431999@www.laparfumerie.ch
SUMMARY:Ceci n'est pas un spectacle sur ma mère
DESCRIPTION:
URL:https://www.laparfumerie.ch/evenement/ceci-nest-pas-un-spectacle-sur-ma-mere/
LOCATION:La Parfumerie\, 7 chemin de la Gravière\, Genève\, 1227\, Switzerland
CATEGORIES:Saison 2022-2023,Théâtre
ATTACH;FMTTYPE=image/jpeg:https://www.laparfumerie.ch/wp-content/uploads/2022/12/ceci-nest-pas-un-spectacle-sur-ma-mere-c.jpg
GEO:46.197429;6.1301376
X-APPLE-STRUCTURED-LOCATION;VALUE=URI;X-ADDRESS=La Parfumerie 7 chemin de la Gravière Genève 1227 Switzerland;X-APPLE-RADIUS=500;X-TITLE=7 chemin de la Gravière:geo:6.1301376,46.197429
END:VEVENT
BEGIN:VEVENT
DTSTART;TZID=Europe/Paris:20230127T230000
DTEND;TZID=Europe/Paris:20230128T050000
DTSTAMP:20260421T232639
CREATED:20230125T102700Z
LAST-MODIFIED:20230125T102700Z
UID:10000189-1674860400-1674882000@www.laparfumerie.ch
SUMMARY:Soirée ALL STYLE
DESCRIPTION:Soirée ALL STYLE\n\nC’est une soirée ALL STYLE\, hyper bien. J’pense que j’ai pas besoin d’en dire beaucoup plus\, si ce n’est peut être que c’est DJ BU (le spécialiste ALL STYLE) aux manettes de cette soirée ALL STYLE\, et que ça va être hyper bien par ce que DJ BU il fait sûrement les meilleures ALL STYLE de la Parf’\, et que cette soirée ALL STYLE sera forcément grandiose (car DJ BU est grand et il ose)\n\n : DJ BU\n : ALL STYLE\nHoraires d’ouverture :\n 23h – Ouverture Dancing\n 05h – Fermeture\nPrix :\n 5 Chf de 23h à 00h00\n10 Chf après 00h00
URL:https://www.laparfumerie.ch/evenement/soiree-all-style-8/
LOCATION:La Parfumerie\, 7 chemin de la Gravière\, Genève\, 1227\, Switzerland
ATTACH;FMTTYPE=image/jpeg:https://www.laparfumerie.ch/wp-content/uploads/2022/03/allstyle_c.jpg
GEO:46.197429;6.1301376
X-APPLE-STRUCTURED-LOCATION;VALUE=URI;X-ADDRESS=La Parfumerie 7 chemin de la Gravière Genève 1227 Switzerland;X-APPLE-RADIUS=500;X-TITLE=7 chemin de la Gravière:geo:6.1301376,46.197429
END:VEVENT
BEGIN:VEVENT
DTSTART;TZID=Europe/Paris:20230128T230000
DTEND;TZID=Europe/Paris:20230129T050000
DTSTAMP:20260421T232639
CREATED:20230125T103013Z
LAST-MODIFIED:20230125T103013Z
UID:10000190-1674946800-1674968400@www.laparfumerie.ch
SUMMARY:Soirée 2k's to 2k20's
DESCRIPTION:Soirée 2k’s to 2k20’s\n\nBy dj X-Or\nQue me réponds-tu si je te dis pantalons taille basse\, piercing au nombril\, tatouage tribal\, Emo\, Kyo\, Techtonic\, Destiny’s Child\, Cascada\, Diams\, Tragédie (hé ho hé ho)\, … ? 2000 bien sûr ! En plus d’avoir bon goût (aucun doute là dessus) tu es sans doute né.e.x plus ou moins à cette époque fabuleuse qui a donné naissance à des sonorités que l’on goûtera ensemble sans modération\, sans négliger les derniers succès du moment (et même un peu de k-pop si vraiment).\nS: X-Or\n\nSoirée de 23h à 5h\n 5chf avant minuit\n10chf après minuit
URL:https://www.laparfumerie.ch/evenement/soiree-2ks-to-2k20s-2/
ATTACH;FMTTYPE=image/jpeg:https://www.laparfumerie.ch/wp-content/uploads/2022/07/2ks2k20.jpg
END:VEVENT
END:VCALENDAR