BEGIN:VCALENDAR
VERSION:2.0
PRODID:-//La parfumerie - ECPv6.15.11//NONSGML v1.0//EN
CALSCALE:GREGORIAN
METHOD:PUBLISH
X-ORIGINAL-URL:https://www.laparfumerie.ch
X-WR-CALDESC:Évènements pour La parfumerie
REFRESH-INTERVAL;VALUE=DURATION:PT1H
X-Robots-Tag:noindex
X-PUBLISHED-TTL:PT1H
BEGIN:VTIMEZONE
TZID:Europe/Paris
BEGIN:DAYLIGHT
TZOFFSETFROM:+0100
TZOFFSETTO:+0200
TZNAME:CEST
DTSTART:20210328T010000
END:DAYLIGHT
BEGIN:STANDARD
TZOFFSETFROM:+0200
TZOFFSETTO:+0100
TZNAME:CET
DTSTART:20211031T010000
END:STANDARD
BEGIN:DAYLIGHT
TZOFFSETFROM:+0100
TZOFFSETTO:+0200
TZNAME:CEST
DTSTART:20220327T010000
END:DAYLIGHT
BEGIN:STANDARD
TZOFFSETFROM:+0200
TZOFFSETTO:+0100
TZNAME:CET
DTSTART:20221030T010000
END:STANDARD
BEGIN:DAYLIGHT
TZOFFSETFROM:+0100
TZOFFSETTO:+0200
TZNAME:CEST
DTSTART:20230326T010000
END:DAYLIGHT
BEGIN:STANDARD
TZOFFSETFROM:+0200
TZOFFSETTO:+0100
TZNAME:CET
DTSTART:20231029T010000
END:STANDARD
END:VTIMEZONE
BEGIN:VEVENT
DTSTART;VALUE=DATE:20220107
DTEND;VALUE=DATE:20220117
DTSTAMP:20260423T020726
CREATED:20210906T144102Z
LAST-MODIFIED:20220105T122253Z
UID:10000335-1641513600-1642377599@www.laparfumerie.ch
SUMMARY:Monique\, Jean\, Claudine et les autres
DESCRIPTION:  \n« Monique\, Jean\, Claudine et les autres »\npar le Collectif C Com Comédies \ntiré du « Théâtre sans animaux » de Jean-Michel Ribes \nUne résonance toute actuelle de nos histoires d’aujourd’hui sur le thème général de l’affirmation de personnalité. Notre travail consiste à sortir de l’autoroute pour prendre les chemins de traverse ou encore à aller voir derrière le décor. \nAlors\, si vous voulez partager notre plaisir à jouer\, bienvenu à La Parfumerie. \nAvec\nThomas DIEBOLD\,\nJulia PORTIER\,\nFabrizio VACIRCA \net en alternance\nAntoine COURVOISIER\nou Bastien BLANCHARD \nSoutien financier : La Loterie Romande et autres en cours \n\nDu 7 au 16 janvier 2022\nDu mardi au samedi à 20h / Le dimanche à 17h\nRéservations & Tarifs : Cliquez ici
URL:https://www.laparfumerie.ch/evenement/monique-jean-claudine-et-les-autres/
CATEGORIES:Saison 2021-2022,Théâtre
ATTACH;FMTTYPE=image/jpeg:https://www.laparfumerie.ch/wp-content/uploads/2021/09/animaux-musique-1.jpg
END:VEVENT
BEGIN:VEVENT
DTSTART;VALUE=DATE:20220118
DTEND;VALUE=DATE:20220124
DTSTAMP:20260423T020726
CREATED:20210906T135940Z
LAST-MODIFIED:20220114T094842Z
UID:10000332-1642464000-1642982399@www.laparfumerie.ch
SUMMARY:L’ébouriffante croisière de aubert & siron®
DESCRIPTION:L’ébouriffante croisière de aubert & siron® \nLe récit met à l’épreuve aubert & siron®\, deux héros modernes à la fois glorieux et dérisoires\, partis en mer à la conquête de leur consécration. Un matin\, ils se découvrent seuls sur leur transatlantique. Après un retournement rocambolesque apparaissent quelques personnages improbables ainsi qu’un ours polaire. Avant le virement de bord final. \nTexte et musique : Vincent Aubert et Jacques Siron \nDistribution :\nVincent Aubert : comédien\nJacques Siron : contrebasse & voix\nFlorence Melnotte : claviers\nSylvain Fournier : percussions \nSoutiens financiers : Loterie Romande\, Fondation Michalski\, Ville de Genève\, Fondation Suisa \n\nDu 18 au 23 janvier 2022\nMardi à samedi : 20h\nDimanche : 17h\nRéservations & Tarifs : Cliquez ici \n\nSuite aux annonces du conseil fédéral\, le pass sanitaire est désormais obligatoire pour accéder aux salles de théâtre. \n⚠ OBLIGATOIRE :\n– Présentez votre « Certificat COVID 2G » et son QR code\n– Présentez une pièce d’identité valide (avec photo)
URL:https://www.laparfumerie.ch/evenement/lebouriffante-croisiere-de-aubert-siron/
LOCATION:Théâtre de la Parfumerie\, 7 chemin de la Gravière\, Genève\, 1227\, Suisse
CATEGORIES:Saison 2021-2022,Théâtre
ATTACH;FMTTYPE=image/jpeg:https://www.laparfumerie.ch/wp-content/uploads/2022/01/ebouriffante_small.jpg
GEO:46.197429;6.1301376
X-APPLE-STRUCTURED-LOCATION;VALUE=URI;X-ADDRESS=Théâtre de la Parfumerie 7 chemin de la Gravière Genève 1227 Suisse;X-APPLE-RADIUS=500;X-TITLE=7 chemin de la Gravière:geo:6.1301376,46.197429
END:VEVENT
BEGIN:VEVENT
DTSTART;TZID=Europe/Paris:20220128T230000
DTEND;TZID=Europe/Paris:20220129T050000
DTSTAMP:20260423T020726
CREATED:20220125T162129Z
LAST-MODIFIED:20220125T162129Z
UID:10000379-1643410800-1643432400@www.laparfumerie.ch
SUMMARY:Soirée I love 80's
DESCRIPTION:Soirée I love 80’s \nDj Dada\n 23:00 – 05:00\n5chf jusqu’à minuit\n 10chf après minuit\n Attention : La Parfumerie ne dispose pas de stand de dépistage antigénique \n______________________________________\nLe pass sanitaire 2G+ est désormais obligatoire pour accéder aux discothèques et dancing.\n– Présentez votre « Certificat COVID 2G+ » et son QR code valide\n– Présentez une pièce d’identité valide (avec photo)\nEn cas de doute sur la validité de votre certificat Covid\, scannez le avec l’application « Covid certificate Check » en mode : 2G+\n Attention : La Parfumerie ne dispose pas de stand de dépistage antigénique \nPour obtenir un certificat Covid 2G+\, il vous faut être soit guéri soit vacciné depuis moins de 4 mois\nou\nêtre soit guéri soit vacciné depuis plus de 4 mois avec en complément un test antigénique ou PCR valide.\nou\nêtre totalement vacciné : 3 doses (2 doses normale + 1 dose booster)
URL:https://www.laparfumerie.ch/evenement/soiree-i-love-80s-3/
LOCATION:La Parfumerie\, 7 chemin de la Gravière\, Genève\, 1227\, Switzerland
CATEGORIES:Soirée dansante
ATTACH;FMTTYPE=image/jpeg:https://www.laparfumerie.ch/wp-content/uploads/2022/01/ilove80s2_c.jpg
GEO:46.197429;6.1301376
X-APPLE-STRUCTURED-LOCATION;VALUE=URI;X-ADDRESS=La Parfumerie 7 chemin de la Gravière Genève 1227 Switzerland;X-APPLE-RADIUS=500;X-TITLE=7 chemin de la Gravière:geo:6.1301376,46.197429
END:VEVENT
BEGIN:VEVENT
DTSTART;TZID=Europe/Paris:20220129T200000
DTEND;TZID=Europe/Paris:20220130T050000
DTSTAMP:20260423T020726
CREATED:20220126T153212Z
LAST-MODIFIED:20220126T153212Z
UID:10000380-1643486400-1643518800@www.laparfumerie.ch
SUMMARY:Karaoké into Combo All Style
DESCRIPTION:Karaoké into Combo All Style \n______________________\n Ce samedi de 20h à 23h vous pourrez choisir votre chanson\, vous emparer d’un micro et faire saigner abondement les oreilles de l’assistance à grands coups de fausses notes et tout ça gratuitement ! Ouahou elle est pas belle la vie ?!\nBon techniquement c’est juste un karaoké…mais avec des participants sympathiques (vous ) et le grand café de la Parf’ (nous ) on est certain que ce sera auditivement grandiose…..\nEt puis ensuite on enchainera\n à partir de 23h on sur une Combo all style ! \nKessa dire que ceci jamy ?\n50% musique all style \n+25% Karaoké hurlé (sans micro) \n+25% Just dance trémoussé \n______________________\n= 100% Fun party \nBy « Les petits pédestres » \n 20:00 – 05:00\n Gratuit jusqu’à 23:00\n5chf de 23:00 à minuit\n 10chf après minuit\n Attention : La Parfumerie ne dispose pas de stand de dépistage Covid\, faites vous tester avant votre arrivée \n______________________________________\nLe pass sanitaire 2G+ est désormais obligatoire pour accéder aux discothèques et dancing.\n– Présentez votre « Certificat COVID 2G+ » et son QR code valide\n– Présentez une pièce d’identité valide (avec photo)\n– Présentez votre test antigénique/PCR si nécessaire\nEn cas de doute sur la validité de votre certificat Covid\, scannez le avec l’application « Covid certificate Check » en mode : 2G+\n Attention : La Parfumerie ne dispose pas de stand de dépistage Covid\, faites vous tester avant votre arrivée \nPour obtenir un certificat Covid 2G+\, il vous faut être soit guéri soit vacciné depuis moins de 4 mois\nou\nêtre soit guéri soit vacciné depuis plus de 4 mois avec en complément un test antigénique ou PCR valide.\nou\nêtre totalement vacciné : 3 doses (2 doses normale + 1 dose booster)
URL:https://www.laparfumerie.ch/evenement/karaoke-into-combo-all-style/
LOCATION:La Parfumerie\, 7 chemin de la Gravière\, Genève\, 1227\, Switzerland
CATEGORIES:Soirée dansante
ATTACH;FMTTYPE=image/jpeg:https://www.laparfumerie.ch/wp-content/uploads/2022/01/combo_allstyle2_c.jpg
GEO:46.197429;6.1301376
X-APPLE-STRUCTURED-LOCATION;VALUE=URI;X-ADDRESS=La Parfumerie 7 chemin de la Gravière Genève 1227 Switzerland;X-APPLE-RADIUS=500;X-TITLE=7 chemin de la Gravière:geo:6.1301376,46.197429
END:VEVENT
END:VCALENDAR