BEGIN:VCALENDAR
VERSION:2.0
PRODID:-//La parfumerie - ECPv6.15.11//NONSGML v1.0//EN
CALSCALE:GREGORIAN
METHOD:PUBLISH
X-WR-CALNAME:La parfumerie
X-ORIGINAL-URL:https://www.laparfumerie.ch
X-WR-CALDESC:Évènements pour La parfumerie
REFRESH-INTERVAL;VALUE=DURATION:PT1H
X-Robots-Tag:noindex
X-PUBLISHED-TTL:PT1H
BEGIN:VTIMEZONE
TZID:Europe/Paris
BEGIN:DAYLIGHT
TZOFFSETFROM:+0100
TZOFFSETTO:+0200
TZNAME:CEST
DTSTART:20200329T010000
END:DAYLIGHT
BEGIN:STANDARD
TZOFFSETFROM:+0200
TZOFFSETTO:+0100
TZNAME:CET
DTSTART:20201025T010000
END:STANDARD
BEGIN:DAYLIGHT
TZOFFSETFROM:+0100
TZOFFSETTO:+0200
TZNAME:CEST
DTSTART:20210328T010000
END:DAYLIGHT
BEGIN:STANDARD
TZOFFSETFROM:+0200
TZOFFSETTO:+0100
TZNAME:CET
DTSTART:20211031T010000
END:STANDARD
BEGIN:DAYLIGHT
TZOFFSETFROM:+0100
TZOFFSETTO:+0200
TZNAME:CEST
DTSTART:20220327T010000
END:DAYLIGHT
BEGIN:STANDARD
TZOFFSETFROM:+0200
TZOFFSETTO:+0100
TZNAME:CET
DTSTART:20221030T010000
END:STANDARD
END:VTIMEZONE
BEGIN:VEVENT
DTSTART;VALUE=DATE:20210928
DTEND;VALUE=DATE:20211018
DTSTAMP:20260423T102952
CREATED:20210901T102627Z
LAST-MODIFIED:20211002T110321Z
UID:10000325-1632787200-1634515199@www.laparfumerie.ch
SUMMARY:Hommage à Jean Mohr - Derrière le miroir & Une autre façon de raconter
DESCRIPTION:Attention : passe sanitaire obligatoire \n \n    \nAttention : passe sanitaire obligatoire \n\nRetrouvez toutes les informations relatives aux conditions d’admission en cliquant sur le lien ci-dessous :\nInformations COVID  \n\nPour obtenir votre certificat Covid :\nhttps://www.ge.ch/certificats-covid-19\n\nOù se faire tester à Genève ?\nhttps://www.ge.ch/covid-19-se-faire…/faire-test-covid-19
URL:https://www.laparfumerie.ch/evenement/hommage-a-jean-mohr-derriere-le-miroir-une-autre-facon-de-raconter/
LOCATION:Théâtre de la Parfumerie\, 7 chemin de la Gravière\, Genève\, 1227\, Suisse
CATEGORIES:Saison 2021-2022,Théâtre,Théâtre Spirale
ATTACH;FMTTYPE=image/jpeg:https://www.laparfumerie.ch/wp-content/uploads/2021/10/ls_hommage_mohria.jpg
GEO:46.197429;6.1301376
X-APPLE-STRUCTURED-LOCATION;VALUE=URI;X-ADDRESS=Théâtre de la Parfumerie 7 chemin de la Gravière Genève 1227 Suisse;X-APPLE-RADIUS=500;X-TITLE=7 chemin de la Gravière:geo:6.1301376,46.197429
END:VEVENT
BEGIN:VEVENT
DTSTART;TZID=Europe/Paris:20211029T230000
DTEND;TZID=Europe/Paris:20211030T050000
DTSTAMP:20260423T102952
CREATED:20211028T093627Z
LAST-MODIFIED:20211028T093755Z
UID:10000375-1635548400-1635570000@www.laparfumerie.ch
SUMMARY:Combo All Style
DESCRIPTION:Soirée Combo Disco all Style \n All style musique \n+25% Karaoké hurlé \n+25% Just dance trémoussé \n+25% Clips vidéo projetés 📺\n+25% Musique normale 🤷🏼‍♂️\n______________________\n= 100% Fun party \n 23:00 – 05:00 (et plus si affinités)\n 5chf avant Minuit\n 10chf après Minuit\n\n\n____________________________________________\n OBLIGATOIRE :\n– Présentez votre « Cerfificat COVID » et son QR code (Nous recommandons vivement la version numérique à la version papier)\n– Présentez une pièce d’identité valide (avec photo)\n La Parfumerie ne propose pas de Test COVID à l’entrée.\nPour obtenir un certificat Covid\, il vous faut remplir l’une des conditions suivantes :\n– Vaccination valide\n– Résultat négatif d’un test antigénique effectué moins de 48 h avant l’événement ou d’un test PCR effectué moins de 72 h avant l’événement\n– Test PCR attestant une guérison au Covid depuis plus de 2 semaines et moins de 6 mois\n Si vous avez un doute sur la validité votre certificat COVID\, scannez votre QR code à l’aide de l’application « COVID certificate check » disponible pour IOS & Android.\n\nAndroid : https://play.google.com/store/apps/details…\nIOS:\nhttps://apps.apple.com/…/covid…/id1565917510…\nNous sommes tenus de refuser l’entrée à toutes personnes présentant un QR non validé ou illisible par cette application.\nCERTIFICAT COVID NUMERIQUE (Recommandé)\nPosséder la version numérique du Certificat COVID réduit de façon significative le temps d’attente à l’entrée et vous évitera les problèmes rendant illisible le QR code de la version papier. Ces problèmes peuvent malheureusement être un motif de refus d’accès aux événements si le QR code est illisible (QR code plié\, mouillé\, impression de mauvaise qualité\, etc…)\nPour se procurer le certificat COVID numérique\nTéléchargez l’application « Certificate COVID »\n\nAndroid : https://play.google.com/store/apps/details…\nIOS: https://apps.apple.com/fr/app/covid-certificate/id1565917320\nDifférentes options permettent d’ajouter votre certificat COVID dans cette applications. (Scanner un QR code\, importer un certificat en format PDF\, ou en générant un code de transfert à donner directement au moment du test/vaccination)\nObtenez toutes les informations à ce sujet dans l’application.\n CERTIFICAT COVID PAPIER (Déconseillé)\nLa version papier du « CERTIFICAT COVID » délivré par les autorités compétentes est bien entendu valide. Elle présente cependant des risques d’illisibilité en cas de mauvaise manipulation du document et est dans tous les cas plus lente à scanner par notre équipe.\nC’est pourquoi\, afin d’éviter des refus d’accès et de réduire l’attente à l’entrée\, nous vous encourageons à convertir votre version papier en version numérique. Voir moins Voir moins \nVoir moins
URL:https://www.laparfumerie.ch/evenement/combo-all-style/
LOCATION:La Parfumerie\, 7 chemin de la Gravière\, Genève\, 1227\, Switzerland
ATTACH;FMTTYPE=image/jpeg:https://www.laparfumerie.ch/wp-content/uploads/2020/02/87065399_2862794300468333_158660670349377536_o.jpg
GEO:46.197429;6.1301376
X-APPLE-STRUCTURED-LOCATION;VALUE=URI;X-ADDRESS=La Parfumerie 7 chemin de la Gravière Genève 1227 Switzerland;X-APPLE-RADIUS=500;X-TITLE=7 chemin de la Gravière:geo:6.1301376,46.197429
END:VEVENT
BEGIN:VEVENT
DTSTART;TZID=Europe/Paris:20211030T230000
DTEND;TZID=Europe/Paris:20211031T050000
DTSTAMP:20260423T102952
CREATED:20211028T094440Z
LAST-MODIFIED:20211028T094440Z
UID:10000376-1635634800-1635656400@www.laparfumerie.ch
SUMMARY:Le bal des monstres
DESCRIPTION:👻‍🎉Halloween Night à la Parf’ ! \nLa Parf’ vous invite à son « bal des monstres »\, pour une nuit festive et effrayante avec Dj X-Or spécialiste de Dj set All style qui vous a préparé plein de surprises musicales pour l’occasion.\nEt par ce qu’on ADORE se déguiser une réduction du tarif d’entrée en fonction de l’effort fournis dans le déguisement sera appliqué par le « juge caissier ». (thème de déguisement libre )\n Horaires : 23h-05h (et plus si affinités)\n Tarifs : 15chf / Réduction de 0chf à 15chf à l’appréciation du « juge caissier » en fonction de l’effort fournis dans l’accoutrement. (thème de déguisement libre )\n\n____________________________________________\n OBLIGATOIRE :\n– Présentez votre « Cerfificat COVID » et son QR code (Nous recommandons vivement la version numérique à la version papier)\n– Présentez une pièce d’identité valide (avec photo)\n La Parfumerie ne propose pas de Test COVID à l’entrée.\nPour obtenir un certificat Covid\, il vous faut remplir l’une des conditions suivantes :\n– Vaccination valide\n– Résultat négatif d’un test antigénique effectué moins de 48 h avant l’événement ou d’un test PCR effectué moins de 72 h avant l’événement\n– Test PCR attestant une guérison au Covid depuis plus de 2 semaines et moins de 6 mois\n Si vous avez un doute sur la validité votre certificat COVID\, scannez votre QR code à l’aide de l’application « COVID certificate check » disponible pour IOS & Android.\n\nAndroid : https://play.google.com/store/apps/details…\nIOS:\nhttps://apps.apple.com/…/covid…/id1565917510…\nNous sommes tenus de refuser l’entrée à toutes personnes présentant un QR non validé ou illisible par cette application.\nCERTIFICAT COVID NUMERIQUE (Recommandé)\nPosséder la version numérique du Certificat COVID réduit de façon significative le temps d’attente à l’entrée et vous évitera les problèmes rendant illisible le QR code de la version papier. Ces problèmes peuvent malheureusement être un motif de refus d’accès aux événements si le QR code est illisible (QR code plié\, mouillé\, impression de mauvaise qualité\, etc…)\nPour se procurer le certificat COVID numérique\nTéléchargez l’application « Certificate COVID »\n\nAndroid : https://play.google.com/store/apps/details…\nIOS: https://apps.apple.com/fr/app/covid-certificate/id1565917320\nDifférentes options permettent d’ajouter votre certificat COVID dans cette applications. (Scanner un QR code\, importer un certificat en format PDF\, ou en générant un code de transfert à donner directement au moment du test/vaccination)\nObtenez toutes les informations à ce sujet dans l’application.\n CERTIFICAT COVID PAPIER (Déconseillé)\nLa version papier du « CERTIFICAT COVID » délivré par les autorités compétentes est bien entendu valide. Elle présente cependant des risques d’illisibilité en cas de mauvaise manipulation du document et est dans tous les cas plus lente à scanner par notre équipe.\nC’est pourquoi\, afin d’éviter des refus d’accès et de réduire l’attente à l’entrée\, nous vous encourageons à convertir votre version papier en version numérique. Voir moins Voir moins \nVoir moins
URL:https://www.laparfumerie.ch/evenement/le-bal-des-monstres/
LOCATION:La Parfumerie\, 7 chemin de la Gravière\, Genève\, 1227\, Switzerland
CATEGORIES:Soirée dansante
ATTACH;FMTTYPE=image/jpeg:https://www.laparfumerie.ch/wp-content/uploads/2021/10/halloween2021_insta.jpg
GEO:46.197429;6.1301376
X-APPLE-STRUCTURED-LOCATION;VALUE=URI;X-ADDRESS=La Parfumerie 7 chemin de la Gravière Genève 1227 Switzerland;X-APPLE-RADIUS=500;X-TITLE=7 chemin de la Gravière:geo:6.1301376,46.197429
END:VEVENT
END:VCALENDAR