BEGIN:VCALENDAR
VERSION:2.0
PRODID:-//La parfumerie - ECPv6.15.11//NONSGML v1.0//EN
CALSCALE:GREGORIAN
METHOD:PUBLISH
X-WR-CALNAME:La parfumerie
X-ORIGINAL-URL:https://www.laparfumerie.ch
X-WR-CALDESC:Évènements pour La parfumerie
REFRESH-INTERVAL;VALUE=DURATION:PT1H
X-Robots-Tag:noindex
X-PUBLISHED-TTL:PT1H
BEGIN:VTIMEZONE
TZID:Europe/Paris
BEGIN:DAYLIGHT
TZOFFSETFROM:+0100
TZOFFSETTO:+0200
TZNAME:CEST
DTSTART:20190331T010000
END:DAYLIGHT
BEGIN:STANDARD
TZOFFSETFROM:+0200
TZOFFSETTO:+0100
TZNAME:CET
DTSTART:20191027T010000
END:STANDARD
BEGIN:DAYLIGHT
TZOFFSETFROM:+0100
TZOFFSETTO:+0200
TZNAME:CEST
DTSTART:20200329T010000
END:DAYLIGHT
BEGIN:STANDARD
TZOFFSETFROM:+0200
TZOFFSETTO:+0100
TZNAME:CET
DTSTART:20201025T010000
END:STANDARD
BEGIN:DAYLIGHT
TZOFFSETFROM:+0100
TZOFFSETTO:+0200
TZNAME:CEST
DTSTART:20210328T010000
END:DAYLIGHT
BEGIN:STANDARD
TZOFFSETFROM:+0200
TZOFFSETTO:+0100
TZNAME:CET
DTSTART:20211031T010000
END:STANDARD
BEGIN:DAYLIGHT
TZOFFSETFROM:+0100
TZOFFSETTO:+0200
TZNAME:CEST
DTSTART:20220327T010000
END:DAYLIGHT
BEGIN:STANDARD
TZOFFSETFROM:+0200
TZOFFSETTO:+0100
TZNAME:CET
DTSTART:20221030T010000
END:STANDARD
END:VTIMEZONE
BEGIN:VEVENT
DTSTART;VALUE=DATE:20200908
DTEND;VALUE=DATE:20210711
DTSTAMP:20260424T005513
CREATED:20200810T083523Z
LAST-MODIFIED:20200824T160727Z
UID:10000263-1599523200-1625961599@www.laparfumerie.ch
SUMMARY:Programme de Saison 2020-2021
DESCRIPTION:
URL:https://www.laparfumerie.ch/evenement/programme-de-saison-2020-2021/
LOCATION:Théâtre de la Parfumerie\, 7 chemin de la Gravière\, Genève\, 1227\, Suisse
CATEGORIES:Programme de Saison,Saison 2020-2021
ATTACH;FMTTYPE=image/jpeg:https://www.laparfumerie.ch/wp-content/uploads/2020/08/saison_20_21_ls.jpg
GEO:46.197429;6.1301376
X-APPLE-STRUCTURED-LOCATION;VALUE=URI;X-ADDRESS=Théâtre de la Parfumerie 7 chemin de la Gravière Genève 1227 Suisse;X-APPLE-RADIUS=500;X-TITLE=7 chemin de la Gravière:geo:6.1301376,46.197429
END:VEVENT
BEGIN:VEVENT
DTSTART;TZID=Europe/Paris:20210112T200000
DTEND;TZID=Europe/Paris:20210131T200000
DTSTAMP:20260424T005513
CREATED:20210118T145356Z
LAST-MODIFIED:20210211T113035Z
UID:10000308-1610481600-1612123200@www.laparfumerie.ch
SUMMARY:[ANNULÉ]  ̶G̶i̶r̶l̶s̶ ̶&̶ ̶B̶o̶y̶s̶ ̶/̶/̶ ̶L̶'̶A̶b̶a̶t̶t̶a̶g̶e̶ ̶r̶i̶t̶u̶e̶l̶ ̶d̶e̶ ̶G̶o̶r̶g̶e̶ ̶M̶a̶s̶t̶r̶o̶m̶a̶s̶
DESCRIPTION:Diptyque Dennis Kelly \nDeux créations de la Vie Sous Traitement \n\nDeux pièces en alternance dans le même théâtre. Deux pièces de l’auteur anglais Dennis Kelly. Deux récits de vie. \nGirls & Boys c’est l’histoire d’un coup de foudre dans la file d’attente EasyJet. Une femme raconte son amour pour celui qui deviendra le père de ses enfants. Puis tout bascule dans l’horreur absolue\, un drame incompréhensible. De l’amour à la violence\, il n’ y a qu’un pas. Dennis Kelly passe de la comédie au drame avec beaucoup de subtilité. \nL’Abattage rituel de Gorge Mastromas est raconté par quatre acteurs. Gorge Mastromas est un enfant normal. Son point faible : Il est loyal et fidèle. Mais en entrant dans l’âge adulte\, une opportunité s’offre à lui : mentir. Petit à petit\, il gravit les échelons pour devenir un puissant chef d’entreprise. Il possède tout ce qu’il désire car c’est un manipulateur hors pair. Jusqu’au croche-pied. Cette pièce aurait pu s’appeler : Naissance et chute de Gorge Mastromas. \n\nMise en scène : Bastien Blanchard \nAssistantes : Charlotte Riondel et Céline Goormaghtigh \n\n\n\nAvec : Verena Lopes\, Bastien Blanchard\, Angelo Dell’Aquila\, Maud Faucherre et Serge Martin\nScénographie : Cornelius Spaeter\nLumières : Marc Heimendinger\nCostumes : Ljubica Markovic\nTraduction : Philippe Le Moine et Gérard Watkins\n(Les textes sont publiés chez L’Arche Editeur)
URL:https://www.laparfumerie.ch/evenement/girls-boys-labattage-rituel-de-gorge-mastromas/
LOCATION:La Parfumerie\, 7 chemin de la Gravière\, Genève\, 1227\, Switzerland
CATEGORIES:Saison 2020-2021,Théâtre
ATTACH;FMTTYPE=image/jpeg:https://www.laparfumerie.ch/wp-content/uploads/2021/01/annulé.jpg
GEO:46.197429;6.1301376
X-APPLE-STRUCTURED-LOCATION;VALUE=URI;X-ADDRESS=La Parfumerie 7 chemin de la Gravière Genève 1227 Switzerland;X-APPLE-RADIUS=500;X-TITLE=7 chemin de la Gravière:geo:6.1301376,46.197429
END:VEVENT
END:VCALENDAR