BEGIN:VCALENDAR
VERSION:2.0
PRODID:-//La parfumerie - ECPv6.15.11//NONSGML v1.0//EN
CALSCALE:GREGORIAN
METHOD:PUBLISH
X-WR-CALNAME:La parfumerie
X-ORIGINAL-URL:https://www.laparfumerie.ch
X-WR-CALDESC:Évènements pour La parfumerie
REFRESH-INTERVAL;VALUE=DURATION:PT1H
X-Robots-Tag:noindex
X-PUBLISHED-TTL:PT1H
BEGIN:VTIMEZONE
TZID:Europe/Paris
BEGIN:DAYLIGHT
TZOFFSETFROM:+0100
TZOFFSETTO:+0200
TZNAME:CEST
DTSTART:20190331T010000
END:DAYLIGHT
BEGIN:STANDARD
TZOFFSETFROM:+0200
TZOFFSETTO:+0100
TZNAME:CET
DTSTART:20191027T010000
END:STANDARD
BEGIN:DAYLIGHT
TZOFFSETFROM:+0100
TZOFFSETTO:+0200
TZNAME:CEST
DTSTART:20200329T010000
END:DAYLIGHT
BEGIN:STANDARD
TZOFFSETFROM:+0200
TZOFFSETTO:+0100
TZNAME:CET
DTSTART:20201025T010000
END:STANDARD
BEGIN:DAYLIGHT
TZOFFSETFROM:+0100
TZOFFSETTO:+0200
TZNAME:CEST
DTSTART:20210328T010000
END:DAYLIGHT
BEGIN:STANDARD
TZOFFSETFROM:+0200
TZOFFSETTO:+0100
TZNAME:CET
DTSTART:20211031T010000
END:STANDARD
BEGIN:DAYLIGHT
TZOFFSETFROM:+0100
TZOFFSETTO:+0200
TZNAME:CEST
DTSTART:20220327T010000
END:DAYLIGHT
BEGIN:STANDARD
TZOFFSETFROM:+0200
TZOFFSETTO:+0100
TZNAME:CET
DTSTART:20221030T010000
END:STANDARD
END:VTIMEZONE
BEGIN:VEVENT
DTSTART;VALUE=DATE:20200908
DTEND;VALUE=DATE:20210711
DTSTAMP:20260424T023324
CREATED:20200810T083523Z
LAST-MODIFIED:20200824T160727Z
UID:10000263-1599523200-1625961599@www.laparfumerie.ch
SUMMARY:Programme de Saison 2020-2021
DESCRIPTION:
URL:https://www.laparfumerie.ch/evenement/programme-de-saison-2020-2021/
LOCATION:Théâtre de la Parfumerie\, 7 chemin de la Gravière\, Genève\, 1227\, Suisse
CATEGORIES:Programme de Saison,Saison 2020-2021
ATTACH;FMTTYPE=image/jpeg:https://www.laparfumerie.ch/wp-content/uploads/2020/08/saison_20_21_ls.jpg
GEO:46.197429;6.1301376
X-APPLE-STRUCTURED-LOCATION;VALUE=URI;X-ADDRESS=Théâtre de la Parfumerie 7 chemin de la Gravière Genève 1227 Suisse;X-APPLE-RADIUS=500;X-TITLE=7 chemin de la Gravière:geo:6.1301376,46.197429
END:VEVENT
BEGIN:VEVENT
DTSTART;VALUE=DATE:20201207
DTEND;VALUE=DATE:20201214
DTSTAMP:20260424T023324
CREATED:20210211T112722Z
LAST-MODIFIED:20210211T112900Z
UID:10000310-1607299200-1607903999@www.laparfumerie.ch
SUMMARY:[ANNULÉ]̶ P̶o̶u̶r̶r̶i̶t̶u̶r̶e̶s̶
DESCRIPTION:  \n 
URL:https://www.laparfumerie.ch/evenement/%cc%b6p%cc%b6o%cc%b6u%cc%b6r%cc%b6r%cc%b6i%cc%b6t%cc%b6u%cc%b6r%cc%b6e%cc%b6s%cc%b6/
LOCATION:La Parfumerie\, 7 chemin de la Gravière\, Genève\, 1227\, Switzerland
CATEGORIES:Saison 2020-2021,Théâtre
ATTACH;FMTTYPE=image/jpeg:https://www.laparfumerie.ch/wp-content/uploads/2021/02/Flyer-Recto.jpg
GEO:46.197429;6.1301376
X-APPLE-STRUCTURED-LOCATION;VALUE=URI;X-ADDRESS=La Parfumerie 7 chemin de la Gravière Genève 1227 Switzerland;X-APPLE-RADIUS=500;X-TITLE=7 chemin de la Gravière:geo:6.1301376,46.197429
END:VEVENT
BEGIN:VEVENT
DTSTART;VALUE=DATE:20201219
DTEND;VALUE=DATE:20201224
DTSTAMP:20260424T023324
CREATED:20201207T083916Z
LAST-MODIFIED:20201211T190447Z
UID:10000306-1608336000-1608767999@www.laparfumerie.ch
SUMMARY:[ANNULÉ] L̶'̶a̶t̶t̶e̶n̶d̶r̶e̶ ̶a̶v̶e̶c̶ ̶u̶n̶ ̶p̶e̶t̶i̶t̶ ̶b̶o̶u̶q̶u̶e̶t̶ ̶d̶'̶é̶g̶l̶a̶n̶t̶i̶n̶e̶s̶
DESCRIPTION:[ANNULÉ] \n \n\nRéservations obligatoires – Traçabilité – distanciation et mesures sanitaires adaptées. \nRéservations :\nPar Email : reservation.parfumerie@gmail.com \nPar téléphone (répondeur) : 022 341 21 21\nTarif unique : 10chf\n\n\n\nCréation de la promotion « La Plage » 2020 de l’Ecole de théâtre Serge Martin \nDu 19 au 23 décembre 2020 / Samedi\, lundi\, mardi\, mercredi à 20h\, dimanche à 17h . \nSpectacle de sortie\, mis en scène par Dorian Rossel et Paola Pagani \nIls nous proposent\, au travers des récits multiples\, une tentative de portrait de nos vies d’aujourd’hui. La création L’attendre avec un petit bouquet d’églantines est un spectacle en 3 volets se nourrissant d’écritures de nature différentes : un roman journalistique\, une BD et un film. En explorant ces matériaux\, en les adaptant pour la scène\, nous questionnons la richesse du langage théâtral. Avec humour et poésie\, nous cherchons comment passer du singulier à l’universel\, du groupe à l’individu\, pour rendre compte de la complexité humaine. \n  \n« Contre une réalité restrictive\, et pas seulement à cause du Covid-19\, des lieux comme l’école de théâtre sont des indices de santé par leur éthique: écoute et liberté d’expression\, travail d’équipe et pratique de la liberté en scène\, recherche de la justesse en chaque chose et ouverture sur des possibles. Dans l’engagement de chaque personne\, on peut lire la soif d’évolution. Cette émancipation\, porteuse d’avenir\, n’est pas en correspondance avec notre société du profit. Nous ne jouons pas pour gagner mais pour être »  –   Serge Martin \n\nRéservations obligatoires – Traçabilité – distanciation et mesures sanitaires adaptées. \nRéservations :\nPar Email : reservation.parfumerie@gmail.com \nPar téléphone (répondeur) : 022 341 21 21\nTarif unique : 10chf\nDu 19 au 23 décembre 2020 / Samedi\, lundi\, mardi\, mercredi à 20h\, dimanche à 17h .
URL:https://www.laparfumerie.ch/evenement/lattendre-avec-un-petit-bouquet-deglantines/
LOCATION:La Parfumerie\, 7 chemin de la Gravière\, Genève\, 1227\, Switzerland
ATTACH;FMTTYPE=image/jpeg:https://www.laparfumerie.ch/wp-content/uploads/2020/12/bouquet_eglantines_s.jpg
GEO:46.197429;6.1301376
X-APPLE-STRUCTURED-LOCATION;VALUE=URI;X-ADDRESS=La Parfumerie 7 chemin de la Gravière Genève 1227 Switzerland;X-APPLE-RADIUS=500;X-TITLE=7 chemin de la Gravière:geo:6.1301376,46.197429
END:VEVENT
END:VCALENDAR