BEGIN:VCALENDAR
VERSION:2.0
PRODID:-//La parfumerie - ECPv6.15.11//NONSGML v1.0//EN
CALSCALE:GREGORIAN
METHOD:PUBLISH
X-ORIGINAL-URL:https://www.laparfumerie.ch
X-WR-CALDESC:Évènements pour La parfumerie
REFRESH-INTERVAL;VALUE=DURATION:PT1H
X-Robots-Tag:noindex
X-PUBLISHED-TTL:PT1H
BEGIN:VTIMEZONE
TZID:Europe/Paris
BEGIN:DAYLIGHT
TZOFFSETFROM:+0100
TZOFFSETTO:+0200
TZNAME:CEST
DTSTART:20180325T010000
END:DAYLIGHT
BEGIN:STANDARD
TZOFFSETFROM:+0200
TZOFFSETTO:+0100
TZNAME:CET
DTSTART:20181028T010000
END:STANDARD
BEGIN:DAYLIGHT
TZOFFSETFROM:+0100
TZOFFSETTO:+0200
TZNAME:CEST
DTSTART:20190331T010000
END:DAYLIGHT
BEGIN:STANDARD
TZOFFSETFROM:+0200
TZOFFSETTO:+0100
TZNAME:CET
DTSTART:20191027T010000
END:STANDARD
BEGIN:DAYLIGHT
TZOFFSETFROM:+0100
TZOFFSETTO:+0200
TZNAME:CEST
DTSTART:20200329T010000
END:DAYLIGHT
BEGIN:STANDARD
TZOFFSETFROM:+0200
TZOFFSETTO:+0100
TZNAME:CET
DTSTART:20201025T010000
END:STANDARD
BEGIN:DAYLIGHT
TZOFFSETFROM:+0100
TZOFFSETTO:+0200
TZNAME:CEST
DTSTART:20210328T010000
END:DAYLIGHT
BEGIN:STANDARD
TZOFFSETFROM:+0200
TZOFFSETTO:+0100
TZNAME:CET
DTSTART:20211031T010000
END:STANDARD
END:VTIMEZONE
BEGIN:VEVENT
DTSTART;TZID=Europe/Paris:20191001T200000
DTEND;TZID=Europe/Paris:20200704T200000
DTSTAMP:20260425T024318
CREATED:20190917T151346Z
LAST-MODIFIED:20200102T172747Z
UID:10000222-1569960000-1593892800@www.laparfumerie.ch
SUMMARY:Programme de saison 2019-2020
DESCRIPTION: 
URL:https://www.laparfumerie.ch/evenement/programme-de-saison-2019-2020/
LOCATION:La Parfumerie\, 7 chemin de la Gravière\, Genève\, 1227\, Switzerland
CATEGORIES:Cie 100% Acrylique,Programme de Saison,Saison 2019-2020,Théâtre,Théâtre Spirale
ATTACH;FMTTYPE=image/jpeg:https://www.laparfumerie.ch/wp-content/uploads/2019/09/saison2019-2020.jpg
GEO:46.197429;6.1301376
X-APPLE-STRUCTURED-LOCATION;VALUE=URI;X-ADDRESS=La Parfumerie 7 chemin de la Gravière Genève 1227 Switzerland;X-APPLE-RADIUS=500;X-TITLE=7 chemin de la Gravière:geo:6.1301376,46.197429
END:VEVENT
BEGIN:VEVENT
DTSTART;TZID=Europe/Paris:20200103T230000
DTEND;TZID=Europe/Paris:20200104T230000
DTSTAMP:20260425T024318
CREATED:20200102T184359Z
LAST-MODIFIED:20200102T184359Z
UID:10000062-1578092400-1578178800@www.laparfumerie.ch
SUMMARY:Soirée Disco All Style
DESCRIPTION:Soirée Disco All Style\nBy DJ X-OR \n23:00-05:00\n5 chf avant minuit\n10 chf après minuit \nLa Parfumerie\n7\, chemin de la Gravière\n1227 Acacias
URL:https://www.laparfumerie.ch/evenement/soiree-disco-all-style/
CATEGORIES:Soirée dansante
ATTACH;FMTTYPE=image/jpeg:https://www.laparfumerie.ch/wp-content/uploads/2020/01/80689166_2752063058208125_1567941913791692800_o.jpg
END:VEVENT
BEGIN:VEVENT
DTSTART;TZID=Europe/Paris:20200104T230000
DTEND;TZID=Europe/Paris:20200105T050000
DTSTAMP:20260425T024318
CREATED:20200102T184729Z
LAST-MODIFIED:20200102T184955Z
UID:10000064-1578178800-1578200400@www.laparfumerie.ch
SUMMARY:Soirée Combo All Style
DESCRIPTION:💥 Soirée Combo Disco all Style 💥 \nKésséssa ? \n50% musique all style 🎵\n+25% Karaoké hurlé 🎤\n+25% Just dance trémoussé 💃\n______________________\n= 100% Fun party 💥🎉🔥🎊 \nBy « Les petits pédestres » 🌟 \n🕚 23:00 – 05:00\n💰 5chf avant minuit\n💸 10chf après minuit
URL:https://www.laparfumerie.ch/evenement/soiree-combo-all-style/
CATEGORIES:Soirée dansante
ATTACH;FMTTYPE=image/jpeg:https://www.laparfumerie.ch/wp-content/uploads/2020/01/81198168_2756956617718769_479782490169409536_n.jpg
END:VEVENT
BEGIN:VEVENT
DTSTART;VALUE=DATE:20200110
DTEND;VALUE=DATE:20200113
DTSTAMP:20260425T024318
CREATED:20191215T162956Z
LAST-MODIFIED:20191215T162956Z
UID:10000058-1578614400-1578873599@www.laparfumerie.ch
SUMMARY:Un Ours et La demande en mariage
DESCRIPTION:
URL:https://www.laparfumerie.ch/evenement/un-ours-et-la-demande-en-mariage/
LOCATION:La Parfumerie\, 7 chemin de la Gravière\, Genève\, 1227\, Switzerland
CATEGORIES:Saison 2019-2020,Théâtre
ATTACH;FMTTYPE=image/jpeg:https://www.laparfumerie.ch/wp-content/uploads/2019/12/Lours-et-la-demande-en-mariage-A4.jpeg
GEO:46.197429;6.1301376
X-APPLE-STRUCTURED-LOCATION;VALUE=URI;X-ADDRESS=La Parfumerie 7 chemin de la Gravière Genève 1227 Switzerland;X-APPLE-RADIUS=500;X-TITLE=7 chemin de la Gravière:geo:6.1301376,46.197429
END:VEVENT
BEGIN:VEVENT
DTSTART;VALUE=DATE:20200121
DTEND;VALUE=DATE:20200203
DTSTAMP:20260425T024318
CREATED:20200102T174018Z
LAST-MODIFIED:20200201T161858Z
UID:10000060-1579564800-1580687999@www.laparfumerie.ch
SUMMARY:Je brûle de Joséphine
DESCRIPTION:Représentations du 1er et 2 février complètes. Vous pouvez néanmoins vous inscrire sur la liste d’attente une heure avant le début du spectacle à la billetterie. \nReprésentations à 19h le mardi/mercredi/jeudi/vendredi/samedi\nReprésentations à 17h le dimanche
URL:https://www.laparfumerie.ch/evenement/je-brule-de-josephine/
LOCATION:Théâtre de la Parfumerie\, 7 chemin de la Gravière\, Genève\, 1227\, Suisse
CATEGORIES:Saison 2019-2020,Théâtre
ATTACH;FMTTYPE=image/jpeg:https://www.laparfumerie.ch/wp-content/uploads/2020/01/josephine_miniature.jpg
GEO:46.197429;6.1301376
X-APPLE-STRUCTURED-LOCATION;VALUE=URI;X-ADDRESS=Théâtre de la Parfumerie 7 chemin de la Gravière Genève 1227 Suisse;X-APPLE-RADIUS=500;X-TITLE=7 chemin de la Gravière:geo:6.1301376,46.197429
END:VEVENT
END:VCALENDAR