BEGIN:VCALENDAR
VERSION:2.0
PRODID:-//La parfumerie - ECPv6.15.11//NONSGML v1.0//EN
CALSCALE:GREGORIAN
METHOD:PUBLISH
X-WR-CALNAME:La parfumerie
X-ORIGINAL-URL:https://www.laparfumerie.ch
X-WR-CALDESC:Évènements pour La parfumerie
REFRESH-INTERVAL;VALUE=DURATION:PT1H
X-Robots-Tag:noindex
X-PUBLISHED-TTL:PT1H
BEGIN:VTIMEZONE
TZID:Europe/Paris
BEGIN:DAYLIGHT
TZOFFSETFROM:+0100
TZOFFSETTO:+0200
TZNAME:CEST
DTSTART:20180325T010000
END:DAYLIGHT
BEGIN:STANDARD
TZOFFSETFROM:+0200
TZOFFSETTO:+0100
TZNAME:CET
DTSTART:20181028T010000
END:STANDARD
BEGIN:DAYLIGHT
TZOFFSETFROM:+0100
TZOFFSETTO:+0200
TZNAME:CEST
DTSTART:20190331T010000
END:DAYLIGHT
BEGIN:STANDARD
TZOFFSETFROM:+0200
TZOFFSETTO:+0100
TZNAME:CET
DTSTART:20191027T010000
END:STANDARD
BEGIN:DAYLIGHT
TZOFFSETFROM:+0100
TZOFFSETTO:+0200
TZNAME:CEST
DTSTART:20200329T010000
END:DAYLIGHT
BEGIN:STANDARD
TZOFFSETFROM:+0200
TZOFFSETTO:+0100
TZNAME:CET
DTSTART:20201025T010000
END:STANDARD
END:VTIMEZONE
BEGIN:VEVENT
DTSTART;TZID=Europe/Paris:20190503T193000
DTEND;TZID=Europe/Paris:20190512T193000
DTSTAMP:20260425T180542
CREATED:20190430T080025Z
LAST-MODIFIED:20190430T080025Z
UID:10000024-1556911800-1557689400@www.laparfumerie.ch
SUMMARY:7 secondes (in God we trust) de Falk Richter
DESCRIPTION:7 secondes (in God we trust) de Falk Richter\nLa dernière création de LA BANDE J – TROUPE ACRYLIQUE JUNIOR déboule à la Parfumerie du 3 au 12 mai 2019
URL:https://www.laparfumerie.ch/evenement/7-secondes-in-god-we-trust-de-falk-richter/
LOCATION:La Parfumerie\, 7 chemin de la Gravière\, Genève\, 1227\, Switzerland
CATEGORIES:Cie 100% Acrylique,Saison 2018-2019,Théâtre
ATTACH;FMTTYPE=image/jpeg:https://www.laparfumerie.ch/wp-content/uploads/2019/04/band-J-3.jpg
GEO:46.197429;6.1301376
X-APPLE-STRUCTURED-LOCATION;VALUE=URI;X-ADDRESS=La Parfumerie 7 chemin de la Gravière Genève 1227 Switzerland;X-APPLE-RADIUS=500;X-TITLE=7 chemin de la Gravière:geo:6.1301376,46.197429
END:VEVENT
BEGIN:VEVENT
DTSTART;TZID=Europe/Paris:20190518T200000
DTEND;TZID=Europe/Paris:20190601T230000
DTSTAMP:20260425T180542
CREATED:20190517T130939Z
LAST-MODIFIED:20190517T131540Z
UID:10000025-1558209600-1559430000@www.laparfumerie.ch
SUMMARY:Ateliers 100% Acrylique 2019
DESCRIPTION:
URL:https://www.laparfumerie.ch/evenement/ateliers-100-acrylique-2019/
LOCATION:La Parfumerie\, 7 chemin de la Gravière\, Genève\, 1227\, Switzerland
CATEGORIES:Cie 100% Acrylique,Saison 2018-2019,Théâtre
ATTACH;FMTTYPE=image/png:https://www.laparfumerie.ch/wp-content/uploads/2018/01/logo-acrylique-noir-300x191.png
GEO:46.197429;6.1301376
X-APPLE-STRUCTURED-LOCATION;VALUE=URI;X-ADDRESS=La Parfumerie 7 chemin de la Gravière Genève 1227 Switzerland;X-APPLE-RADIUS=500;X-TITLE=7 chemin de la Gravière:geo:6.1301376,46.197429
END:VEVENT
END:VCALENDAR