BEGIN:VCALENDAR
VERSION:2.0
PRODID:-//La parfumerie - ECPv6.15.11//NONSGML v1.0//EN
CALSCALE:GREGORIAN
METHOD:PUBLISH
X-ORIGINAL-URL:https://www.laparfumerie.ch
X-WR-CALDESC:Évènements pour La parfumerie
REFRESH-INTERVAL;VALUE=DURATION:PT1H
X-Robots-Tag:noindex
X-PUBLISHED-TTL:PT1H
BEGIN:VTIMEZONE
TZID:Europe/Paris
BEGIN:DAYLIGHT
TZOFFSETFROM:+0100
TZOFFSETTO:+0200
TZNAME:CEST
DTSTART:20180325T010000
END:DAYLIGHT
BEGIN:STANDARD
TZOFFSETFROM:+0200
TZOFFSETTO:+0100
TZNAME:CET
DTSTART:20181028T010000
END:STANDARD
BEGIN:DAYLIGHT
TZOFFSETFROM:+0100
TZOFFSETTO:+0200
TZNAME:CEST
DTSTART:20190331T010000
END:DAYLIGHT
BEGIN:STANDARD
TZOFFSETFROM:+0200
TZOFFSETTO:+0100
TZNAME:CET
DTSTART:20191027T010000
END:STANDARD
BEGIN:DAYLIGHT
TZOFFSETFROM:+0100
TZOFFSETTO:+0200
TZNAME:CEST
DTSTART:20200329T010000
END:DAYLIGHT
BEGIN:STANDARD
TZOFFSETFROM:+0200
TZOFFSETTO:+0100
TZNAME:CET
DTSTART:20201025T010000
END:STANDARD
END:VTIMEZONE
BEGIN:VEVENT
DTSTART;TZID=Europe/Paris:20190205T190000
DTEND;TZID=Europe/Paris:20190224T150000
DTSTAMP:20260426T021645
CREATED:20181203T144921Z
LAST-MODIFIED:20190212T180755Z
UID:10000012-1549393200-1551020400@www.laparfumerie.ch
SUMMARY:La princesse eSt le chevalier
DESCRIPTION:Du 5 au 24 Février 2019\n \nDurée du spectacle : 1h15 \nmardi/jeudi/vendredi/samedi à : 19h \nmercredi à 15h \ndimanche à 11h et 15h \nTarifs \nplein tarif : 25chf \nréduit (Avs/chomeur/AI) : 16chf \nenfant (jusqu’à 12 ans) : 12chf \nReservations  \nciedontstopmenow@gmail.com / 022 341 21 21 \n\nLa Cie Don’t stop me now  \nprésente \nLa princesse eSt le chevalier \nUn spectacle tout public mêlant acteurs\, musiciens et théâtre d’ombres. Une fable épique. Un royaume où la curiosité est bannie. Une princesse qui pose trop de questions. Un paysan qui chante. Un roi désabusé. Un conseiller manipulateur. Un vieux scientifique déchu. Une sorcière en cavale. Un rat-conteur… \n \nAvec :\nCharlotte Chabbey\, Justine Ruchat\, Mirko Verdesca\, Lorin Kopp\,\nJerome Sire\, Steven Matthews\, Gaspard Boesch\, Lionel Perrinjaquet. \nAssistante mise en scène : Giulia Belet \nIllustration : Capucine Léonard-Matta Plisson\nAssistante scénographe : Johanna Monnier \nCréation lumières : Thierry Van Osselt\nVideo : Ben Deferne\nMusique : Mirko Verdesca\, Steven Matthews\, Simon Jaccard \n\nDurée du spectacle : 1h15 \nDu 5 au 24 Février 2019\n \nmardi/jeudi/vendredi/samedi à : 19h \nmercredi à 15h \ndimanche à 11h et 15h \nTarifs \nplein tarif : 25chf \nréduit (Avs/chomeur/AI) : 16chf \nenfant (jusqu’à 12 ans) : 12chf \nReservations : Ciedontstopmenow@gmail.com / 022 341 21 21
URL:https://www.laparfumerie.ch/evenement/la-princesse-est-le-chevalier-2/
LOCATION:La Parfumerie\, 7 chemin de la Gravière\, Genève\, 1227\, Switzerland
CATEGORIES:Saison 2018-2019,Théâtre
ATTACH;FMTTYPE=image/jpeg:https://www.laparfumerie.ch/wp-content/uploads/2019/01/princesse_small.jpg
GEO:46.197429;6.1301376
X-APPLE-STRUCTURED-LOCATION;VALUE=URI;X-ADDRESS=La Parfumerie 7 chemin de la Gravière Genève 1227 Switzerland;X-APPLE-RADIUS=500;X-TITLE=7 chemin de la Gravière:geo:6.1301376,46.197429
END:VEVENT
END:VCALENDAR