BEGIN:VCALENDAR
VERSION:2.0
PRODID:-//La parfumerie - ECPv6.15.11//NONSGML v1.0//EN
CALSCALE:GREGORIAN
METHOD:PUBLISH
X-ORIGINAL-URL:https://www.laparfumerie.ch
X-WR-CALDESC:Évènements pour La parfumerie
REFRESH-INTERVAL;VALUE=DURATION:PT1H
X-Robots-Tag:noindex
X-PUBLISHED-TTL:PT1H
BEGIN:VTIMEZONE
TZID:Europe/Paris
BEGIN:DAYLIGHT
TZOFFSETFROM:+0100
TZOFFSETTO:+0200
TZNAME:CEST
DTSTART:20200329T010000
END:DAYLIGHT
BEGIN:STANDARD
TZOFFSETFROM:+0200
TZOFFSETTO:+0100
TZNAME:CET
DTSTART:20201025T010000
END:STANDARD
BEGIN:DAYLIGHT
TZOFFSETFROM:+0100
TZOFFSETTO:+0200
TZNAME:CEST
DTSTART:20210328T010000
END:DAYLIGHT
BEGIN:STANDARD
TZOFFSETFROM:+0200
TZOFFSETTO:+0100
TZNAME:CET
DTSTART:20211031T010000
END:STANDARD
BEGIN:DAYLIGHT
TZOFFSETFROM:+0100
TZOFFSETTO:+0200
TZNAME:CEST
DTSTART:20220327T010000
END:DAYLIGHT
BEGIN:STANDARD
TZOFFSETFROM:+0200
TZOFFSETTO:+0100
TZNAME:CET
DTSTART:20221030T010000
END:STANDARD
END:VTIMEZONE
BEGIN:VEVENT
DTSTART;VALUE=DATE:20211102
DTEND;VALUE=DATE:20211115
DTSTAMP:20260421T205350
CREATED:20210910T110648Z
LAST-MODIFIED:20211028T091822Z
UID:10000370-1635811200-1636934399@www.laparfumerie.ch
SUMMARY:Dylandit
DESCRIPTION:Attention : passe sanitaire obligatoire \n \n \n  \nAttention : passe sanitaire obligatoire \nDylandit \nD’après la poésie de Bob Dylan Un poème épique\, urbain\, bilingue et musical  \nSans Bob Dylan le Rock and Roll comme on le connait aujourd’hui n’existerait pas. Sa musique et sa poésie sont la source d’où coulent tous les fleuves et les rivières de la chanson rock contemporaine. Ses chants ont changé à tout jamais notre paysage musical et ils résonnent encore dans presque toute la musique que nous écoutons. \nDans les années ’60 Dylan invente un nouveau lexique\, une nouvelle grammaire poétique et musicale. Il intègre la poésie dans le rock mainstream comme personne d’autre auparavant.\nIl modifie et transforme irrévocablement la forme de nos chants populaires.  \nJ’aimerais dire Dylan. J’aimerais aussi le chanter. Je ne vais pas raconter son histoire ni sa vie. J’aimerais faire entendre ses mots\, les traduire pour qu’un public francophone puisse les comprendre. Révéler son art si subtil et enivrant d’écrivain\, de poète et de chantre de notre monde. \n  \nUne reprise/récréation du spectacle  joué seulement 4 fois avant le premier confinement en mars 2020 \nConception\, dramaturgie\, jeu et chant : Michele Millner\nAssistant : Florent Bresson\nTraduction : Leo Mohr\, Michele Millner\, Naïma Arlaud\, Jules Bovard  \nAvec :\nNaïma Arlaud (Jeu\, chant) Leo Mohr (Jeu\, chant\, guitare\, basse) Yves Cerf (Saxophones\, kena\, loops) Françoise Gautier (Jeu\, chant\, guitare)\, Sylvain Fournier (Percussion\, batterie)\, Mael Godinat (claviers\, chant)\n\nScénographie : Jean Louis Perrot\nLumières : JC Cerruti\nAssistant et régie : Jules Bovard\nSon : Jean-Baptiste Bossard\nCostumes : Ayelen Gabin \nSoutiens : \nLe Théâtre Spirale bénéficie d’une convention de subventionnement avec la Ville de Genève.\nLa loterie Romande.  \n  \n\nDu 2 au 14 novembre 2021\nDu mardi au samedi : 19h\nDimanche : 17h\nRéservations & Tarifs : Cliquez ici \nAttention : passe sanitaire obligatoire \n\nRetrouvez toutes les informations relatives aux conditions d’admission en cliquant sur le lien ci-dessous :\nInformations COVID  \n\nPour obtenir votre certificat Covid :\nhttps://www.ge.ch/certificats-covid-19\n\nOù se faire tester à Genève ?\nhttps://www.ge.ch/covid-19-se-faire…/faire-test-covid-19
URL:https://www.laparfumerie.ch/evenement/dylandit/
LOCATION:Théâtre de la Parfumerie\, 7 chemin de la Gravière\, Genève\, 1227\, Suisse
CATEGORIES:Saison 2021-2022,Théâtre,Théâtre Spirale
ATTACH;FMTTYPE=image/jpeg:https://www.laparfumerie.ch/wp-content/uploads/2021/10/Théâtre-Spirale_Dylandit_Small.jpg
GEO:46.197429;6.1301376
X-APPLE-STRUCTURED-LOCATION;VALUE=URI;X-ADDRESS=Théâtre de la Parfumerie 7 chemin de la Gravière Genève 1227 Suisse;X-APPLE-RADIUS=500;X-TITLE=7 chemin de la Gravière:geo:6.1301376,46.197429
END:VEVENT
BEGIN:VEVENT
DTSTART;VALUE=DATE:20211119
DTEND;VALUE=DATE:20211122
DTSTAMP:20260421T205350
CREATED:20211111T110721Z
LAST-MODIFIED:20211111T110943Z
UID:10000377-1637280000-1637539199@www.laparfumerie.ch
SUMMARY:30+1 Ans du Théâtre Spirale
DESCRIPTION:
URL:https://www.laparfumerie.ch/evenement/301-ans-du-theatre-spirale/
CATEGORIES:Théâtre,Théâtre Spirale
ATTACH;FMTTYPE=image/jpeg:https://www.laparfumerie.ch/wp-content/uploads/2021/11/SPIRALE-small.jpg
END:VEVENT
END:VCALENDAR