BEGIN:VCALENDAR
VERSION:2.0
PRODID:-//La parfumerie - ECPv6.15.11//NONSGML v1.0//EN
CALSCALE:GREGORIAN
METHOD:PUBLISH
X-WR-CALNAME:La parfumerie
X-ORIGINAL-URL:https://www.laparfumerie.ch
X-WR-CALDESC:Évènements pour La parfumerie
REFRESH-INTERVAL;VALUE=DURATION:PT1H
X-Robots-Tag:noindex
X-PUBLISHED-TTL:PT1H
BEGIN:VTIMEZONE
TZID:Europe/Paris
BEGIN:DAYLIGHT
TZOFFSETFROM:+0100
TZOFFSETTO:+0200
TZNAME:CEST
DTSTART:20200329T010000
END:DAYLIGHT
BEGIN:STANDARD
TZOFFSETFROM:+0200
TZOFFSETTO:+0100
TZNAME:CET
DTSTART:20201025T010000
END:STANDARD
BEGIN:DAYLIGHT
TZOFFSETFROM:+0100
TZOFFSETTO:+0200
TZNAME:CEST
DTSTART:20210328T010000
END:DAYLIGHT
BEGIN:STANDARD
TZOFFSETFROM:+0200
TZOFFSETTO:+0100
TZNAME:CET
DTSTART:20211031T010000
END:STANDARD
BEGIN:DAYLIGHT
TZOFFSETFROM:+0100
TZOFFSETTO:+0200
TZNAME:CEST
DTSTART:20220327T010000
END:DAYLIGHT
BEGIN:STANDARD
TZOFFSETFROM:+0200
TZOFFSETTO:+0100
TZNAME:CET
DTSTART:20221030T010000
END:STANDARD
END:VTIMEZONE
BEGIN:VEVENT
DTSTART;VALUE=DATE:20210928
DTEND;VALUE=DATE:20211018
DTSTAMP:20260421T234903
CREATED:20210901T102627Z
LAST-MODIFIED:20211002T110321Z
UID:10000325-1632787200-1634515199@www.laparfumerie.ch
SUMMARY:Hommage à Jean Mohr - Derrière le miroir & Une autre façon de raconter
DESCRIPTION:Attention : passe sanitaire obligatoire \n \n    \nAttention : passe sanitaire obligatoire \n\nRetrouvez toutes les informations relatives aux conditions d’admission en cliquant sur le lien ci-dessous :\nInformations COVID  \n\nPour obtenir votre certificat Covid :\nhttps://www.ge.ch/certificats-covid-19\n\nOù se faire tester à Genève ?\nhttps://www.ge.ch/covid-19-se-faire…/faire-test-covid-19
URL:https://www.laparfumerie.ch/evenement/hommage-a-jean-mohr-derriere-le-miroir-une-autre-facon-de-raconter/
LOCATION:Théâtre de la Parfumerie\, 7 chemin de la Gravière\, Genève\, 1227\, Suisse
CATEGORIES:Saison 2021-2022,Théâtre,Théâtre Spirale
ATTACH;FMTTYPE=image/jpeg:https://www.laparfumerie.ch/wp-content/uploads/2021/10/ls_hommage_mohria.jpg
GEO:46.197429;6.1301376
X-APPLE-STRUCTURED-LOCATION;VALUE=URI;X-ADDRESS=Théâtre de la Parfumerie 7 chemin de la Gravière Genève 1227 Suisse;X-APPLE-RADIUS=500;X-TITLE=7 chemin de la Gravière:geo:6.1301376,46.197429
END:VEVENT
END:VCALENDAR