BEGIN:VCALENDAR
VERSION:2.0
PRODID:-//La parfumerie - ECPv6.15.11//NONSGML v1.0//EN
CALSCALE:GREGORIAN
METHOD:PUBLISH
X-WR-CALNAME:La parfumerie
X-ORIGINAL-URL:https://www.laparfumerie.ch
X-WR-CALDESC:Évènements pour La parfumerie
REFRESH-INTERVAL;VALUE=DURATION:PT1H
X-Robots-Tag:noindex
X-PUBLISHED-TTL:PT1H
BEGIN:VTIMEZONE
TZID:Europe/Paris
BEGIN:DAYLIGHT
TZOFFSETFROM:+0100
TZOFFSETTO:+0200
TZNAME:CEST
DTSTART:20190331T010000
END:DAYLIGHT
BEGIN:STANDARD
TZOFFSETFROM:+0200
TZOFFSETTO:+0100
TZNAME:CET
DTSTART:20191027T010000
END:STANDARD
BEGIN:DAYLIGHT
TZOFFSETFROM:+0100
TZOFFSETTO:+0200
TZNAME:CEST
DTSTART:20200329T010000
END:DAYLIGHT
BEGIN:STANDARD
TZOFFSETFROM:+0200
TZOFFSETTO:+0100
TZNAME:CET
DTSTART:20201025T010000
END:STANDARD
BEGIN:DAYLIGHT
TZOFFSETFROM:+0100
TZOFFSETTO:+0200
TZNAME:CEST
DTSTART:20210328T010000
END:DAYLIGHT
BEGIN:STANDARD
TZOFFSETFROM:+0200
TZOFFSETTO:+0100
TZNAME:CET
DTSTART:20211031T010000
END:STANDARD
END:VTIMEZONE
BEGIN:VEVENT
DTSTART;TZID=Europe/Paris:20201002T210000
DTEND;TZID=Europe/Paris:20201002T230000
DTSTAMP:20260422T205441
CREATED:20200911T114012Z
LAST-MODIFIED:20201013T145701Z
UID:10000267-1601672400-1601679600@www.laparfumerie.ch
SUMMARY:[COMPLET] CABARET DES AMIS SAVOUREUX // AU PARFUM 2020
DESCRIPTION:ATTENTION REPRÉSENTATION COMPLÈTE\n\nLe CABARET INTERNATIONAL ET INTERSTELLAIRE des Amis Savoureux est un spectacle d’humour alternatif mensuel\, dans la ligne des « soirées variétés » de Suisse Alémanique ou des « Comedy Nights » d’Angleterre.\n\nUn cabaret type se déroule avec une dizaine d’invités qui présentent des sketchs entre 5 et 10 minutes. Leo Mohr et Raphaël Archinard sont les présentateurs et interviennent au début\, à la fin et entre les invités\, avec leurs propres numéros et en improvisannt avec le public. En 2020 l’équipe de base du Cabaret s’élargit en incluant un collectif de jeunes comédien.nes\, humoristes et musicien.nes habitant Genève.\nCette équipe assure une présence et un continu aux soirées en développant leur identité et leur goût unique. Le Cabaret International et Interstellaire des Amis Savoureux reste un espace ouvert à chacun.e pour venir présenter devant un public chaleureux une idée\, aussi farfelue soit-elle. Les Cabarets ont également eu une courte vie en forme de vidéos de 5 minutes sur Instagram et Facebook durant le semi-confinement.\n\n« Bardés de dérision\, d’insolence et de pitrerie […] (Les Amis Savoureux) font une entrée mordante sur la scène comique genevoise »\nLa Tribune de Genève\nhttps://www.tdg.ch/culture/tabouret-pieds-geants/story/22083262\n\n« Coup de cœur de la rédaction »\nEpic Magazine\nhttps://epic-magazine.ch/culturavirus-7-les-coups-de-coeur-de-la-redaction/
URL:https://www.laparfumerie.ch/evenement/cabaret-des-amis-savoureux-au-parfum-2020/2020-10-02/
LOCATION:La Parfumerie\, 7 chemin de la Gravière\, Genève\, 1227\, Switzerland
CATEGORIES:Saison 2020-2021,Théâtre,Théâtre Spirale
ATTACH;FMTTYPE=image/jpeg:https://www.laparfumerie.ch/wp-content/uploads/2020/09/118154082_139186077865162_1191213889718867886_o.jpg
GEO:46.197429;6.1301376
X-APPLE-STRUCTURED-LOCATION;VALUE=URI;X-ADDRESS=La Parfumerie 7 chemin de la Gravière Genève 1227 Switzerland;X-APPLE-RADIUS=500;X-TITLE=7 chemin de la Gravière:geo:6.1301376,46.197429
END:VEVENT
BEGIN:VEVENT
DTSTART;VALUE=DATE:20201006
DTEND;VALUE=DATE:20201019
DTSTAMP:20260422T205441
CREATED:20200911T130946Z
LAST-MODIFIED:20201015T141457Z
UID:10000291-1601942400-1603065599@www.laparfumerie.ch
SUMMARY:Pudeur
DESCRIPTION:Représentation du 16 et 18 octobre complètes !\n\nCie La Campanazo\n\nPUDEUR\n\nExpériences spectaculaires pour mettre à nu ce qui nous en empêche\ndu 06 au 18 octobre 2020 au Théâtre de la Parfumerie\nDans le cadre de Au Parfum\ndu mardi au samedi à 19h –dimanche à 17h –relâche le lundi\nRéservations au 022 341 21 21\n\nMise en scène: Naïma Arlaud\nDramaturgie: Marion Thomas\nAvec: Thaïs Venetz\, Léo Mohr\, Raphaël Archinard\nCréation lumières\, technique\, régie: J-C.Cerutti\nAvec le soutien de la Ville de Genève et de la Loterie romande\n\nExtrait »J’aimerais vous parler de pudeur. Mais comment vous parler de pudeur alors même que\, si j’ai envie de parler de pudeur\, c’est parce que je suis extrêmement pudique? Ce qui fait que par pudeur\, je ne peux pas parler de ce dont ma pudeur est faite\, puisqu’on ne peut pas peindre les contours de la pudeur sans être impudique. Encore moins montrer. Voilà\, je ne peux pas vous montrer ma pudeur\, puisque ma pudeur consiste justement à ne pas montrer ce que je ne peux pas dévoiler. Et pourtant si j’ai envie de parler de pudeur c’est parce que ces choses que par pudeur je ne peux ni montrer ni dire\, je brûle d’envie de vous les dire et de vous les montrer\, puisque ce qui se cache derrière ma pudeur c’est une grande partie de ce que je suis. Mais paradoxe\, pourquoi vouloir représenter ce que je suis\, si ce n’est par impudeur? Alors je me dérobe\, je déblatère\, je triche\, je peux même présenter à vos regards plein de choses que la pudeur pudibonde considère impudique\, mais que ma pudeur personnelle peut dévoiler sans se sentir apeurée\, comme par exemple parler de mes pets\, montrer mes poils pubiens ou vider ma mooncup que je n’ai pas parce que mes règles sont trop peu présentes\, et peut-être qu’après ça je serai soulagée\, avec l’impression d’avoir traité la pudeur sans complexes sur un plateau. »\n\nPudeur\, c’est un mot qui travaille notre corps et nos émotions. Et c’est aussi ce que fait le théâtre. C’est un mot qui se situe à la frontière entre l’intime et le collectif\, l’individu et la société. Et c’est aussi ce que fait le théâtre.\n\nPudeur\, c’est la deuxième création de la compagnie La Campanazo. Le spectacle sera créé et présenté dans le cadre du 2ème évènement «Au Parfum» pour la jeune création\, qui aura lieu au Théâtre de la Parfumerie durant les mois de septembre et octobre 2020.\n\nJ’ai toujours aimé interroger les endroits de nos identités qui peuvent être inconfortables\, qui grattent\, et qui nous définissent peut-être plus sûrement que nos fiertés et nos certitudes. La pudeur est un de ces endroits\, parce qu’elle touche à la fois à notre intimité la plus secrète et à notre image la plus publique. Elle est constituée de tout ce qu’on ne montre ni ne raconte; elle se révèle en creux\, par ses limites\,quand elles sont franchies. En tant que telle\, la pudeur est insaisissable.\n\nC’est un mot dont on ne sait pas quoi faire. Même pas le définir. D’ailleurs il est souvent intraduisible: pas de mot en anglais\, en allemand\, en grec… pour dire la pudeur. Ou plutôt\, des tas de mots qui rendent compte d’aspects très différents qui en français sont rassemblés dans un même vocable. Pudibonderie\, honte\, chasteté\, gêne\, timidité\, modestie\, pruderie\, retenue\, décence\, délicatesse… tous synonymes d’un même mot qui selon les contextes\, le locuteur\, l’époque\, l’objectif\, le genre\, peut être utilisé pour qualifier une qualité (voire une vertu) ou un défaut (voire un péché); un comportement ou un caractère; un rapport à soi ou un rapport aux autres; une émotion ou une sensation; une injonction sociale ou un choix personnel…\n\nQuelle place pour la pudeur dans une société du spectacle? Quid de la pudeur dans un monde qui théorise que nos identités sont des performances? Après #MeToo et dans un contexte où la notion de consentement est enfin prise au sérieux\, est-ce que le concept de pudeur peut nous servir à quelque chose? Quand un hijab de sport peut créer une polémique nationale\, ça a quelque chose à voir avec la pudeur? Est-ce que revendiquer la pudeur peut être aussi féministe et radical que de brûler son soutien-gorge?\n\nDans un monde où on n’a pas vraiment d’autre possibilité que de distribuer nos données personnelles aux multinationales\,où ne pas partager sa vie sur un réseau social est devenu un choix radical; où il est tellement important de «bien présenter»que le chômage vous offrira des cours de CV avant de vous proposer des formations professionnelles\, où il existe des programmes de «relooking»censés aider les gens à sortir de la pauvreté\, il me paraît indispensable de s’interroger sur ce qu’est la part de nous qu’on décide de laisser échapper à ces représentations.\nEt tout aussi indispensable de ne pas le faire seule.\n\nLa pudeur\, c’est un lieu de solitude que j’ai envie de le collectiviser. Car il est impossible de s’intéresser à la pudeur en travaillant de façon verticale\, en étant trop directif. Le sujet oblige à penser la mal nommée direction d’acteurs autrement\, à s’approcher du travail en collectif. J’ai choisi de travailler avec des gens que je connais bien et qui m’accompagnent depuis longtemps\, non seulement dans mes explorations théâtrales\, mais aussi dans les réflexions et militances féministes\, et au-delà. Je trouve très important de pouvoir travailler dans la confiance et la complicité\, d’autant plus pour un sujet aussi délicat\, et je sais qu’avec eux nous pourrons explorer en confiance mais aussi avec humour\, et surtout\, construire ensemble.
URL:https://www.laparfumerie.ch/evenement/pudeur/2020-10-06/
LOCATION:Théâtre de la Parfumerie\, 7 chemin de la Gravière\, Genève\, 1227\, Suisse
CATEGORIES:Saison 2020-2021,Théâtre,Théâtre Spirale
ATTACH;FMTTYPE=image/jpeg:https://www.laparfumerie.ch/wp-content/uploads/2020/09/pudeur-visu.jpg
GEO:46.197429;6.1301376
X-APPLE-STRUCTURED-LOCATION;VALUE=URI;X-ADDRESS=Théâtre de la Parfumerie 7 chemin de la Gravière Genève 1227 Suisse;X-APPLE-RADIUS=500;X-TITLE=7 chemin de la Gravière:geo:6.1301376,46.197429
END:VEVENT
BEGIN:VEVENT
DTSTART;TZID=Europe/Paris:20201016T210000
DTEND;TZID=Europe/Paris:20201016T230000
DTSTAMP:20260422T205441
CREATED:20200911T114012Z
LAST-MODIFIED:20201013T145701Z
UID:10000268-1602882000-1602889200@www.laparfumerie.ch
SUMMARY:[COMPLET] CABARET DES AMIS SAVOUREUX // AU PARFUM 2020
DESCRIPTION:ATTENTION REPRÉSENTATION COMPLÈTE\n\nLe CABARET INTERNATIONAL ET INTERSTELLAIRE des Amis Savoureux est un spectacle d’humour alternatif mensuel\, dans la ligne des « soirées variétés » de Suisse Alémanique ou des « Comedy Nights » d’Angleterre.\n\nUn cabaret type se déroule avec une dizaine d’invités qui présentent des sketchs entre 5 et 10 minutes. Leo Mohr et Raphaël Archinard sont les présentateurs et interviennent au début\, à la fin et entre les invités\, avec leurs propres numéros et en improvisannt avec le public. En 2020 l’équipe de base du Cabaret s’élargit en incluant un collectif de jeunes comédien.nes\, humoristes et musicien.nes habitant Genève.\nCette équipe assure une présence et un continu aux soirées en développant leur identité et leur goût unique. Le Cabaret International et Interstellaire des Amis Savoureux reste un espace ouvert à chacun.e pour venir présenter devant un public chaleureux une idée\, aussi farfelue soit-elle. Les Cabarets ont également eu une courte vie en forme de vidéos de 5 minutes sur Instagram et Facebook durant le semi-confinement.\n\n« Bardés de dérision\, d’insolence et de pitrerie […] (Les Amis Savoureux) font une entrée mordante sur la scène comique genevoise »\nLa Tribune de Genève\nhttps://www.tdg.ch/culture/tabouret-pieds-geants/story/22083262\n\n« Coup de cœur de la rédaction »\nEpic Magazine\nhttps://epic-magazine.ch/culturavirus-7-les-coups-de-coeur-de-la-redaction/
URL:https://www.laparfumerie.ch/evenement/cabaret-des-amis-savoureux-au-parfum-2020/2020-10-16/
LOCATION:La Parfumerie\, 7 chemin de la Gravière\, Genève\, 1227\, Switzerland
CATEGORIES:Saison 2020-2021,Théâtre,Théâtre Spirale
ATTACH;FMTTYPE=image/jpeg:https://www.laparfumerie.ch/wp-content/uploads/2020/09/118154082_139186077865162_1191213889718867886_o.jpg
GEO:46.197429;6.1301376
X-APPLE-STRUCTURED-LOCATION;VALUE=URI;X-ADDRESS=La Parfumerie 7 chemin de la Gravière Genève 1227 Switzerland;X-APPLE-RADIUS=500;X-TITLE=7 chemin de la Gravière:geo:6.1301376,46.197429
END:VEVENT
END:VCALENDAR