BEGIN:VCALENDAR
VERSION:2.0
PRODID:-//La parfumerie - ECPv6.15.11//NONSGML v1.0//EN
CALSCALE:GREGORIAN
METHOD:PUBLISH
X-WR-CALNAME:La parfumerie
X-ORIGINAL-URL:https://www.laparfumerie.ch
X-WR-CALDESC:Évènements pour La parfumerie
REFRESH-INTERVAL;VALUE=DURATION:PT1H
X-Robots-Tag:noindex
X-PUBLISHED-TTL:PT1H
BEGIN:VTIMEZONE
TZID:Europe/Paris
BEGIN:DAYLIGHT
TZOFFSETFROM:+0100
TZOFFSETTO:+0200
TZNAME:CEST
DTSTART:20210328T010000
END:DAYLIGHT
BEGIN:STANDARD
TZOFFSETFROM:+0200
TZOFFSETTO:+0100
TZNAME:CET
DTSTART:20211031T010000
END:STANDARD
BEGIN:DAYLIGHT
TZOFFSETFROM:+0100
TZOFFSETTO:+0200
TZNAME:CEST
DTSTART:20220327T010000
END:DAYLIGHT
BEGIN:STANDARD
TZOFFSETFROM:+0200
TZOFFSETTO:+0100
TZNAME:CET
DTSTART:20221030T010000
END:STANDARD
BEGIN:DAYLIGHT
TZOFFSETFROM:+0100
TZOFFSETTO:+0200
TZNAME:CEST
DTSTART:20230326T010000
END:DAYLIGHT
BEGIN:STANDARD
TZOFFSETFROM:+0200
TZOFFSETTO:+0100
TZNAME:CET
DTSTART:20231029T010000
END:STANDARD
END:VTIMEZONE
BEGIN:VEVENT
DTSTART;VALUE=DATE:20221129
DTEND;VALUE=DATE:20221219
DTSTAMP:20260421T172307
CREATED:20221103T101210Z
LAST-MODIFIED:20221129T112609Z
UID:10000431-1669680000-1671407999@www.laparfumerie.ch
SUMMARY:À la ligne
DESCRIPTION:Du 29 novembre au 18 décembre 2022\nMardi au samedi : 20h00\nDimanche : 17h\nsauf Dimanche 18 décembre : 16h\nRéservations & Tarifs : Cliquez ici \nÀ la ligne \nUne odyssée rebelle et poétique du monde ouvrier \nA LA LIGNE est le témoignage d’un homme cultivé\, intellectuel\, qui quitte tout par amour.Joseph Ponthus part en Bretagne pour épouser celle qu’il aime. Là-bas\, sans travail\, il s’inscrit dans une agence intérimaire qui lui propose un contrat dans une usine agroalimentaire. Pour tenir le coup\, il écrit. \nPar la magie d’une écriture drôle\, coléreuse\, fraternelle\, il réussit à faire entendre la voix de tous ceux qui sont en première ligne pour approvisionner notre société de consommation. \nSix comédiens.ennes pour faire entendre\, ressentir\, traduire les états d’âme\, les états de corps de ce texte bouleversant. Un travail autant choral qu’individuel. \nMettre en scène A LA LIGNE est une façon de rendre hommage non seulement à son auteur\, mort si prématurément\, le 24 février 2021 à 42 ans\, mais aussi aux ouvriers des usines. \nIls deviennent les héros de cet étonnant poème. \nSamedi 17 décembre à 22h :\nLE PROMPTU\nde et par Bastien Blanchard et Antoine Courvoisier \nDistribution: \nAdaptation : Evelyne Castellino\nInterprètes : Bastien Blanchard\, Florestan Blanchon\, Antoine Courvoisier\, Maud Faucherre\, Verena Lopes\, Matthieu Wenger\nVoix : Christian Scheidt\, Anne Marchand\nMise en scène\, dramaturgie et chorégraphie : Evelyne Castellino avec la participation des interprètes\nAssistant : Eliot Sidler\nVidéo\, films et régie : Francesco Cesalli\nLumière\, scénographie et régie : Michel Faure\nRecherche musicale : Evelyne Castellino\nComposition musicale : Bastien Blanchard\, Florestan Blanchon\, Antoine Courvoisier\nBande son et régie : Jacques Zürcher et Ali Lamaadli\nCostumes et accessoires : Spooky Dolls Surgery\nAdministration\, diffusion et presse : Philippe Clerc\nGraphisme affiche – dossier : Evelyne Castellino\nPhotographe : Pierre-André Fragnière\nCaptation spectacle : Vincent Thaon\nResponsable Grand Café : Jeremy Verlooven\nResponsable caisse : Fe Sanchis Moreno \nSoutiens : \nFonds d’encouragement à l’emploi des intermitent.e.s genevois.e.s (FEEIG)\nVille de Genève\nLoterie Romande\nFondation Leenaards\nErnst Göhner Stiftung\nFondation Philanthropique Famille Sandoz\nCommune de Plan-les-Ouates\nVille d’Onex\nFondation Jan Michalski \n\nDu 29 novembre au 18 décembre 2022\nMardi au samedi : 20h00\nDimanche : 17h\nsauf Dimanche 18 décembre : 16h\nRéservations & Tarifs : Cliquez ici
URL:https://www.laparfumerie.ch/evenement/a-la-ligne/
LOCATION:La Parfumerie\, 7 chemin de la Gravière\, Genève\, 1227\, Switzerland
CATEGORIES:Cie 100% Acrylique,Saison 2022-2023,Théâtre
ATTACH;FMTTYPE=image/png:https://www.laparfumerie.ch/wp-content/uploads/2022/11/recto-verso-avec-Flo-1.png
GEO:46.197429;6.1301376
X-APPLE-STRUCTURED-LOCATION;VALUE=URI;X-ADDRESS=La Parfumerie 7 chemin de la Gravière Genève 1227 Switzerland;X-APPLE-RADIUS=500;X-TITLE=7 chemin de la Gravière:geo:6.1301376,46.197429
END:VEVENT
END:VCALENDAR