BEGIN:VCALENDAR
VERSION:2.0
PRODID:-//La parfumerie - ECPv6.15.11//NONSGML v1.0//EN
CALSCALE:GREGORIAN
METHOD:PUBLISH
X-ORIGINAL-URL:https://www.laparfumerie.ch
X-WR-CALDESC:Évènements pour La parfumerie
REFRESH-INTERVAL;VALUE=DURATION:PT1H
X-Robots-Tag:noindex
X-PUBLISHED-TTL:PT1H
BEGIN:VTIMEZONE
TZID:Europe/Paris
BEGIN:DAYLIGHT
TZOFFSETFROM:+0100
TZOFFSETTO:+0200
TZNAME:CEST
DTSTART:20210328T010000
END:DAYLIGHT
BEGIN:STANDARD
TZOFFSETFROM:+0200
TZOFFSETTO:+0100
TZNAME:CET
DTSTART:20211031T010000
END:STANDARD
BEGIN:DAYLIGHT
TZOFFSETFROM:+0100
TZOFFSETTO:+0200
TZNAME:CEST
DTSTART:20220327T010000
END:DAYLIGHT
BEGIN:STANDARD
TZOFFSETFROM:+0200
TZOFFSETTO:+0100
TZNAME:CET
DTSTART:20221030T010000
END:STANDARD
BEGIN:DAYLIGHT
TZOFFSETFROM:+0100
TZOFFSETTO:+0200
TZNAME:CEST
DTSTART:20230326T010000
END:DAYLIGHT
BEGIN:STANDARD
TZOFFSETFROM:+0200
TZOFFSETTO:+0100
TZNAME:CET
DTSTART:20231029T010000
END:STANDARD
END:VTIMEZONE
BEGIN:VEVENT
DTSTART;VALUE=DATE:20220315
DTEND;VALUE=DATE:20220328
DTSTAMP:20260422T061908
CREATED:20210906T134550Z
LAST-MODIFIED:20220318T121217Z
UID:10000331-1647302400-1648425599@www.laparfumerie.ch
SUMMARY:Un discours! Un discours! Un discours!
DESCRIPTION:Un discours! Un discours! Un discours! \nDans «Un discours! Un discours! Un discours!»\, la créatrice de danse-théâtre mêle paroles publiques et névroses privées pour lutter contre le populisme.\nDécoiffant \nIl y a l’hésitation de Patrick Modiano. La sagesse de Stéphane Hessel. Les éructations d’Hitler – que le père de la fable\, exaspéré d’être interrompu\, s’en va zigouiller pendant le dîner. Ou encore les espoirs de Martin Luther King\, la ténacité de Simone Veil\, la magnifique dignité de Christiane Taubira. Dans Un discours! Un discours! Un discours!\, Evelyne Castellino convoque en sons et en images des déclarations qui ont marqué l’Histoire. Mais la metteuse en scène\, qui aime le tumulte\, a la bonne idée de croiser ces paroles publiques avec les propos débridés d’une famille névrosée…. \n…Ce qui plaît dans ce travail\, c’est le rythme insufflé et la belle entente\, palpable\, entre les comédiens qui enchaînent les séquences parlées et dansées à vitesse grand V. Ce qui plaît aussi\, c’est la ligne de fond tracée par Evelyne Castellino. \nMarie-Pierre Genecand  \nLe Temps du 3 octobre 2019 \n\nDu 15 au 27 mars 2022\nMardi à samedi : 20h\nDimanche : 18h\nRéservations & Tarifs : Cliquez ici \n \n 
URL:https://www.laparfumerie.ch/evenement/un-discours-un-discours-un-discours-3/
LOCATION:Théâtre de la Parfumerie\, 7 chemin de la Gravière\, Genève\, 1227\, Suisse
CATEGORIES:Cie 100% Acrylique,Saison 2021-2022,Théâtre
ATTACH;FMTTYPE=image/jpeg:https://www.laparfumerie.ch/wp-content/uploads/2021/09/Affiche-avec-nouvelles-dates.jpeg
GEO:46.197429;6.1301376
X-APPLE-STRUCTURED-LOCATION;VALUE=URI;X-ADDRESS=Théâtre de la Parfumerie 7 chemin de la Gravière Genève 1227 Suisse;X-APPLE-RADIUS=500;X-TITLE=7 chemin de la Gravière:geo:6.1301376,46.197429
END:VEVENT
END:VCALENDAR