BEGIN:VCALENDAR
VERSION:2.0
PRODID:-//La parfumerie - ECPv6.15.11//NONSGML v1.0//EN
CALSCALE:GREGORIAN
METHOD:PUBLISH
X-WR-CALNAME:La parfumerie
X-ORIGINAL-URL:https://www.laparfumerie.ch
X-WR-CALDESC:Évènements pour La parfumerie
REFRESH-INTERVAL;VALUE=DURATION:PT1H
X-Robots-Tag:noindex
X-PUBLISHED-TTL:PT1H
BEGIN:VTIMEZONE
TZID:Europe/Paris
BEGIN:DAYLIGHT
TZOFFSETFROM:+0100
TZOFFSETTO:+0200
TZNAME:CEST
DTSTART:20220327T010000
END:DAYLIGHT
BEGIN:STANDARD
TZOFFSETFROM:+0200
TZOFFSETTO:+0100
TZNAME:CET
DTSTART:20221030T010000
END:STANDARD
BEGIN:DAYLIGHT
TZOFFSETFROM:+0100
TZOFFSETTO:+0200
TZNAME:CEST
DTSTART:20230326T010000
END:DAYLIGHT
BEGIN:STANDARD
TZOFFSETFROM:+0200
TZOFFSETTO:+0100
TZNAME:CET
DTSTART:20231029T010000
END:STANDARD
BEGIN:DAYLIGHT
TZOFFSETFROM:+0100
TZOFFSETTO:+0200
TZNAME:CEST
DTSTART:20240331T010000
END:DAYLIGHT
BEGIN:STANDARD
TZOFFSETFROM:+0200
TZOFFSETTO:+0100
TZNAME:CET
DTSTART:20241027T010000
END:STANDARD
END:VTIMEZONE
BEGIN:VEVENT
DTSTART;VALUE=DATE:20230207
DTEND;VALUE=DATE:20230227
DTSTAMP:20260422T130145
CREATED:20221112T111417Z
LAST-MODIFIED:20221112T111417Z
UID:10000434-1675728000-1677455999@www.laparfumerie.ch
SUMMARY:L’Abattage rituel de Gorge Mastromas
DESCRIPTION:  \nDu 7  au 26 février 2023\nMardi au samedi : 20h00\nDimanche : 17h\nRéservations & Tarifs : Cliquez ici \nL’Abattage rituel de Gorge Mastromas\nDe Denis Kelly \nGorge Mastromas est un enfant normal. Son point faible : il est loyal et fidèle. Mais en entrant dans l’âge adulte\, une opportunité s’offre à lui : mentir.\nPetit à petit il gravit les échelons pour devenir un puissant chef d’entreprise. Il possède tout ce qu’il désire car il ne penche jamais du côté de la vérité.\nJusqu’au croche-pied. Cette pièce aurait pu s’appeler : Naissance et chute de Gorge Mastromas. Une histoire racontée et incarnée par quatre interprètes. \nDistribution : \nMise en scène : Bastien Blanchard\nAssistante : Charlotte Riondel\nJeu : Bastien Blanchard\, Angelo Dell’Aquila\, Serge Martin et Alexandra Tiedemann\nScénographie : Cornélius Spaeter\nCréation lumière : Marc Heimendinger\nCostumes : Ljubica Markovic\nProduction : Cie Sous Traitement \nSoutiens : \nVille de Genève \n 
URL:https://www.laparfumerie.ch/evenement/labattage-rituel-de-gorge-mastromas/
LOCATION:La Parfumerie\, 7 chemin de la Gravière\, Genève\, 1227\, Switzerland
CATEGORIES:Cie Sous Traitement,Saison 2022-2023,Théâtre
ATTACH;FMTTYPE=image/jpeg:https://www.laparfumerie.ch/wp-content/uploads/2022/11/Affiche-Mastromas.jpeg
GEO:46.197429;6.1301376
X-APPLE-STRUCTURED-LOCATION;VALUE=URI;X-ADDRESS=La Parfumerie 7 chemin de la Gravière Genève 1227 Switzerland;X-APPLE-RADIUS=500;X-TITLE=7 chemin de la Gravière:geo:6.1301376,46.197429
END:VEVENT
END:VCALENDAR