BEGIN:VCALENDAR
VERSION:2.0
PRODID:-//La parfumerie - ECPv6.15.11//NONSGML v1.0//EN
CALSCALE:GREGORIAN
METHOD:PUBLISH
X-WR-CALNAME:La parfumerie
X-ORIGINAL-URL:https://www.laparfumerie.ch
X-WR-CALDESC:Évènements pour La parfumerie
REFRESH-INTERVAL;VALUE=DURATION:PT1H
X-Robots-Tag:noindex
X-PUBLISHED-TTL:PT1H
BEGIN:VTIMEZONE
TZID:Europe/Paris
BEGIN:DAYLIGHT
TZOFFSETFROM:+0100
TZOFFSETTO:+0200
TZNAME:CEST
DTSTART:20220327T010000
END:DAYLIGHT
BEGIN:STANDARD
TZOFFSETFROM:+0200
TZOFFSETTO:+0100
TZNAME:CET
DTSTART:20221030T010000
END:STANDARD
BEGIN:DAYLIGHT
TZOFFSETFROM:+0100
TZOFFSETTO:+0200
TZNAME:CEST
DTSTART:20230326T010000
END:DAYLIGHT
BEGIN:STANDARD
TZOFFSETFROM:+0200
TZOFFSETTO:+0100
TZNAME:CET
DTSTART:20231029T010000
END:STANDARD
BEGIN:DAYLIGHT
TZOFFSETFROM:+0100
TZOFFSETTO:+0200
TZNAME:CEST
DTSTART:20240331T010000
END:DAYLIGHT
BEGIN:STANDARD
TZOFFSETFROM:+0200
TZOFFSETTO:+0100
TZNAME:CET
DTSTART:20241027T010000
END:STANDARD
END:VTIMEZONE
BEGIN:VEVENT
DTSTART;TZID=Europe/Paris:20230802T190000
DTEND;TZID=Europe/Paris:20230803T000000
DTSTAMP:20260422T023805
CREATED:20230724T173025Z
LAST-MODIFIED:20230724T173025Z
UID:10000458-1691002800-1691020800@www.laparfumerie.ch
SUMMARY:Grand Cabaret Féminin 2023
DESCRIPTION:Ce mercredi 2 Août 2023\, vous aurez l’Honneur\, la CHance et le DEVOIR de venir découvrir en exclusivité la toute DEUXIEME PREMIERE MONDIALE du Grand Cabaret Féminin – Internationalement Local ! \nPar des femmes. Vous les connaissez nos femmes ?!  (Là vous dites « Oui cheffes ! »). Pour des femmes ? Non\, pour tout le monde ! Pour toi\, eux\, vous\, nous\, moi. Incroyable … ! OUI ! \nVenez assister à une succession de spectacles surprenants et encore Incroyable ! OUIIIII !!… Nous avons réuni pour vous les plus grandes artistes de la scène locale mondiale genevoise… \nPréparez-vous pour le plus beau spectacle de votre iiiiiiiive ! \n\nDRESS CODE – Vivement conseillé : Robes & Paillettes & Paillettes à Strass
URL:https://www.laparfumerie.ch/evenement/grand-cabaret-feminin-2023/
LOCATION:La Parfumerie\, 7 chemin de la Gravière\, Genève\, 1227\, Switzerland
CATEGORIES:Saison 2022-2023,Théâtre
ATTACH;FMTTYPE=image/png:https://www.laparfumerie.ch/wp-content/uploads/2023/07/cabaret_feminin_c.png
GEO:46.197429;6.1301376
X-APPLE-STRUCTURED-LOCATION;VALUE=URI;X-ADDRESS=La Parfumerie 7 chemin de la Gravière Genève 1227 Switzerland;X-APPLE-RADIUS=500;X-TITLE=7 chemin de la Gravière:geo:6.1301376,46.197429
END:VEVENT
END:VCALENDAR