BEGIN:VCALENDAR
VERSION:2.0
PRODID:-//La parfumerie - ECPv6.15.11//NONSGML v1.0//EN
CALSCALE:GREGORIAN
METHOD:PUBLISH
X-WR-CALNAME:La parfumerie
X-ORIGINAL-URL:https://www.laparfumerie.ch
X-WR-CALDESC:Évènements pour La parfumerie
REFRESH-INTERVAL;VALUE=DURATION:PT1H
X-Robots-Tag:noindex
X-PUBLISHED-TTL:PT1H
BEGIN:VTIMEZONE
TZID:Europe/Paris
BEGIN:DAYLIGHT
TZOFFSETFROM:+0100
TZOFFSETTO:+0200
TZNAME:CEST
DTSTART:20210328T010000
END:DAYLIGHT
BEGIN:STANDARD
TZOFFSETFROM:+0200
TZOFFSETTO:+0100
TZNAME:CET
DTSTART:20211031T010000
END:STANDARD
BEGIN:DAYLIGHT
TZOFFSETFROM:+0100
TZOFFSETTO:+0200
TZNAME:CEST
DTSTART:20220327T010000
END:DAYLIGHT
BEGIN:STANDARD
TZOFFSETFROM:+0200
TZOFFSETTO:+0100
TZNAME:CET
DTSTART:20221030T010000
END:STANDARD
BEGIN:DAYLIGHT
TZOFFSETFROM:+0100
TZOFFSETTO:+0200
TZNAME:CEST
DTSTART:20230326T010000
END:DAYLIGHT
BEGIN:STANDARD
TZOFFSETFROM:+0200
TZOFFSETTO:+0100
TZNAME:CET
DTSTART:20231029T010000
END:STANDARD
BEGIN:DAYLIGHT
TZOFFSETFROM:+0100
TZOFFSETTO:+0200
TZNAME:CEST
DTSTART:20240331T010000
END:DAYLIGHT
BEGIN:STANDARD
TZOFFSETFROM:+0200
TZOFFSETTO:+0100
TZNAME:CET
DTSTART:20241027T010000
END:STANDARD
END:VTIMEZONE
BEGIN:VEVENT
DTSTART;VALUE=DATE:20221017
DTEND;VALUE=DATE:20230703
DTSTAMP:20260422T042533
CREATED:20220826T095310Z
LAST-MODIFIED:20221112T105355Z
UID:10000423-1665964800-1688342399@www.laparfumerie.ch
SUMMARY:Programme de saison 2022-2023
DESCRIPTION:
URL:https://www.laparfumerie.ch/evenement/programme-de-saison-2022-2023/
LOCATION:La Parfumerie\, 7 chemin de la Gravière\, Genève\, 1227\, Switzerland
CATEGORIES:Programme de Saison,Saison 2022-2023,Théâtre
ATTACH;FMTTYPE=image/jpeg:https://www.laparfumerie.ch/wp-content/uploads/2022/08/1p.jpg
GEO:46.197429;6.1301376
X-APPLE-STRUCTURED-LOCATION;VALUE=URI;X-ADDRESS=La Parfumerie 7 chemin de la Gravière Genève 1227 Switzerland;X-APPLE-RADIUS=500;X-TITLE=7 chemin de la Gravière:geo:6.1301376,46.197429
END:VEVENT
BEGIN:VEVENT
DTSTART;VALUE=DATE:20230603
DTEND;VALUE=DATE:20230619
DTSTAMP:20260422T042533
CREATED:20230510T102931Z
LAST-MODIFIED:20230510T102931Z
UID:10000445-1685750400-1687132799@www.laparfumerie.ch
SUMMARY:Spectacles des ateliers 100% Acrylique
DESCRIPTION:ATTENTION POUR RESERVER POUR LES SPECTACLE ENVOYEZ UN MAIL A reservation@cie-acrylique.ch \n \n \n \n \nATTENTION POUR RESERVER POUR LES SPECTACLE ENVOYEZ UN MAIL A reservation@cie-acrylique.ch
URL:https://www.laparfumerie.ch/evenement/spectacles-des-ateliers-100-acrylique-2/
LOCATION:La Parfumerie\, 7 chemin de la Gravière\, Genève\, 1227\, Switzerland
CATEGORIES:Cie 100% Acrylique,Saison 2022-2023,Théâtre
ATTACH;FMTTYPE=image/jpeg:https://www.laparfumerie.ch/wp-content/uploads/2023/05/carre.jpg
GEO:46.197429;6.1301376
X-APPLE-STRUCTURED-LOCATION;VALUE=URI;X-ADDRESS=La Parfumerie 7 chemin de la Gravière Genève 1227 Switzerland;X-APPLE-RADIUS=500;X-TITLE=7 chemin de la Gravière:geo:6.1301376,46.197429
END:VEVENT
BEGIN:VEVENT
DTSTART;TZID=Europe/Paris:20230624T140000
DTEND;TZID=Europe/Paris:20230624T170000
DTSTAMP:20260422T042533
CREATED:20230612T145119Z
LAST-MODIFIED:20230612T145119Z
UID:10000448-1687615200-1687626000@www.laparfumerie.ch
SUMMARY:Stage Audition pour integrer la Bande J
DESCRIPTION:
URL:https://www.laparfumerie.ch/evenement/stage-audition-pour-integrer-la-bande-j/
LOCATION:La Parfumerie\, 7 chemin de la Gravière\, Genève\, 1227\, Switzerland
CATEGORIES:Cie 100% Acrylique,Théâtre
ATTACH;FMTTYPE=image/jpeg:https://www.laparfumerie.ch/wp-content/uploads/2023/06/audition_bande_J.jpg
GEO:46.197429;6.1301376
X-APPLE-STRUCTURED-LOCATION;VALUE=URI;X-ADDRESS=La Parfumerie 7 chemin de la Gravière Genève 1227 Switzerland;X-APPLE-RADIUS=500;X-TITLE=7 chemin de la Gravière:geo:6.1301376,46.197429
END:VEVENT
BEGIN:VEVENT
DTSTART;VALUE=DATE:20230627
DTEND;VALUE=DATE:20230703
DTSTAMP:20260422T042533
CREATED:20230608T075916Z
LAST-MODIFIED:20230612T101855Z
UID:10000447-1687824000-1688342399@www.laparfumerie.ch
SUMMARY:Des choses que je sais depuis toujours
DESCRIPTION:Durant une année\, 23 personnes plutôt jeunes\, s’emparent d’un thème. L’intime? Le désir? L’éducation sexuelle? \n\nA partir de ce thème nous construisons un objet théâtral. Et très rapidement cela nous dépasse touxtes.\nDans cet espace de confiance\, de douceur et de tendresse\, le lundi soir\, chacunex se met à écrire.\nA écrire. A écrire. A parler. A dire. A raconter. A se raconter. A mettre en mots. A mettre des mots sur des souvenirs\, sur des sensations\, sur l’amitié\, le plaisir\, l’amour\, la honte\, la violence\, les victoires et les défaites. On se met à partager à voix haute\, il s’agit\, après tout\, de théâtre. \nDes histoires résonnent ensemble et donnent naissance à de nouvelles histoires\, souvenirs\, témoignages\, anecdotes. \nDes choses que je sais depuis toujours est un projet d’écriture\, de composition musicale et un spectacle sous forme de poème choral contemporain autour du corps\, de l’intime et du genre. \nAvec la troupe de l’atelier 1 du Théâtre Spirale\, dirigé par Michele Millner. \nDu 27 juin au 2 juillet 2023\nDu mardi au samedi à 19h\, le dimanche à 17h\nThéâtre de la Parfumerie\n7\, chemin de la Gravière\n1227 Les Acacias \nRéservations\n022 341 21 21 ou https://www.laparfumerie.ch/reservations/ \nMise en scène\nMichele Millner et Naïma Arlaud\, à partir d’une écriture collective des participant·es \nComposition et musique\nYves Cerf et Mael Godinat \nTravail corporel\nJeanne Pasquier \nCostumes\nJulie Delieutraz \nTechnique\nJules Bovard et Noé Forissier \nComédien·nes professionnel·les\nCamille Tavelli\, Leonardo Rafael\, Nora Cupelin et Zoé Sjollema \nComédien·nes de l’atelier\nEtéocle Alric\, Arben Rexhepi\, Coralie Colquhoun\, Eva Baumgartner\, Karine Deluz\, Maika Eichenberger\, Marie Bondolfi\, Maya Beerli\, Natalia Vonlanthen\, Nurayim Zhenishbek et Wayra Diaz Pino \nOnt participé à l’atelier\nJulie Casamonti\, Luca Dubret et Taki Djennane \nIllustration\nKarine Deluz \nAdministration et communication\nSouad von Allmen \nResponsable technique de la Parfumerie\nTim Gourdou-LabourdetteResponsable Grand Café de la Parfumerie \n\nJeremy Verlooven
URL:https://www.laparfumerie.ch/evenement/des-choses-que-je-sais-depuis-toujours/
LOCATION:La Parfumerie\, 7 chemin de la Gravière\, Genève\, 1227\, Switzerland
CATEGORIES:Saison 2022-2023,Théâtre Spirale
ATTACH;FMTTYPE=image/jpeg:https://www.laparfumerie.ch/wp-content/uploads/2023/06/Des_Choses_Une.jpg
GEO:46.197429;6.1301376
X-APPLE-STRUCTURED-LOCATION;VALUE=URI;X-ADDRESS=La Parfumerie 7 chemin de la Gravière Genève 1227 Switzerland;X-APPLE-RADIUS=500;X-TITLE=7 chemin de la Gravière:geo:6.1301376,46.197429
END:VEVENT
END:VCALENDAR