BEGIN:VCALENDAR
VERSION:2.0
PRODID:-//La parfumerie - ECPv6.15.11//NONSGML v1.0//EN
CALSCALE:GREGORIAN
METHOD:PUBLISH
X-WR-CALNAME:La parfumerie
X-ORIGINAL-URL:https://www.laparfumerie.ch
X-WR-CALDESC:Évènements pour La parfumerie
REFRESH-INTERVAL;VALUE=DURATION:PT1H
X-Robots-Tag:noindex
X-PUBLISHED-TTL:PT1H
BEGIN:VTIMEZONE
TZID:Europe/Paris
BEGIN:DAYLIGHT
TZOFFSETFROM:+0100
TZOFFSETTO:+0200
TZNAME:CEST
DTSTART:20210328T010000
END:DAYLIGHT
BEGIN:STANDARD
TZOFFSETFROM:+0200
TZOFFSETTO:+0100
TZNAME:CET
DTSTART:20211031T010000
END:STANDARD
BEGIN:DAYLIGHT
TZOFFSETFROM:+0100
TZOFFSETTO:+0200
TZNAME:CEST
DTSTART:20220327T010000
END:DAYLIGHT
BEGIN:STANDARD
TZOFFSETFROM:+0200
TZOFFSETTO:+0100
TZNAME:CET
DTSTART:20221030T010000
END:STANDARD
BEGIN:DAYLIGHT
TZOFFSETFROM:+0100
TZOFFSETTO:+0200
TZNAME:CEST
DTSTART:20230326T010000
END:DAYLIGHT
BEGIN:STANDARD
TZOFFSETFROM:+0200
TZOFFSETTO:+0100
TZNAME:CET
DTSTART:20231029T010000
END:STANDARD
BEGIN:DAYLIGHT
TZOFFSETFROM:+0100
TZOFFSETTO:+0200
TZNAME:CEST
DTSTART:20240331T010000
END:DAYLIGHT
BEGIN:STANDARD
TZOFFSETFROM:+0200
TZOFFSETTO:+0100
TZNAME:CET
DTSTART:20241027T010000
END:STANDARD
END:VTIMEZONE
BEGIN:VEVENT
DTSTART;VALUE=DATE:20221017
DTEND;VALUE=DATE:20230703
DTSTAMP:20260422T125138
CREATED:20220826T095310Z
LAST-MODIFIED:20221112T105355Z
UID:10000423-1665964800-1688342399@www.laparfumerie.ch
SUMMARY:Programme de saison 2022-2023
DESCRIPTION:
URL:https://www.laparfumerie.ch/evenement/programme-de-saison-2022-2023/
LOCATION:La Parfumerie\, 7 chemin de la Gravière\, Genève\, 1227\, Switzerland
CATEGORIES:Programme de Saison,Saison 2022-2023,Théâtre
ATTACH;FMTTYPE=image/jpeg:https://www.laparfumerie.ch/wp-content/uploads/2022/08/1p.jpg
GEO:46.197429;6.1301376
X-APPLE-STRUCTURED-LOCATION;VALUE=URI;X-ADDRESS=La Parfumerie 7 chemin de la Gravière Genève 1227 Switzerland;X-APPLE-RADIUS=500;X-TITLE=7 chemin de la Gravière:geo:6.1301376,46.197429
END:VEVENT
BEGIN:VEVENT
DTSTART;VALUE=DATE:20230110
DTEND;VALUE=DATE:20230123
DTSTAMP:20260422T125138
CREATED:20221226T112227Z
LAST-MODIFIED:20230112T112631Z
UID:10000438-1673308800-1674431999@www.laparfumerie.ch
SUMMARY:Ceci n'est pas un spectacle sur ma mère
DESCRIPTION:
URL:https://www.laparfumerie.ch/evenement/ceci-nest-pas-un-spectacle-sur-ma-mere/
LOCATION:La Parfumerie\, 7 chemin de la Gravière\, Genève\, 1227\, Switzerland
CATEGORIES:Saison 2022-2023,Théâtre
ATTACH;FMTTYPE=image/jpeg:https://www.laparfumerie.ch/wp-content/uploads/2022/12/ceci-nest-pas-un-spectacle-sur-ma-mere-c.jpg
GEO:46.197429;6.1301376
X-APPLE-STRUCTURED-LOCATION;VALUE=URI;X-ADDRESS=La Parfumerie 7 chemin de la Gravière Genève 1227 Switzerland;X-APPLE-RADIUS=500;X-TITLE=7 chemin de la Gravière:geo:6.1301376,46.197429
END:VEVENT
END:VCALENDAR