BEGIN:VCALENDAR
VERSION:2.0
PRODID:-//La parfumerie - ECPv6.15.11//NONSGML v1.0//EN
CALSCALE:GREGORIAN
METHOD:PUBLISH
X-ORIGINAL-URL:https://www.laparfumerie.ch
X-WR-CALDESC:Évènements pour La parfumerie
REFRESH-INTERVAL;VALUE=DURATION:PT1H
X-Robots-Tag:noindex
X-PUBLISHED-TTL:PT1H
BEGIN:VTIMEZONE
TZID:Europe/Paris
BEGIN:DAYLIGHT
TZOFFSETFROM:+0100
TZOFFSETTO:+0200
TZNAME:CEST
DTSTART:20210328T010000
END:DAYLIGHT
BEGIN:STANDARD
TZOFFSETFROM:+0200
TZOFFSETTO:+0100
TZNAME:CET
DTSTART:20211031T010000
END:STANDARD
BEGIN:DAYLIGHT
TZOFFSETFROM:+0100
TZOFFSETTO:+0200
TZNAME:CEST
DTSTART:20220327T010000
END:DAYLIGHT
BEGIN:STANDARD
TZOFFSETFROM:+0200
TZOFFSETTO:+0100
TZNAME:CET
DTSTART:20221030T010000
END:STANDARD
BEGIN:DAYLIGHT
TZOFFSETFROM:+0100
TZOFFSETTO:+0200
TZNAME:CEST
DTSTART:20230326T010000
END:DAYLIGHT
BEGIN:STANDARD
TZOFFSETFROM:+0200
TZOFFSETTO:+0100
TZNAME:CET
DTSTART:20231029T010000
END:STANDARD
END:VTIMEZONE
BEGIN:VEVENT
DTSTART;VALUE=DATE:20220208
DTEND;VALUE=DATE:20220221
DTSTAMP:20260423T063430
CREATED:20210906T121351Z
LAST-MODIFIED:20220122T144316Z
UID:10000328-1644278400-1645401599@www.laparfumerie.ch
SUMMARY:GIRLS & BOYS
DESCRIPTION:GIRLS & BOYS\n\nDe Dennis Kelly \n\n\n\nGirls & Boys c’est l’histoire d’un coup de foudre dans une file d’attente EasyJet. Une femme raconte son amour pour celui qui deviendra le père de ses enfants. Puis\, tout bascule dans l’horreur absolue\, un drame incompréhensible. De l’amour à la violence il n’y a qu’un pas. Dennis Kelly passe de la comédie au drame avec beaucoup de subtilité. \n\n\nMise en scène : Bastien Blanchard\n\n\nJeu : Verena Lopes\nAssistante mise en scène : Céline Goormaghtigh\nLumière : Marc Heimendinger\nScénographie : Cornélius Spaeter\n\nCostumes : Ljubica Markovic \n\n\nSoutenu par :\nLa Ville de Genève\nLa Loterie Romande\n\nLa Ville de Carouge \n\n\n\n\nDu 8 au 20 février\n\nMardi à Samedi : 20h\nDimanche : 17h\nRéservations & Tarifs : Cliquez ici
URL:https://www.laparfumerie.ch/evenement/girls-boys/
CATEGORIES:Saison 2021-2022,Théâtre
ATTACH;FMTTYPE=image/png:https://www.laparfumerie.ch/wp-content/uploads/2021/09/GB-reprise.png
END:VEVENT
END:VCALENDAR