BEGIN:VCALENDAR
VERSION:2.0
PRODID:-//La parfumerie - ECPv6.15.11//NONSGML v1.0//EN
CALSCALE:GREGORIAN
METHOD:PUBLISH
X-ORIGINAL-URL:https://www.laparfumerie.ch
X-WR-CALDESC:Évènements pour La parfumerie
REFRESH-INTERVAL;VALUE=DURATION:PT1H
X-Robots-Tag:noindex
X-PUBLISHED-TTL:PT1H
BEGIN:VTIMEZONE
TZID:Europe/Paris
BEGIN:DAYLIGHT
TZOFFSETFROM:+0100
TZOFFSETTO:+0200
TZNAME:CEST
DTSTART:20200329T010000
END:DAYLIGHT
BEGIN:STANDARD
TZOFFSETFROM:+0200
TZOFFSETTO:+0100
TZNAME:CET
DTSTART:20201025T010000
END:STANDARD
BEGIN:DAYLIGHT
TZOFFSETFROM:+0100
TZOFFSETTO:+0200
TZNAME:CEST
DTSTART:20210328T010000
END:DAYLIGHT
BEGIN:STANDARD
TZOFFSETFROM:+0200
TZOFFSETTO:+0100
TZNAME:CET
DTSTART:20211031T010000
END:STANDARD
BEGIN:DAYLIGHT
TZOFFSETFROM:+0100
TZOFFSETTO:+0200
TZNAME:CEST
DTSTART:20220327T010000
END:DAYLIGHT
BEGIN:STANDARD
TZOFFSETFROM:+0200
TZOFFSETTO:+0100
TZNAME:CET
DTSTART:20221030T010000
END:STANDARD
END:VTIMEZONE
BEGIN:VEVENT
DTSTART;VALUE=DATE:20210824
DTEND;VALUE=DATE:20210830
DTSTAMP:20260423T181931
CREATED:20210618T110503Z
LAST-MODIFIED:20210823T192806Z
UID:10000090-1629763200-1630281599@www.laparfumerie.ch
SUMMARY:Nous traversons une légère perturbation
DESCRIPTION:Chronique « RTS Vertigo du 27 mai 2021 » \nSite internet de la cie : www.nuitcorail.ch \n\n\n\n\nVoyagez à bord de l’Embraer-19 au départ de LA PARF AIRPORT !\n\n« Nous traversons une légère Perturbation »\nNouvelle création de la Cie Nuit Corail qui décollera du théâtre de la Parfumerie qui se transforme pour l’occaz’ en aéroport !!\n\nSpectacle immersif\, drôle et décalé\, une métaphore poétique et cocasse de notre monde en crise et un voyage en quête de beauté.\nDans un futur proche\, la flygskam – la honte de voler – a décimé toutes les compagnies aériennes. Le dernier avion à prendre son envol est plongé au cœur d’une épouvantable tempête. L’équipage va faire tout son possible pour maintenir le cap et rassurer les passagers.\n\n Ouverture de la Terrasse :\n Mardi à Jeudi: 18h à 2h\n Vendredi et Samedi : 18h à 23h30\n Dimanche : 15h à 21h\n\n Infos pratiques \n 2 vols par jour du 24 au 29 août\n Nombre de places par vol : 18\n Temps de vol : 1h\n Horaires de départ :\n Du mardi au samedi : 19h & 21h30\n Dimanche 29 : 16h & 18h30\n\n Réservations par email \n(Place limitée à 18 par représentations)\n\nBOOK NOW via : cie.nuit.corail@gmail.com\n Merci d’indiquer pour chaque passager:\nle siège souhaité\n–Business class 20 Chf\n–Economy class 15 Chf\,\nle nom et prénom\nla date et l’horaire souhaité\nun numéro de téléphone pour vous joindre.\n\nAu plaisir de vous accueillir à bord de la Blue Horizon Airlines à destination de Nuuk\, Groenland !\n——————————————————————————\n Infos COVID\n– Certificat COVID non obligatoire\n– Mesures sanitaire en vigueur : évènement public extérieur\n– Masque obligatoire lors des passages en intérieur pendant les représentations\n– Places limitées\n\n\n\n\n\nDistribution supplémentaire :\n\n\nConstruction décors & Régie générale: Barbara Meuli & Lucas Ferrero \nPhotographie : Matthias Steffen \nGraphisme & Illustration : Marcelo Morard
URL:https://www.laparfumerie.ch/evenement/nous-traversons-une-legere-perturbation/
LOCATION:La Parfumerie\, 7 chemin de la Gravière\, Genève\, 1227\, Switzerland
CATEGORIES:Saison 2020-2021,Théâtre
ATTACH;FMTTYPE=image/jpeg:https://www.laparfumerie.ch/wp-content/uploads/2021/06/legère_perturbation_small.jpg
GEO:46.197429;6.1301376
X-APPLE-STRUCTURED-LOCATION;VALUE=URI;X-ADDRESS=La Parfumerie 7 chemin de la Gravière Genève 1227 Switzerland;X-APPLE-RADIUS=500;X-TITLE=7 chemin de la Gravière:geo:6.1301376,46.197429
END:VEVENT
END:VCALENDAR