BEGIN:VCALENDAR
VERSION:2.0
PRODID:-//La parfumerie - ECPv6.15.11//NONSGML v1.0//EN
CALSCALE:GREGORIAN
METHOD:PUBLISH
X-ORIGINAL-URL:https://www.laparfumerie.ch
X-WR-CALDESC:Évènements pour La parfumerie
REFRESH-INTERVAL;VALUE=DURATION:PT1H
X-Robots-Tag:noindex
X-PUBLISHED-TTL:PT1H
BEGIN:VTIMEZONE
TZID:Europe/Paris
BEGIN:DAYLIGHT
TZOFFSETFROM:+0100
TZOFFSETTO:+0200
TZNAME:CEST
DTSTART:20180325T010000
END:DAYLIGHT
BEGIN:STANDARD
TZOFFSETFROM:+0200
TZOFFSETTO:+0100
TZNAME:CET
DTSTART:20181028T010000
END:STANDARD
BEGIN:DAYLIGHT
TZOFFSETFROM:+0100
TZOFFSETTO:+0200
TZNAME:CEST
DTSTART:20190331T010000
END:DAYLIGHT
BEGIN:STANDARD
TZOFFSETFROM:+0200
TZOFFSETTO:+0100
TZNAME:CET
DTSTART:20191027T010000
END:STANDARD
BEGIN:DAYLIGHT
TZOFFSETFROM:+0100
TZOFFSETTO:+0200
TZNAME:CEST
DTSTART:20200329T010000
END:DAYLIGHT
BEGIN:STANDARD
TZOFFSETFROM:+0200
TZOFFSETTO:+0100
TZNAME:CET
DTSTART:20201025T010000
END:STANDARD
BEGIN:DAYLIGHT
TZOFFSETFROM:+0100
TZOFFSETTO:+0200
TZNAME:CEST
DTSTART:20210328T010000
END:DAYLIGHT
BEGIN:STANDARD
TZOFFSETFROM:+0200
TZOFFSETTO:+0100
TZNAME:CET
DTSTART:20211031T010000
END:STANDARD
END:VTIMEZONE
BEGIN:VEVENT
DTSTART;TZID=Europe/Paris:20191001T200000
DTEND;TZID=Europe/Paris:20200704T200000
DTSTAMP:20260425T023940
CREATED:20190917T151346Z
LAST-MODIFIED:20200102T172747Z
UID:10000222-1569960000-1593892800@www.laparfumerie.ch
SUMMARY:Programme de saison 2019-2020
DESCRIPTION: 
URL:https://www.laparfumerie.ch/evenement/programme-de-saison-2019-2020/
LOCATION:La Parfumerie\, 7 chemin de la Gravière\, Genève\, 1227\, Switzerland
CATEGORIES:Cie 100% Acrylique,Programme de Saison,Saison 2019-2020,Théâtre,Théâtre Spirale
ATTACH;FMTTYPE=image/jpeg:https://www.laparfumerie.ch/wp-content/uploads/2019/09/saison2019-2020.jpg
GEO:46.197429;6.1301376
X-APPLE-STRUCTURED-LOCATION;VALUE=URI;X-ADDRESS=La Parfumerie 7 chemin de la Gravière Genève 1227 Switzerland;X-APPLE-RADIUS=500;X-TITLE=7 chemin de la Gravière:geo:6.1301376,46.197429
END:VEVENT
BEGIN:VEVENT
DTSTART;TZID=Europe/Paris:20191015T200000
DTEND;TZID=Europe/Paris:20191103T160000
DTSTAMP:20260425T023940
CREATED:20190917T145228Z
LAST-MODIFIED:20191010T122017Z
UID:10000208-1571169600-1572796800@www.laparfumerie.ch
SUMMARY:Un discours ! Un discours ! Un discours !
DESCRIPTION:
URL:https://www.laparfumerie.ch/evenement/un-discours-un-discours-un-discours/2019-10-15/
LOCATION:La Parfumerie\, 7 chemin de la Gravière\, Genève\, 1227\, Switzerland
CATEGORIES:Cie 100% Acrylique,Saison 2019-2020,Théâtre
ATTACH;FMTTYPE=image/jpeg:https://www.laparfumerie.ch/wp-content/uploads/2019/09/undiscoursavant.jpg
GEO:46.197429;6.1301376
X-APPLE-STRUCTURED-LOCATION;VALUE=URI;X-ADDRESS=La Parfumerie 7 chemin de la Gravière Genève 1227 Switzerland;X-APPLE-RADIUS=500;X-TITLE=7 chemin de la Gravière:geo:6.1301376,46.197429
END:VEVENT
BEGIN:VEVENT
DTSTART;TZID=Europe/Paris:20191016T200000
DTEND;TZID=Europe/Paris:20191104T160000
DTSTAMP:20260425T023940
CREATED:20190917T145228Z
LAST-MODIFIED:20191010T122017Z
UID:10000209-1571256000-1572883200@www.laparfumerie.ch
SUMMARY:Un discours ! Un discours ! Un discours !
DESCRIPTION:
URL:https://www.laparfumerie.ch/evenement/un-discours-un-discours-un-discours/2019-10-16/
LOCATION:La Parfumerie\, 7 chemin de la Gravière\, Genève\, 1227\, Switzerland
CATEGORIES:Cie 100% Acrylique,Saison 2019-2020,Théâtre
ATTACH;FMTTYPE=image/jpeg:https://www.laparfumerie.ch/wp-content/uploads/2019/09/undiscoursavant.jpg
GEO:46.197429;6.1301376
X-APPLE-STRUCTURED-LOCATION;VALUE=URI;X-ADDRESS=La Parfumerie 7 chemin de la Gravière Genève 1227 Switzerland;X-APPLE-RADIUS=500;X-TITLE=7 chemin de la Gravière:geo:6.1301376,46.197429
END:VEVENT
BEGIN:VEVENT
DTSTART;TZID=Europe/Paris:20191017T200000
DTEND;TZID=Europe/Paris:20191105T160000
DTSTAMP:20260425T023940
CREATED:20190917T145228Z
LAST-MODIFIED:20191010T122017Z
UID:10000210-1571342400-1572969600@www.laparfumerie.ch
SUMMARY:Un discours ! Un discours ! Un discours !
DESCRIPTION:
URL:https://www.laparfumerie.ch/evenement/un-discours-un-discours-un-discours/2019-10-17/
LOCATION:La Parfumerie\, 7 chemin de la Gravière\, Genève\, 1227\, Switzerland
CATEGORIES:Cie 100% Acrylique,Saison 2019-2020,Théâtre
ATTACH;FMTTYPE=image/jpeg:https://www.laparfumerie.ch/wp-content/uploads/2019/09/undiscoursavant.jpg
GEO:46.197429;6.1301376
X-APPLE-STRUCTURED-LOCATION;VALUE=URI;X-ADDRESS=La Parfumerie 7 chemin de la Gravière Genève 1227 Switzerland;X-APPLE-RADIUS=500;X-TITLE=7 chemin de la Gravière:geo:6.1301376,46.197429
END:VEVENT
BEGIN:VEVENT
DTSTART;TZID=Europe/Paris:20191018T200000
DTEND;TZID=Europe/Paris:20191106T160000
DTSTAMP:20260425T023940
CREATED:20190917T145228Z
LAST-MODIFIED:20191010T122017Z
UID:10000211-1571428800-1573056000@www.laparfumerie.ch
SUMMARY:Un discours ! Un discours ! Un discours !
DESCRIPTION:
URL:https://www.laparfumerie.ch/evenement/un-discours-un-discours-un-discours/2019-10-18/
LOCATION:La Parfumerie\, 7 chemin de la Gravière\, Genève\, 1227\, Switzerland
CATEGORIES:Cie 100% Acrylique,Saison 2019-2020,Théâtre
ATTACH;FMTTYPE=image/jpeg:https://www.laparfumerie.ch/wp-content/uploads/2019/09/undiscoursavant.jpg
GEO:46.197429;6.1301376
X-APPLE-STRUCTURED-LOCATION;VALUE=URI;X-ADDRESS=La Parfumerie 7 chemin de la Gravière Genève 1227 Switzerland;X-APPLE-RADIUS=500;X-TITLE=7 chemin de la Gravière:geo:6.1301376,46.197429
END:VEVENT
BEGIN:VEVENT
DTSTART;TZID=Europe/Paris:20191019T200000
DTEND;TZID=Europe/Paris:20191107T160000
DTSTAMP:20260425T023940
CREATED:20190917T145228Z
LAST-MODIFIED:20191010T122017Z
UID:10000212-1571515200-1573142400@www.laparfumerie.ch
SUMMARY:Un discours ! Un discours ! Un discours !
DESCRIPTION:
URL:https://www.laparfumerie.ch/evenement/un-discours-un-discours-un-discours/2019-10-19/
LOCATION:La Parfumerie\, 7 chemin de la Gravière\, Genève\, 1227\, Switzerland
CATEGORIES:Cie 100% Acrylique,Saison 2019-2020,Théâtre
ATTACH;FMTTYPE=image/jpeg:https://www.laparfumerie.ch/wp-content/uploads/2019/09/undiscoursavant.jpg
GEO:46.197429;6.1301376
X-APPLE-STRUCTURED-LOCATION;VALUE=URI;X-ADDRESS=La Parfumerie 7 chemin de la Gravière Genève 1227 Switzerland;X-APPLE-RADIUS=500;X-TITLE=7 chemin de la Gravière:geo:6.1301376,46.197429
END:VEVENT
BEGIN:VEVENT
DTSTART;TZID=Europe/Paris:20191022T200000
DTEND;TZID=Europe/Paris:20191110T160000
DTSTAMP:20260425T023940
CREATED:20190917T145228Z
LAST-MODIFIED:20191010T122017Z
UID:10000213-1571774400-1573401600@www.laparfumerie.ch
SUMMARY:Un discours ! Un discours ! Un discours !
DESCRIPTION:
URL:https://www.laparfumerie.ch/evenement/un-discours-un-discours-un-discours/2019-10-22/
LOCATION:La Parfumerie\, 7 chemin de la Gravière\, Genève\, 1227\, Switzerland
CATEGORIES:Cie 100% Acrylique,Saison 2019-2020,Théâtre
ATTACH;FMTTYPE=image/jpeg:https://www.laparfumerie.ch/wp-content/uploads/2019/09/undiscoursavant.jpg
GEO:46.197429;6.1301376
X-APPLE-STRUCTURED-LOCATION;VALUE=URI;X-ADDRESS=La Parfumerie 7 chemin de la Gravière Genève 1227 Switzerland;X-APPLE-RADIUS=500;X-TITLE=7 chemin de la Gravière:geo:6.1301376,46.197429
END:VEVENT
BEGIN:VEVENT
DTSTART;TZID=Europe/Paris:20191023T200000
DTEND;TZID=Europe/Paris:20191111T160000
DTSTAMP:20260425T023940
CREATED:20190917T145228Z
LAST-MODIFIED:20191010T122017Z
UID:10000214-1571860800-1573488000@www.laparfumerie.ch
SUMMARY:Un discours ! Un discours ! Un discours !
DESCRIPTION:
URL:https://www.laparfumerie.ch/evenement/un-discours-un-discours-un-discours/2019-10-23/
LOCATION:La Parfumerie\, 7 chemin de la Gravière\, Genève\, 1227\, Switzerland
CATEGORIES:Cie 100% Acrylique,Saison 2019-2020,Théâtre
ATTACH;FMTTYPE=image/jpeg:https://www.laparfumerie.ch/wp-content/uploads/2019/09/undiscoursavant.jpg
GEO:46.197429;6.1301376
X-APPLE-STRUCTURED-LOCATION;VALUE=URI;X-ADDRESS=La Parfumerie 7 chemin de la Gravière Genève 1227 Switzerland;X-APPLE-RADIUS=500;X-TITLE=7 chemin de la Gravière:geo:6.1301376,46.197429
END:VEVENT
BEGIN:VEVENT
DTSTART;TZID=Europe/Paris:20191024T200000
DTEND;TZID=Europe/Paris:20191112T160000
DTSTAMP:20260425T023940
CREATED:20190917T145228Z
LAST-MODIFIED:20191010T122017Z
UID:10000215-1571947200-1573574400@www.laparfumerie.ch
SUMMARY:Un discours ! Un discours ! Un discours !
DESCRIPTION:
URL:https://www.laparfumerie.ch/evenement/un-discours-un-discours-un-discours/2019-10-24/
LOCATION:La Parfumerie\, 7 chemin de la Gravière\, Genève\, 1227\, Switzerland
CATEGORIES:Cie 100% Acrylique,Saison 2019-2020,Théâtre
ATTACH;FMTTYPE=image/jpeg:https://www.laparfumerie.ch/wp-content/uploads/2019/09/undiscoursavant.jpg
GEO:46.197429;6.1301376
X-APPLE-STRUCTURED-LOCATION;VALUE=URI;X-ADDRESS=La Parfumerie 7 chemin de la Gravière Genève 1227 Switzerland;X-APPLE-RADIUS=500;X-TITLE=7 chemin de la Gravière:geo:6.1301376,46.197429
END:VEVENT
BEGIN:VEVENT
DTSTART;TZID=Europe/Paris:20191025T200000
DTEND;TZID=Europe/Paris:20191113T160000
DTSTAMP:20260425T023940
CREATED:20190917T145228Z
LAST-MODIFIED:20191010T122017Z
UID:10000216-1572033600-1573660800@www.laparfumerie.ch
SUMMARY:Un discours ! Un discours ! Un discours !
DESCRIPTION:
URL:https://www.laparfumerie.ch/evenement/un-discours-un-discours-un-discours/2019-10-25/
LOCATION:La Parfumerie\, 7 chemin de la Gravière\, Genève\, 1227\, Switzerland
CATEGORIES:Cie 100% Acrylique,Saison 2019-2020,Théâtre
ATTACH;FMTTYPE=image/jpeg:https://www.laparfumerie.ch/wp-content/uploads/2019/09/undiscoursavant.jpg
GEO:46.197429;6.1301376
X-APPLE-STRUCTURED-LOCATION;VALUE=URI;X-ADDRESS=La Parfumerie 7 chemin de la Gravière Genève 1227 Switzerland;X-APPLE-RADIUS=500;X-TITLE=7 chemin de la Gravière:geo:6.1301376,46.197429
END:VEVENT
BEGIN:VEVENT
DTSTART;TZID=Europe/Paris:20191026T200000
DTEND;TZID=Europe/Paris:20191114T160000
DTSTAMP:20260425T023940
CREATED:20190917T145228Z
LAST-MODIFIED:20191010T122017Z
UID:10000217-1572120000-1573747200@www.laparfumerie.ch
SUMMARY:Un discours ! Un discours ! Un discours !
DESCRIPTION:
URL:https://www.laparfumerie.ch/evenement/un-discours-un-discours-un-discours/2019-10-26/
LOCATION:La Parfumerie\, 7 chemin de la Gravière\, Genève\, 1227\, Switzerland
CATEGORIES:Cie 100% Acrylique,Saison 2019-2020,Théâtre
ATTACH;FMTTYPE=image/jpeg:https://www.laparfumerie.ch/wp-content/uploads/2019/09/undiscoursavant.jpg
GEO:46.197429;6.1301376
X-APPLE-STRUCTURED-LOCATION;VALUE=URI;X-ADDRESS=La Parfumerie 7 chemin de la Gravière Genève 1227 Switzerland;X-APPLE-RADIUS=500;X-TITLE=7 chemin de la Gravière:geo:6.1301376,46.197429
END:VEVENT
BEGIN:VEVENT
DTSTART;TZID=Europe/Paris:20191029T200000
DTEND;TZID=Europe/Paris:20191103T170000
DTSTAMP:20260425T023940
CREATED:20191018T130344Z
LAST-MODIFIED:20191018T130905Z
UID:10000226-1572379200-1572800400@www.laparfumerie.ch
SUMMARY:Songs of Love and Loss
DESCRIPTION:
URL:https://www.laparfumerie.ch/evenement/songs-of-love-and-loss/
LOCATION:La Parfumerie\, 7 chemin de la Gravière\, Genève\, 1227\, Switzerland
CATEGORIES:Saison 2019-2020,Théâtre,Théâtre Spirale
ATTACH;FMTTYPE=image/jpeg:https://www.laparfumerie.ch/wp-content/uploads/2019/10/songofloveandloss2.jpg
GEO:46.197429;6.1301376
X-APPLE-STRUCTURED-LOCATION;VALUE=URI;X-ADDRESS=La Parfumerie 7 chemin de la Gravière Genève 1227 Switzerland;X-APPLE-RADIUS=500;X-TITLE=7 chemin de la Gravière:geo:6.1301376,46.197429
END:VEVENT
BEGIN:VEVENT
DTSTART;TZID=Europe/Paris:20191107T200000
DTEND;TZID=Europe/Paris:20191124T180000
DTSTAMP:20260425T023940
CREATED:20191016T110729Z
LAST-MODIFIED:20191104T230255Z
UID:10000223-1573156800-1574618400@www.laparfumerie.ch
SUMMARY:Nazali lokola yo (Je suis comme toi)
DESCRIPTION:
URL:https://www.laparfumerie.ch/evenement/nazali-lokola-yo-je-suis-comme-toi/
LOCATION:La Parfumerie\, 7 chemin de la Gravière\, Genève\, 1227\, Switzerland
CATEGORIES:Saison 2019-2020,Théâtre
ATTACH;FMTTYPE=image/jpeg:https://www.laparfumerie.ch/wp-content/uploads/2019/10/lokolayo_miniature.jpg
GEO:46.197429;6.1301376
X-APPLE-STRUCTURED-LOCATION;VALUE=URI;X-ADDRESS=La Parfumerie 7 chemin de la Gravière Genève 1227 Switzerland;X-APPLE-RADIUS=500;X-TITLE=7 chemin de la Gravière:geo:6.1301376,46.197429
END:VEVENT
BEGIN:VEVENT
DTSTART;TZID=Europe/Paris:20191118T190000
DTEND;TZID=Europe/Paris:20191118T203000
DTSTAMP:20260425T023940
CREATED:20191103T121153Z
LAST-MODIFIED:20191115T153546Z
UID:10000048-1574103600-1574109000@www.laparfumerie.ch
SUMMARY:Travesia (COMPLET)
DESCRIPTION:ATTENTION\, REPRÉSENTATION DU LUNDI 18 NOVEMBRE COMPLÈTE
URL:https://www.laparfumerie.ch/evenement/travesia/
LOCATION:La Parfumerie\, 7 chemin de la Gravière\, Genève\, 1227\, Switzerland
CATEGORIES:Saison 2019-2020,Théâtre
ATTACH;FMTTYPE=image/jpeg:https://www.laparfumerie.ch/wp-content/uploads/2019/11/Solidar-travesia-flyer_version_web-1.jpg
GEO:46.197429;6.1301376
X-APPLE-STRUCTURED-LOCATION;VALUE=URI;X-ADDRESS=La Parfumerie 7 chemin de la Gravière Genève 1227 Switzerland;X-APPLE-RADIUS=500;X-TITLE=7 chemin de la Gravière:geo:6.1301376,46.197429
END:VEVENT
BEGIN:VEVENT
DTSTART;TZID=Europe/Paris:20191126T200000
DTEND;TZID=Europe/Paris:20191201T180000
DTSTAMP:20260425T023940
CREATED:20191016T111207Z
LAST-MODIFIED:20191104T230314Z
UID:10000224-1574798400-1575223200@www.laparfumerie.ch
SUMMARY:Nazali Kinshasa (Je suis Kinshasa)
DESCRIPTION:
URL:https://www.laparfumerie.ch/evenement/nazali-kinshasa-je-suis-kinshasa/
LOCATION:La Parfumerie\, 7 chemin de la Gravière\, Genève\, 1227\, Switzerland
CATEGORIES:Saison 2019-2020,Théâtre
ATTACH;FMTTYPE=image/jpeg:https://www.laparfumerie.ch/wp-content/uploads/2019/10/lokolayo2.jpg
GEO:46.197429;6.1301376
X-APPLE-STRUCTURED-LOCATION;VALUE=URI;X-ADDRESS=La Parfumerie 7 chemin de la Gravière Genève 1227 Switzerland;X-APPLE-RADIUS=500;X-TITLE=7 chemin de la Gravière:geo:6.1301376,46.197429
END:VEVENT
END:VCALENDAR