BEGIN:VCALENDAR
VERSION:2.0
PRODID:-//La parfumerie - ECPv6.15.11//NONSGML v1.0//EN
CALSCALE:GREGORIAN
METHOD:PUBLISH
X-ORIGINAL-URL:https://www.laparfumerie.ch
X-WR-CALDESC:Évènements pour La parfumerie
REFRESH-INTERVAL;VALUE=DURATION:PT1H
X-Robots-Tag:noindex
X-PUBLISHED-TTL:PT1H
BEGIN:VTIMEZONE
TZID:Europe/Paris
BEGIN:DAYLIGHT
TZOFFSETFROM:+0100
TZOFFSETTO:+0200
TZNAME:CEST
DTSTART:20240331T010000
END:DAYLIGHT
BEGIN:STANDARD
TZOFFSETFROM:+0200
TZOFFSETTO:+0100
TZNAME:CET
DTSTART:20241027T010000
END:STANDARD
BEGIN:DAYLIGHT
TZOFFSETFROM:+0100
TZOFFSETTO:+0200
TZNAME:CEST
DTSTART:20250330T010000
END:DAYLIGHT
BEGIN:STANDARD
TZOFFSETFROM:+0200
TZOFFSETTO:+0100
TZNAME:CET
DTSTART:20251026T010000
END:STANDARD
BEGIN:DAYLIGHT
TZOFFSETFROM:+0100
TZOFFSETTO:+0200
TZNAME:CEST
DTSTART:20260329T010000
END:DAYLIGHT
BEGIN:STANDARD
TZOFFSETFROM:+0200
TZOFFSETTO:+0100
TZNAME:CET
DTSTART:20261025T010000
END:STANDARD
END:VTIMEZONE
BEGIN:VEVENT
DTSTART;TZID=Europe/Paris:20250502T230000
DTEND;TZID=Europe/Paris:20250503T050000
DTSTAMP:20260421T120139
CREATED:20250428T105241Z
LAST-MODIFIED:20250428T105241Z
UID:10000661-1746226800-1746248400@www.laparfumerie.ch
SUMMARY:Soirée 2k's to 2k25's
DESCRIPTION:Sois bienvenu-e-x dans cette nouvelle soirée 2000 – 2025 et abandonne ta raison – mais pas tes bonnes manières – aux portes de la Parf’ en criant « paaaaaaaaaaaaartéééééy ! » \nAvec\, dans le désordre\, une bonne rasade de tubes POP bien sucrés qui collent durablement aux dents\, des années 2000 au hit planétaire sorti l’autre jour\, que toi aussi t’as été parmi les 528’430’291 à avoir visionné en tapant du pied\, en anglais\, français\, allemand\, néerlandais\, etc. Mais aussi du HIP-HOP (j’ai même du Jul si tu insistes mérites)\, une bonne rasade de musique LATINO caliente avec son REGGETON en sauce\, saupoudré d’une pincée scintillante de FUNK groovy\, sans oublier bien sûr de la groooooooooooooosse DANCE de l’âge d’Or pour le côté retro cool 2012. Et si c’est pas encore suffisant pour que la transe s’empare de ton corps\, le BPM va régulièrement grimper au-delà de 128 (Cascadaaaaa!) avec des tracks iconiques d’ELECTRO\, d’EDM voire de HARDSTYLE (« It’s nice to be important\, but it’s more important to be nice! » – Scooter). Sans oublier quelques péchés mignons K-POP et quelques ovnis musicaux\, tout ça avec un seul objectif : danser\, boire et rigoler (toujours dans le désordre) jusqu’au bout de la nuit ! \nEt comme dit J.Lo\, « If you go hard you gotta get on the floor\, If you’re a party freak then step on the floor\, If you’re an animal then tear up the floor\, Break a sweat on the floor\, Yeah we work on the floor »! \n\nMusique\nArtiste : DJ X-Or\nStyle : Pop – Dance – Latino / Reggaeton – Electro / EDM / Hardstyle – Hip Hop / Trap / R&B – K-Pop \n⏰Horaires d’ouverture :\n23h – Ouverture Dancing et début de la musique\n04:45 – Fin de la musique\n05h – Fermeture des portes \nPrix :\n5 Chf de 23h à 00h00\n10 Chf après 00h00\n15 Chf après 01h00 \nConditions d’admission\n18 ans révolus\nPièce d’identité physique obligatoire\nCaptures d’écran/Photos/Applications non acceptées
URL:https://www.laparfumerie.ch/evenement/soiree-2ks-to-2k25s/
CATEGORIES:Soirée dansante
ATTACH;FMTTYPE=image/png:https://www.laparfumerie.ch/wp-content/uploads/2025/04/2ks_2k25s_c.png
END:VEVENT
BEGIN:VEVENT
DTSTART;TZID=Europe/Paris:20250503T230000
DTEND;TZID=Europe/Paris:20250503T230000
DTSTAMP:20260421T120139
CREATED:20250423T065619Z
LAST-MODIFIED:20250423T070734Z
UID:10000660-1746313200-1746313200@www.laparfumerie.ch
SUMMARY:La Graverie
DESCRIPTION:La Graverie (La Parf + La Grav’) \nAll Styles – Afro – Hip hop – Baile Funk – Jersey – Bass \nLa Parfumerie\nDJ All Styles \nLa Grav’ Main\n@kristine.elise\n@hirma_ndayiziga\n@esengooo\n@nathantutonda \nVoid\n@dsir4u \nAprès une dernière édition d’anthologie en janvier\, La Graverie est de retour samedi 3 mai comme un bourgeon printanier ! La Gravière et La Parfumerie s’associent une nouvelle fois pour une mega teuf avec 3 floors et un immense espace extérieur.\nDu côté de La Parf’ on retrouvera leurs DJ RSPT avec les meilleures classiques all styles. Au line-up côté Grav’\, on retrouvera Krislise\, Hirma\, Essengo & Cynamic African Boy dans la Main pour une ambiance afro\, hip hop et baile\, alors que le crew  fera son retour à La Grav pour une Void baile\, jersey et bass music. \nMusique\nArtiste : Parf : Dj RSPT / Gravière : Krislise\, Hirma\, Essengo & Cynamic African Boy\, DSIR\nStyle : Parf : 80’s & All Style / Gravière : Afro\, Baile\, Batida\, House. \n\n⏰Horaires d’ouverture :\n00h – Ouverture Dancings et début de la musique\n05:45 – Fin de la musique\n06h – Fermeture \nPrix :\n15 Chf de 00h à 01h\n20 Chf après 01h \nConditions d’admission\n18 ans révolus\nPièce d’identité physique obligatoire\nCaptures d’écran/Photos/Applications non acceptées
URL:https://www.laparfumerie.ch/evenement/la-graverie-6/
LOCATION:La Parfumerie\, 7 chemin de la Gravière\, Genève\, 1227\, Switzerland
CATEGORIES:Soirée dansante
ATTACH;FMTTYPE=image/jpeg:https://www.laparfumerie.ch/wp-content/uploads/2025/04/WhatsApp-Image-2025-04-22-a-13.34.33_3bbaf403.jpg
GEO:46.197429;6.1301376
X-APPLE-STRUCTURED-LOCATION;VALUE=URI;X-ADDRESS=La Parfumerie 7 chemin de la Gravière Genève 1227 Switzerland;X-APPLE-RADIUS=500;X-TITLE=7 chemin de la Gravière:geo:6.1301376,46.197429
END:VEVENT
END:VCALENDAR