BEGIN:VCALENDAR
VERSION:2.0
PRODID:-//La parfumerie - ECPv6.15.11//NONSGML v1.0//EN
CALSCALE:GREGORIAN
METHOD:PUBLISH
X-ORIGINAL-URL:https://www.laparfumerie.ch
X-WR-CALDESC:Évènements pour La parfumerie
REFRESH-INTERVAL;VALUE=DURATION:PT1H
X-Robots-Tag:noindex
X-PUBLISHED-TTL:PT1H
BEGIN:VTIMEZONE
TZID:Europe/Paris
BEGIN:DAYLIGHT
TZOFFSETFROM:+0100
TZOFFSETTO:+0200
TZNAME:CEST
DTSTART:20240331T010000
END:DAYLIGHT
BEGIN:STANDARD
TZOFFSETFROM:+0200
TZOFFSETTO:+0100
TZNAME:CET
DTSTART:20241027T010000
END:STANDARD
BEGIN:DAYLIGHT
TZOFFSETFROM:+0100
TZOFFSETTO:+0200
TZNAME:CEST
DTSTART:20250330T010000
END:DAYLIGHT
BEGIN:STANDARD
TZOFFSETFROM:+0200
TZOFFSETTO:+0100
TZNAME:CET
DTSTART:20251026T010000
END:STANDARD
BEGIN:DAYLIGHT
TZOFFSETFROM:+0100
TZOFFSETTO:+0200
TZNAME:CEST
DTSTART:20260329T010000
END:DAYLIGHT
BEGIN:STANDARD
TZOFFSETFROM:+0200
TZOFFSETTO:+0100
TZNAME:CET
DTSTART:20261025T010000
END:STANDARD
END:VTIMEZONE
BEGIN:VEVENT
DTSTART;TZID=Europe/Paris:20250314T230000
DTEND;TZID=Europe/Paris:20250315T050000
DTSTAMP:20260421T165523
CREATED:20250303T174906Z
LAST-MODIFIED:20250303T174906Z
UID:10000655-1741993200-1742014800@www.laparfumerie.ch
SUMMARY:Soirée 2k's to 2k20's
DESCRIPTION:Soirée 2k’s to 2k20’s\n\n Dj RSPT que vous commencez à sacrément bien connaitre vous donne rendez-vous le samedi 24 février\, pour vous déchaîner sur le Dancefloor de la Parf’ !\nUne soirée 2000’s à 2020’s explosive sans musique classique\, sans valse à trois temps\, sans Bob Moran\, sans générique de dessins animés et San ku kai.\nMais avec les plus gros BANGERS de ces 20 dernières années avec entre autre comme styles musicaux : R&B – POP – 2k’s – Latino – Hip-hop – Clubbing – 2k20’s !\n\n\n Musique \n Artiste : DJ RSPT\n Style : 2k’s to 2k20’s \n⏰Horaires d’ouverture :\n 23h – Ouverture Dancing et début de la musique\n 04:45 – Fin de la musique\n 05h – Fermeture des portes \nPrix :\n 5 Chf de 23h à 00h00\n10 Chf après 00h00\n15 Chf après 01h00 \nConditions d’admission\n 18 ans révolus\n Pièce d’identité physique obligatoire\n Captures d’écran/Photos/Applications non acceptées
URL:https://www.laparfumerie.ch/evenement/soiree-2ks-to-2k20s-6/
LOCATION:La Parfumerie\, 7 chemin de la Gravière\, Genève\, 1227\, Switzerland
CATEGORIES:Soirée dansante
ATTACH;FMTTYPE=image/jpeg:https://www.laparfumerie.ch/wp-content/uploads/2023/09/2ks2k20_c.jpg
GEO:46.197429;6.1301376
X-APPLE-STRUCTURED-LOCATION;VALUE=URI;X-ADDRESS=La Parfumerie 7 chemin de la Gravière Genève 1227 Switzerland;X-APPLE-RADIUS=500;X-TITLE=7 chemin de la Gravière:geo:6.1301376,46.197429
END:VEVENT
BEGIN:VEVENT
DTSTART;TZID=Europe/Paris:20250315T230000
DTEND;TZID=Europe/Paris:20250316T050000
DTSTAMP:20260421T165523
CREATED:20250303T175102Z
LAST-MODIFIED:20250303T175102Z
UID:10000656-1742079600-1742101200@www.laparfumerie.ch
SUMMARY:Soirée All Style - La base
DESCRIPTION:Soirée ALL STYLE \n\nC’est une soirée ALL STYLE\, hyper bien. J’pense que j’ai pas besoin d’en dire beaucoup plus\, si ce n’est peut être que c’est DJ BU (le spécialiste ALL STYLE) aux manettes de cette soirée ALL STYLE\, et que ça va être hyper bien par ce que DJ BU il fait sûrement les meilleures ALL STYLE de la Parf’\, et que cette soirée ALL STYLE sera forcément grandiose (car DJ BU est grand et il ose).\n\n Musique\n Artiste : DJ Bu\n Style : All Style \n⏰Horaires d’ouverture :\n 23h – Ouverture Dancing et début de la musique\n 04:45 – Fin de la musique\n 05h – Fermeture des portes \nPrix :\n 5 Chf de 23h à 00h00\n10 Chf après 00h00\n15 Chf après 01h00 \nConditions d’admission\n 18 ans révolus\n Pièce d’identité physique obligatoire\n Captures d’écran/Photos/Applications non acceptées \n\nOLYMPUS DIGITAL CAMERA
URL:https://www.laparfumerie.ch/evenement/soiree-all-style-la-base-2/
LOCATION:La Parfumerie\, 7 chemin de la Gravière\, Genève\, 1227\, Switzerland
CATEGORIES:Soirée dansante
ATTACH;FMTTYPE=image/jpeg:https://www.laparfumerie.ch/wp-content/uploads/2024/01/All_style_DJBU_c.jpg
GEO:46.197429;6.1301376
X-APPLE-STRUCTURED-LOCATION;VALUE=URI;X-ADDRESS=La Parfumerie 7 chemin de la Gravière Genève 1227 Switzerland;X-APPLE-RADIUS=500;X-TITLE=7 chemin de la Gravière:geo:6.1301376,46.197429
END:VEVENT
BEGIN:VEVENT
DTSTART;TZID=Europe/Paris:20250322T230000
DTEND;TZID=Europe/Paris:20250323T050000
DTSTAMP:20260421T165523
CREATED:20250303T181425Z
LAST-MODIFIED:20250303T181425Z
UID:10000657-1742684400-1742706000@www.laparfumerie.ch
SUMMARY:Soirée I love 80's
DESCRIPTION:Soirée I love 80’s \n\n« L’aventurier »\, « 99 Luftballons »\, « Girls Just Want to Have Fun »\, … ohhh les années 80  !\nPour cette soirée\, sortez vos plus beaux leggings fluos\, vos épaulettes rembourrées\, vos strass et paillettes parce que DJ DADA va vous mettre la fièvre du samedi soir avec les musiques cultes des années 80 ALL NIGHT LONG  ! \n  \n\nMusique\nArtiste : DJ Dada\nStyle : 80’s \n⏰Horaires d’ouverture :\n23h – Ouverture des portes\n04:45 – Fin de la musique\n05h – Fermeture des portes \nPrix :\n5 Chf de 23h à 00h\n10 Chf après 00h\n15 Chf après 01h \nConditions d’admission :\n18 ans révolus\nPièce d’identité physique obligatoire\nCaptures d’écran/Photos/Applications non acceptées
URL:https://www.laparfumerie.ch/evenement/soiree-i-love-80s-15/
LOCATION:La Parfumerie\, 7 chemin de la Gravière\, Genève\, 1227\, Switzerland
CATEGORIES:Soirée dansante
ATTACH;FMTTYPE=image/jpeg:https://www.laparfumerie.ch/wp-content/uploads/2022/03/ilove80s3c.jpg
GEO:46.197429;6.1301376
X-APPLE-STRUCTURED-LOCATION;VALUE=URI;X-ADDRESS=La Parfumerie 7 chemin de la Gravière Genève 1227 Switzerland;X-APPLE-RADIUS=500;X-TITLE=7 chemin de la Gravière:geo:6.1301376,46.197429
END:VEVENT
END:VCALENDAR