BEGIN:VCALENDAR
VERSION:2.0
PRODID:-//La parfumerie - ECPv6.15.11//NONSGML v1.0//EN
CALSCALE:GREGORIAN
METHOD:PUBLISH
X-WR-CALNAME:La parfumerie
X-ORIGINAL-URL:https://www.laparfumerie.ch
X-WR-CALDESC:Évènements pour La parfumerie
REFRESH-INTERVAL;VALUE=DURATION:PT1H
X-Robots-Tag:noindex
X-PUBLISHED-TTL:PT1H
BEGIN:VTIMEZONE
TZID:Europe/Paris
BEGIN:DAYLIGHT
TZOFFSETFROM:+0100
TZOFFSETTO:+0200
TZNAME:CEST
DTSTART:20230326T010000
END:DAYLIGHT
BEGIN:STANDARD
TZOFFSETFROM:+0200
TZOFFSETTO:+0100
TZNAME:CET
DTSTART:20231029T010000
END:STANDARD
BEGIN:DAYLIGHT
TZOFFSETFROM:+0100
TZOFFSETTO:+0200
TZNAME:CEST
DTSTART:20240331T010000
END:DAYLIGHT
BEGIN:STANDARD
TZOFFSETFROM:+0200
TZOFFSETTO:+0100
TZNAME:CET
DTSTART:20241027T010000
END:STANDARD
BEGIN:DAYLIGHT
TZOFFSETFROM:+0100
TZOFFSETTO:+0200
TZNAME:CEST
DTSTART:20250330T010000
END:DAYLIGHT
BEGIN:STANDARD
TZOFFSETFROM:+0200
TZOFFSETTO:+0100
TZNAME:CET
DTSTART:20251026T010000
END:STANDARD
END:VTIMEZONE
BEGIN:VEVENT
DTSTART;TZID=Europe/Paris:20241011T230000
DTEND;TZID=Europe/Paris:20241012T050000
DTSTAMP:20260422T041321
CREATED:20241007T100711Z
LAST-MODIFIED:20241007T100711Z
UID:10000362-1728687600-1728709200@www.laparfumerie.ch
SUMMARY:Dj RSPT & JEST - Combo All Style
DESCRIPTION:🎉💃 SOIRÉE COMBO ALL STYLE 💃🎉 \nDJ RSPT et JEST rassemblés avec un seul mot d’ordre vous faire danser jusqu’au bout de la nuit !\n\nRSPT maintenant bien connus\, voir même adulé par le public de la Parf’ saura s’adapter à tous vos désirs musicaux. Veritable touche à tout mélomane et virtuose du contrôleur DJ\, lui seul est capable de transitionner parfaitement de « Only You – The Platters » à « Crank that – Soulja Boy »\n\nEt qui dit JEST dit forcement des délires interactifs à base de Just dance\, de karaoké ou de pleins d’autres trouvailles vidéo-ludiques du genre !\n\n  \n🎼 Musique 🎷\n🎧 Artiste : DJ RSPT &  Jest\n💃🕺 Style : All Style – Just Dance – Karaoké \n⏰Horaires d’ouverture :\n🕚 23h – Ouverture Dancing et début de la musique\n🕟 04:45 – Fin de la musique\n🕔 05h – Fermeture \n💸Prix :\n💰 5 Chf de 23h à 00h\n💰10 Chf après 00h\n💰15 Chf après 01h \nConditions d’admission\n🔞 18 ans révolus\n🎫 Pièce d’identité physique obligatoire\n📱 Captures d’écran/Photos/Applications non acceptées
URL:https://www.laparfumerie.ch/evenement/dj-rspt-jest-combo-all-style/
LOCATION:La Parfumerie\, 7 chemin de la Gravière\, Genève\, 1227\, Switzerland
CATEGORIES:Soirée dansante
ATTACH;FMTTYPE=image/jpeg:https://www.laparfumerie.ch/wp-content/uploads/2024/09/11-combo-all-style.jpg
GEO:46.197429;6.1301376
X-APPLE-STRUCTURED-LOCATION;VALUE=URI;X-ADDRESS=La Parfumerie 7 chemin de la Gravière Genève 1227 Switzerland;X-APPLE-RADIUS=500;X-TITLE=7 chemin de la Gravière:geo:6.1301376,46.197429
END:VEVENT
BEGIN:VEVENT
DTSTART;TZID=Europe/Paris:20241012T000000
DTEND;TZID=Europe/Paris:20241013T060000
DTSTAMP:20260422T041321
CREATED:20241007T102333Z
LAST-MODIFIED:20241007T103054Z
UID:10000363-1728691200-1728799200@www.laparfumerie.ch
SUMMARY:LA GRAVERIE
DESCRIPTION:On allait pas vous lâcher si facilement 😈 \nAprès 3 éditions estivales incroyables\, La Grav’ & La Parf’ s’associent à nouveau pour vous proposer une Graverie automnale inédite. \nComme d’hab\, 3 dancefloors et un espace extérieur immense\, mais avec cette fois-ci à la Parf’ le duo le plus boosté de Genève DJ Dada & Dj Bu  vous lâcheront tous les classiques 80’s et les meilleures tracks all styles comme eux seuls savent le faire. \nEn parallèle au line-up de La Grav’ les boss du meilleur crew genevois aka Ozadya au grand complet pour un mix d’afro\, de baile\, de batida et de house. \n\nMusique\nArtiste : Parf : Dj Dada & Dj Bu / Gravière : Ozadya Crew\nStyle : Parf  : 80’s & All Style / Gravière : Afro\, Baile\, Batida\, House. \n⏰Horaires d’ouverture :\n00h – Ouverture Dancings et début de la musique\n05:45 – Fin de la musique\n06h – Fermeture \nPrix :\n15 Chf de 00h à 01h\n20 Chf après 01h \nConditions d’admission\n18 ans révolus\nPièce d’identité physique obligatoire\nCaptures d’écran/Photos/Applications non acceptées
URL:https://www.laparfumerie.ch/evenement/la-graverie-3/
LOCATION:La Parfumerie\, 7 chemin de la Gravière\, Genève\, 1227\, Switzerland
CATEGORIES:Soirée dansante
ATTACH;FMTTYPE=image/jpeg:https://www.laparfumerie.ch/wp-content/uploads/2024/10/WhatsApp-Image-2024-10-02-a-10.30.20_d4dfeae8.jpg
GEO:46.197429;6.1301376
X-APPLE-STRUCTURED-LOCATION;VALUE=URI;X-ADDRESS=La Parfumerie 7 chemin de la Gravière Genève 1227 Switzerland;X-APPLE-RADIUS=500;X-TITLE=7 chemin de la Gravière:geo:6.1301376,46.197429
END:VEVENT
END:VCALENDAR