BEGIN:VCALENDAR
VERSION:2.0
PRODID:-//La parfumerie - ECPv6.15.11//NONSGML v1.0//EN
CALSCALE:GREGORIAN
METHOD:PUBLISH
X-ORIGINAL-URL:https://www.laparfumerie.ch
X-WR-CALDESC:Évènements pour La parfumerie
REFRESH-INTERVAL;VALUE=DURATION:PT1H
X-Robots-Tag:noindex
X-PUBLISHED-TTL:PT1H
BEGIN:VTIMEZONE
TZID:Europe/Paris
BEGIN:DAYLIGHT
TZOFFSETFROM:+0100
TZOFFSETTO:+0200
TZNAME:CEST
DTSTART:20220327T010000
END:DAYLIGHT
BEGIN:STANDARD
TZOFFSETFROM:+0200
TZOFFSETTO:+0100
TZNAME:CET
DTSTART:20221030T010000
END:STANDARD
BEGIN:DAYLIGHT
TZOFFSETFROM:+0100
TZOFFSETTO:+0200
TZNAME:CEST
DTSTART:20230326T010000
END:DAYLIGHT
BEGIN:STANDARD
TZOFFSETFROM:+0200
TZOFFSETTO:+0100
TZNAME:CET
DTSTART:20231029T010000
END:STANDARD
BEGIN:DAYLIGHT
TZOFFSETFROM:+0100
TZOFFSETTO:+0200
TZNAME:CEST
DTSTART:20240331T010000
END:DAYLIGHT
BEGIN:STANDARD
TZOFFSETFROM:+0200
TZOFFSETTO:+0100
TZNAME:CET
DTSTART:20241027T010000
END:STANDARD
END:VTIMEZONE
BEGIN:VEVENT
DTSTART;TZID=Europe/Paris:20231222T230000
DTEND;TZID=Europe/Paris:20231223T050000
DTSTAMP:20260423T023508
CREATED:20231214T101753Z
LAST-MODIFIED:20231214T101753Z
UID:10000292-1703286000-1703307600@www.laparfumerie.ch
SUMMARY:Soirée Booty Shake
DESCRIPTION:Soirée « Booty Shake »\nRSPT aux platines pour vous faire « wiggle wiggle » comme jamais ! Une base de all style\, agrémentée d’incitations à la fracture du bassin ! \nDe la bonne dose de Reggaeton style Bad Bunny\, aux bangers US façon Cardi B ou Nicky Minaj ! Sans oublier les classics Hits genre « Turn down for what » ou « Fatal bazooka – j’aime trop ton boule » parce qu’il y en aura pour tout le monde ! \n\n⏰Horaires d’ouverture : \n🕚 23h – Ouverture Dancing\n🕛 05h – Fermeture \n💸Prix : \n💰 5 Chf de 23h à 00h\n💰10 Chf de 00h à 01h\n💰15 Chf après 01h
URL:https://www.laparfumerie.ch/evenement/soiree-booty-shake-2/
LOCATION:La Parfumerie\, 7 chemin de la Gravière\, Genève\, 1227\, Switzerland
CATEGORIES:Soirée dansante
ATTACH;FMTTYPE=image/jpeg:https://www.laparfumerie.ch/wp-content/uploads/2022/02/rspt_c-scaled.jpg
GEO:46.197429;6.1301376
X-APPLE-STRUCTURED-LOCATION;VALUE=URI;X-ADDRESS=La Parfumerie 7 chemin de la Gravière Genève 1227 Switzerland;X-APPLE-RADIUS=500;X-TITLE=7 chemin de la Gravière:geo:6.1301376,46.197429
END:VEVENT
BEGIN:VEVENT
DTSTART;TZID=Europe/Paris:20231223T230000
DTEND;TZID=Europe/Paris:20231224T050000
DTSTAMP:20260423T023508
CREATED:20231219T141552Z
LAST-MODIFIED:20231219T142301Z
UID:10000294-1703372400-1703394000@www.laparfumerie.ch
SUMMARY:Grand Echauffement de Nöel
DESCRIPTION:Brisons le taboo. Noel c’est chiant. C’est trop chiaaaaaant !!! \nT’as finis tes cadeaux ? Pas encore ?! Rendez-vous dans les magasins… BON CHANCE.\nLe 24 chez ta mère\, le 25 chez ton père\, Le 26 dans ta belle famille avec ton beau frère relou ?! BON CHANCE ! Ah et ENFIN le 27 avec ce qu’il restera de tes amis encore un peu motivés a sortir ?\nMais\, le saviez-vous\, le 23\, c’est PAS noël. Le 23 c’est le GRAND échauffement de noel\, à la parf. Pas de cadeaux. Pas de contrainte. Juste tes amis dejà en forme pour danser et se marrer avant cet interminable marathon familliale !\n\nPS : En prime on refoule ton beau-frère relou sur demande en mp. WELCOME ! \n\n Musique :\nChristmas All style – Dj Bu \n\nHoraires d’ouverture :\n 23h – Ouverture Dancing\n 05h – Fermeture\n\nPrix :\n 5 Chf de 23h à 00h\n10 Chf de 00h à 01h\n15 Chf après 01h
URL:https://www.laparfumerie.ch/evenement/7437/
LOCATION:La Parfumerie\, 7 chemin de la Gravière\, Genève\, 1227\, Switzerland
CATEGORIES:Soirée dansante
ATTACH;FMTTYPE=image/png:https://www.laparfumerie.ch/wp-content/uploads/2023/12/echauffement_noel_c.png
GEO:46.197429;6.1301376
X-APPLE-STRUCTURED-LOCATION;VALUE=URI;X-ADDRESS=La Parfumerie 7 chemin de la Gravière Genève 1227 Switzerland;X-APPLE-RADIUS=500;X-TITLE=7 chemin de la Gravière:geo:6.1301376,46.197429
END:VEVENT
BEGIN:VEVENT
DTSTART;TZID=Europe/Paris:20231229T230000
DTEND;TZID=Europe/Paris:20231230T050000
DTSTAMP:20260423T023508
CREATED:20231226T085430Z
LAST-MODIFIED:20231226T085820Z
UID:10000302-1703890800-1703912400@www.laparfumerie.ch
SUMMARY:Soirée 2k's to 2k23's
DESCRIPTION:Soirée 2K’s to 2K23’s\n\nAHHHH c’est presque la dernière de l’année 2023 !! 🪅🪩\nMais pas de panique puisqu’on a fait appel à DJ X-Or.\nLE grand spécialiste des tubes dès l’an de grâce 2000 jusqu’à notre ère prendra les platines avec une seule idée en tête\, mettre le zbeul sur le dancefloor de la Parf pour la dernière fois de 2023. 🎉🎊🎈\nAvec un fort penchant pour la K-pop qu’il dissémine parcimonieusement dans ses sets\, il va vous régaler ! \nAttention il va debarquer avec son lot de Nicky Minaj\, Beyoncé\, Riri\, Cardi B\, Lil Nas X\, Blackpink etc..etc..\nSortez les déambulateurs\, ça risque d’être compliqué de rentrer à pied !\n\nDj X-or :\nFb : https://www.facebook.com/deejay.x.or\nInsta : https://instagram.com/deejay_x_or?igshid=MzRlODBiNWFlZA==\nSoundcloud : https://soundcloud.com/deejay_x_or\n\n\n\n\nHoraires d’ouverture :\n23h – Ouverture Dancing\n05h – Fermeture du Dancing\n\n\n\nPrix :\n5 Chf de 23h à 00h00\n10 Chf après 00h00\n15 Chf après 01h00
URL:https://www.laparfumerie.ch/evenement/soiree-2ks-to-2ks23/
LOCATION:La Parfumerie\, 7 chemin de la Gravière\, Genève\, 1227\, Switzerland
CATEGORIES:Soirée dansante
ATTACH;FMTTYPE=image/jpeg:https://www.laparfumerie.ch/wp-content/uploads/2023/09/2ks2k20_c.jpg
GEO:46.197429;6.1301376
X-APPLE-STRUCTURED-LOCATION;VALUE=URI;X-ADDRESS=La Parfumerie 7 chemin de la Gravière Genève 1227 Switzerland;X-APPLE-RADIUS=500;X-TITLE=7 chemin de la Gravière:geo:6.1301376,46.197429
END:VEVENT
BEGIN:VEVENT
DTSTART;TZID=Europe/Paris:20231230T230000
DTEND;TZID=Europe/Paris:20231231T050000
DTSTAMP:20260423T023508
CREATED:20231228T112934Z
LAST-MODIFIED:20231228T112934Z
UID:10000303-1703977200-1703998800@www.laparfumerie.ch
SUMMARY:La dernière de 2023
DESCRIPTION:La Dernière de 2023  \n\n Ce samedi 30 décembre à partir de 23h DJ Jest s’occupera de vos petits petons et de vos cordes vocales en vous faisant rebondir/sautiller/danser/hurler toute la nuit lors de sa maintenant très célèbre soirée « Combo All Style » ! \n\nMais kessa dire que ceci « combo truc chose » Jamy ?\n Hé bien Fred\, une « combo all style » c’est un savant mélange musical et vidéo ludique distillé grâce à la recette suivante :\n50% musique all style \n+25% Karaoké hurlé \n+25% Just dance trémoussé \n\n« Enorme ! » – Jamy \n\nHoraires d’ouverture :\n 23h – Ouverture Dancing\n 05h – Fermeture\n\n\n\nPrix :\n 5 Chf de 23h à 00h00\n10 Chf de 00h00 à 01h00\n15 Chf après 01h00
URL:https://www.laparfumerie.ch/evenement/la-derniere-de-2023/
LOCATION:La Parfumerie\, 7 chemin de la Gravière\, Genève\, 1227\, Switzerland
CATEGORIES:Soirée dansante
ATTACH;FMTTYPE=image/png:https://www.laparfumerie.ch/wp-content/uploads/2023/12/laderniere_2023c.png
GEO:46.197429;6.1301376
X-APPLE-STRUCTURED-LOCATION;VALUE=URI;X-ADDRESS=La Parfumerie 7 chemin de la Gravière Genève 1227 Switzerland;X-APPLE-RADIUS=500;X-TITLE=7 chemin de la Gravière:geo:6.1301376,46.197429
END:VEVENT
END:VCALENDAR