BEGIN:VCALENDAR
VERSION:2.0
PRODID:-//La parfumerie - ECPv6.15.11//NONSGML v1.0//EN
CALSCALE:GREGORIAN
METHOD:PUBLISH
X-ORIGINAL-URL:https://www.laparfumerie.ch
X-WR-CALDESC:Évènements pour La parfumerie
REFRESH-INTERVAL;VALUE=DURATION:PT1H
X-Robots-Tag:noindex
X-PUBLISHED-TTL:PT1H
BEGIN:VTIMEZONE
TZID:Europe/Paris
BEGIN:DAYLIGHT
TZOFFSETFROM:+0100
TZOFFSETTO:+0200
TZNAME:CEST
DTSTART:20220327T010000
END:DAYLIGHT
BEGIN:STANDARD
TZOFFSETFROM:+0200
TZOFFSETTO:+0100
TZNAME:CET
DTSTART:20221030T010000
END:STANDARD
BEGIN:DAYLIGHT
TZOFFSETFROM:+0100
TZOFFSETTO:+0200
TZNAME:CEST
DTSTART:20230326T010000
END:DAYLIGHT
BEGIN:STANDARD
TZOFFSETFROM:+0200
TZOFFSETTO:+0100
TZNAME:CET
DTSTART:20231029T010000
END:STANDARD
BEGIN:DAYLIGHT
TZOFFSETFROM:+0100
TZOFFSETTO:+0200
TZNAME:CEST
DTSTART:20240331T010000
END:DAYLIGHT
BEGIN:STANDARD
TZOFFSETFROM:+0200
TZOFFSETTO:+0100
TZNAME:CET
DTSTART:20241027T010000
END:STANDARD
END:VTIMEZONE
BEGIN:VEVENT
DTSTART;TZID=Europe/Paris:20231028T233000
DTEND;TZID=Europe/Paris:20231029T050000
DTSTAMP:20260423T055709
CREATED:20231014T121828Z
LAST-MODIFIED:20231024T090328Z
UID:10000488-1698535800-1698555600@www.laparfumerie.ch
SUMMARY:Le bal des monstres 2023
DESCRIPTION:Le Bal des monstres 2023  \nComme tu peux le remarquer le prix de l’entrée est assez élevé : 25.- \n\nEn gros\, on veut juste que tu vien/nes déguisé\, donc plus ton costume est stylé et abouti\, moins tu payes. \nEt si t’as vraiment fait une dinguerie de costume\, tu rentres GRATIS et tu auras droit à l’espace VIP de la Parf’ (oui oui\, il y en aura un !).\n\n  Dans cet espace réservé\, tu pourras encore plus te dandiner sur les sons les plus curieux de Sissoux ou sur ceux plus connus de X-Or.\nAlors sors ton meilleur balai\, tes canines les plus acérées et fais pâlir tous les amateurs de Jack-o’-Lanterns.  \n\nPrix :\n25chf – réduction en fonction du niveau du déguisement à l’appréciation de la juge caissière\nThème de déguisement libre (mettez le paquet !) \n\nDj X-or :\nFb : https://www.facebook.com/deejay.x.or\nInsta : https://instagram.com/deejay_x_or?igshid=MzRlODBiNWFlZA==\nSoundcloud : https://soundcloud.com/deejay_x_or \n\nHoraires d’ouverture :\n23h59 – Ouverture\n05h – Fermeture des portes
URL:https://www.laparfumerie.ch/evenement/le-bal-des-monstres-2023/
LOCATION:La Parfumerie\, 7 chemin de la Gravière\, Genève\, 1227\, Switzerland
CATEGORIES:Soirée dansante
ATTACH;FMTTYPE=image/jpeg:https://www.laparfumerie.ch/wp-content/uploads/2023/10/halloween2021_insta.jpg
GEO:46.197429;6.1301376
X-APPLE-STRUCTURED-LOCATION;VALUE=URI;X-ADDRESS=La Parfumerie 7 chemin de la Gravière Genève 1227 Switzerland;X-APPLE-RADIUS=500;X-TITLE=7 chemin de la Gravière:geo:6.1301376,46.197429
END:VEVENT
END:VCALENDAR