BEGIN:VCALENDAR
VERSION:2.0
PRODID:-//La parfumerie - ECPv6.15.11//NONSGML v1.0//EN
CALSCALE:GREGORIAN
METHOD:PUBLISH
X-WR-CALNAME:La parfumerie
X-ORIGINAL-URL:https://www.laparfumerie.ch
X-WR-CALDESC:Évènements pour La parfumerie
REFRESH-INTERVAL;VALUE=DURATION:PT1H
X-Robots-Tag:noindex
X-PUBLISHED-TTL:PT1H
BEGIN:VTIMEZONE
TZID:Europe/Paris
BEGIN:DAYLIGHT
TZOFFSETFROM:+0100
TZOFFSETTO:+0200
TZNAME:CEST
DTSTART:20220327T010000
END:DAYLIGHT
BEGIN:STANDARD
TZOFFSETFROM:+0200
TZOFFSETTO:+0100
TZNAME:CET
DTSTART:20221030T010000
END:STANDARD
BEGIN:DAYLIGHT
TZOFFSETFROM:+0100
TZOFFSETTO:+0200
TZNAME:CEST
DTSTART:20230326T010000
END:DAYLIGHT
BEGIN:STANDARD
TZOFFSETFROM:+0200
TZOFFSETTO:+0100
TZNAME:CET
DTSTART:20231029T010000
END:STANDARD
BEGIN:DAYLIGHT
TZOFFSETFROM:+0100
TZOFFSETTO:+0200
TZNAME:CEST
DTSTART:20240331T010000
END:DAYLIGHT
BEGIN:STANDARD
TZOFFSETFROM:+0200
TZOFFSETTO:+0100
TZNAME:CET
DTSTART:20241027T010000
END:STANDARD
END:VTIMEZONE
BEGIN:VEVENT
DTSTART;TZID=Europe/Paris:20230203T230000
DTEND;TZID=Europe/Paris:20230205T050000
DTSTAMP:20260423T185104
CREATED:20230131T143558Z
LAST-MODIFIED:20230131T144204Z
UID:10000191-1675465200-1675573200@www.laparfumerie.ch
SUMMARY:Dernières soirées avant fin avril
DESCRIPTION:Dernières soirées avant fin Avril ! 😪🤧\nHé oui la Parf’ va repasser en mode théâtre durant quelques mois ! 🎭\nMais quand on se reverra pour faire la fête\, il fera beau et chaud et on se découvrira de plus d’un fil ! 🌷☀🌴\nMais en attendant\, un dernier gros week-end de fêtes nous attend avec au programme :\n💥🎊🔥🎉 \nVendredi\nCombo All Style\nJust Dance 💃 & Karaoke 🎤\nDj Jest 🎧 \nSamedi\nI’love 80’s 🕺\nDj Dada 🎧 \nHoraires :\n🕚 23h-05h🕔 \nTarifs :\n💰 5chf avant minuit\n💸10chf après minuit
URL:https://www.laparfumerie.ch/evenement/dernieres-soirees-avant-fin-avril/
LOCATION:La Parfumerie\, 7 chemin de la Gravière\, Genève\, 1227\, Switzerland
CATEGORIES:Soirée dansante
ATTACH;FMTTYPE=image/jpeg:https://www.laparfumerie.ch/wp-content/uploads/2023/01/dernieres-soirees-fin-avril-c.jpg
GEO:46.197429;6.1301376
X-APPLE-STRUCTURED-LOCATION;VALUE=URI;X-ADDRESS=La Parfumerie 7 chemin de la Gravière Genève 1227 Switzerland;X-APPLE-RADIUS=500;X-TITLE=7 chemin de la Gravière:geo:6.1301376,46.197429
END:VEVENT
END:VCALENDAR