BEGIN:VCALENDAR
VERSION:2.0
PRODID:-//La parfumerie - ECPv6.15.11//NONSGML v1.0//EN
CALSCALE:GREGORIAN
METHOD:PUBLISH
X-WR-CALNAME:La parfumerie
X-ORIGINAL-URL:https://www.laparfumerie.ch
X-WR-CALDESC:Évènements pour La parfumerie
REFRESH-INTERVAL;VALUE=DURATION:PT1H
X-Robots-Tag:noindex
X-PUBLISHED-TTL:PT1H
BEGIN:VTIMEZONE
TZID:Europe/Paris
BEGIN:DAYLIGHT
TZOFFSETFROM:+0100
TZOFFSETTO:+0200
TZNAME:CEST
DTSTART:20210328T010000
END:DAYLIGHT
BEGIN:STANDARD
TZOFFSETFROM:+0200
TZOFFSETTO:+0100
TZNAME:CET
DTSTART:20211031T010000
END:STANDARD
BEGIN:DAYLIGHT
TZOFFSETFROM:+0100
TZOFFSETTO:+0200
TZNAME:CEST
DTSTART:20220327T010000
END:DAYLIGHT
BEGIN:STANDARD
TZOFFSETFROM:+0200
TZOFFSETTO:+0100
TZNAME:CET
DTSTART:20221030T010000
END:STANDARD
BEGIN:DAYLIGHT
TZOFFSETFROM:+0100
TZOFFSETTO:+0200
TZNAME:CEST
DTSTART:20230326T010000
END:DAYLIGHT
BEGIN:STANDARD
TZOFFSETFROM:+0200
TZOFFSETTO:+0100
TZNAME:CET
DTSTART:20231029T010000
END:STANDARD
END:VTIMEZONE
BEGIN:VEVENT
DTSTART;TZID=Europe/Paris:20221125T230000
DTEND;TZID=Europe/Paris:20221126T050000
DTSTAMP:20260423T233941
CREATED:20221122T153717Z
LAST-MODIFIED:20221122T153717Z
UID:10000436-1669417200-1669438800@www.laparfumerie.ch
SUMMARY:Soirée 2k's-2k20's
DESCRIPTION: Dj RSPT que vous commencez à sacrément bien connaitre va se déchaîner sans ménagement ni conservateur\, durant ce dernier week-end de soirées à la Parf’ avant les fêtes de fin d’année \nUne soirée 2000’s à 2020’s sans musique classique\, sans drum N’ bass\, sans générique de dessins animés et san ku kai.\nMais avec : R&B – 2k’s – Latino – Hip-hop – Clubbing – 2k20’s !\n\nSoirée de 23h à 5h\n\n 5chf avant minuit\n10chf après minuit
URL:https://www.laparfumerie.ch/evenement/soiree-2ks-2k20s/
LOCATION:La Parfumerie\, 7 chemin de la Gravière\, Genève\, 1227\, Switzerland
CATEGORIES:Soirée dansante
ATTACH;FMTTYPE=image/jpeg:https://www.laparfumerie.ch/wp-content/uploads/2022/11/2ks2k20_nodj.jpg
GEO:46.197429;6.1301376
X-APPLE-STRUCTURED-LOCATION;VALUE=URI;X-ADDRESS=La Parfumerie 7 chemin de la Gravière Genève 1227 Switzerland;X-APPLE-RADIUS=500;X-TITLE=7 chemin de la Gravière:geo:6.1301376,46.197429
END:VEVENT
BEGIN:VEVENT
DTSTART;TZID=Europe/Paris:20221126T230000
DTEND;TZID=Europe/Paris:20221126T230000
DTSTAMP:20260423T233941
CREATED:20221122T154019Z
LAST-MODIFIED:20221122T154019Z
UID:10000437-1669503600-1669503600@www.laparfumerie.ch
SUMMARY:Soirée Combo All Style
DESCRIPTION: Dernière soirée avant les fêtes de fin d’années  \n\n Ce samedi à partir de 23h DJ Jest s’occupera de vos petits petons et de vos cordes vocales en vous faisant rebondir/sautiller/danser/hurler toute la nuit lors de sa maintenant très célèbre soirée « Combo All Style » ! \nMais kessa dire que ceci « combo truc chose » Jamy ?\n Hé bien Fred\, une « combo all style » c’est un savant mélange musical et vidéo ludique distillé grâce à la recette suivante :\n\n50% musique all style \n+25% Karaoké hurlé \n+25% Just dance trémoussé \n\n« Enorme ! » – Jamy\n____________________\nHoraires d’ouverture :\n 23h – Ouverture Dancing\n 05h – Fermeture\n\nPrix :\n 5 Chf de 23h à 00h00\n10 Chf après 00h00
URL:https://www.laparfumerie.ch/evenement/soiree-combo-all-style-8/
LOCATION:La Parfumerie\, 7 chemin de la Gravière\, Genève\, 1227\, Switzerland
CATEGORIES:Soirée dansante
ATTACH;FMTTYPE=image/jpeg:https://www.laparfumerie.ch/wp-content/uploads/2022/11/combo_allstyle_mars_2019_square.jpg
GEO:46.197429;6.1301376
X-APPLE-STRUCTURED-LOCATION;VALUE=URI;X-ADDRESS=La Parfumerie 7 chemin de la Gravière Genève 1227 Switzerland;X-APPLE-RADIUS=500;X-TITLE=7 chemin de la Gravière:geo:6.1301376,46.197429
END:VEVENT
END:VCALENDAR