BEGIN:VCALENDAR
VERSION:2.0
PRODID:-//La parfumerie - ECPv6.15.11//NONSGML v1.0//EN
CALSCALE:GREGORIAN
METHOD:PUBLISH
X-WR-CALNAME:La parfumerie
X-ORIGINAL-URL:https://www.laparfumerie.ch
X-WR-CALDESC:Évènements pour La parfumerie
REFRESH-INTERVAL;VALUE=DURATION:PT1H
X-Robots-Tag:noindex
X-PUBLISHED-TTL:PT1H
BEGIN:VTIMEZONE
TZID:Europe/Paris
BEGIN:DAYLIGHT
TZOFFSETFROM:+0100
TZOFFSETTO:+0200
TZNAME:CEST
DTSTART:20210328T010000
END:DAYLIGHT
BEGIN:STANDARD
TZOFFSETFROM:+0200
TZOFFSETTO:+0100
TZNAME:CET
DTSTART:20211031T010000
END:STANDARD
BEGIN:DAYLIGHT
TZOFFSETFROM:+0100
TZOFFSETTO:+0200
TZNAME:CEST
DTSTART:20220327T010000
END:DAYLIGHT
BEGIN:STANDARD
TZOFFSETFROM:+0200
TZOFFSETTO:+0100
TZNAME:CET
DTSTART:20221030T010000
END:STANDARD
BEGIN:DAYLIGHT
TZOFFSETFROM:+0100
TZOFFSETTO:+0200
TZNAME:CEST
DTSTART:20230326T010000
END:DAYLIGHT
BEGIN:STANDARD
TZOFFSETFROM:+0200
TZOFFSETTO:+0100
TZNAME:CET
DTSTART:20231029T010000
END:STANDARD
END:VTIMEZONE
BEGIN:VEVENT
DTSTART;TZID=Europe/Paris:20220304T230000
DTEND;TZID=Europe/Paris:20220305T050000
DTSTAMP:20260424T144349
CREATED:20220302T130322Z
LAST-MODIFIED:20220302T132021Z
UID:10000385-1646434800-1646456400@www.laparfumerie.ch
SUMMARY:Soirée Totally PoP [2k->2k20]
DESCRIPTION:Soirée Totally PoP !\nFrom 2k’s to 2k22 ! \nDj X-or aux commandes pour vous faire danser sur les plus gros hits de pop music récents et actuels et d’aujourd’hui et modernes et présents et frais et contemporains et tangibles et courants et heu…. PAS anciens\, pas vieux\, pas antiques pas ancestrals\, pas hors services\, pas vieillots….BREF de la POP de ce Millénaire ! 💃🕺\nEt par ce que ce sera dans le thème\, il y aura pleins de « PoP »-CoRn gratos au bar ! LOL :)))\n____________________________________________\n🕚 23h – Ouverture\n🎼 PoP music AcTuElLe\n🕛 05h – Fermeture\n💸Prix :\n💰 5 Chf de 23h à 00h00\n💰10 Chf après 00h00 \n____________________________________________ \n 
URL:https://www.laparfumerie.ch/evenement/soiree-totally-pop-2k-2k20/
LOCATION:La Parfumerie\, 7 chemin de la Gravière\, Genève\, 1227\, Switzerland
CATEGORIES:Soirée dansante
ATTACH;FMTTYPE=image/jpeg:https://www.laparfumerie.ch/wp-content/uploads/2022/03/totally_pop_2c.jpg
GEO:46.197429;6.1301376
X-APPLE-STRUCTURED-LOCATION;VALUE=URI;X-ADDRESS=La Parfumerie 7 chemin de la Gravière Genève 1227 Switzerland;X-APPLE-RADIUS=500;X-TITLE=7 chemin de la Gravière:geo:6.1301376,46.197429
END:VEVENT
BEGIN:VEVENT
DTSTART;TZID=Europe/Paris:20220305T230000
DTEND;TZID=Europe/Paris:20220306T230000
DTSTAMP:20260424T144349
CREATED:20220302T131540Z
LAST-MODIFIED:20220302T131540Z
UID:10000386-1646521200-1646607600@www.laparfumerie.ch
SUMMARY:Soirée I love 80's
DESCRIPTION:Soirée I love 80’s\n« L’aventurier »\, « 99 Luftballons »\, « Girls Just Want to Have Fun »\, … ohhh les années 80  !\nPour cette soirée\, sortez vos plus beaux leggings fluos\, vos épaulettes rembourrées\, vos strass et paillettes parce-que DJ Dada va vous mettre la fièvre du vendredi soir avec les musiques cultes des années 80 ALL NIGHT LONG  !\n____________________________________________\n 23h – Ouverture\n 80’s Music\n 05h – Fermeture\nPrix :\n 5 Chf de 23h à 00h00\n10 Chf après 00h00\n____________________________________________
URL:https://www.laparfumerie.ch/evenement/soiree-i-love-80s-4/
LOCATION:La Parfumerie\, 7 chemin de la Gravière\, Genève\, 1227\, Switzerland
CATEGORIES:Soirée dansante
ATTACH;FMTTYPE=image/jpeg:https://www.laparfumerie.ch/wp-content/uploads/2022/03/ilove80s3c.jpg
GEO:46.197429;6.1301376
X-APPLE-STRUCTURED-LOCATION;VALUE=URI;X-ADDRESS=La Parfumerie 7 chemin de la Gravière Genève 1227 Switzerland;X-APPLE-RADIUS=500;X-TITLE=7 chemin de la Gravière:geo:6.1301376,46.197429
END:VEVENT
BEGIN:VEVENT
DTSTART;TZID=Europe/Paris:20220311T230000
DTEND;TZID=Europe/Paris:20220312T230000
DTSTAMP:20260424T144349
CREATED:20220309T155208Z
LAST-MODIFIED:20220309T155208Z
UID:10000387-1647039600-1647126000@www.laparfumerie.ch
SUMMARY:Soirée Mucho Caliente
DESCRIPTION:CRAMEZ LE BONHOMME HIVER ! QU’ON DEROULE LE TAPIS ROUGE AU PRINTEMPS !\n🔥🔥 Soirée Mucho Caliente 🔥🔥\nBam bam ! DJ ROUNI revient vous mettre le feu avec un set à base de all style mais teinté de sons latins et tropicaux bien hots hots hots ! Des rythmes endiablés et du shake ton booty en veux-tu en voilà !\nA l’année prochaine hein foutu hiver ! 🌴☀🏝\n_________________\n🕚 23h – Ouverture\n🎼 All style + Latino Music\n🕛 05h – Fermeture\n💸Prix :\n💰 5 Chf de 23h à 00h00\n💰10 Chf après 00h00
URL:https://www.laparfumerie.ch/evenement/soiree-mucho-caliente-4/
LOCATION:La Parfumerie\, 7 chemin de la Gravière\, Genève\, 1227\, Switzerland
CATEGORIES:Soirée dansante
ATTACH;FMTTYPE=image/jpeg:https://www.laparfumerie.ch/wp-content/uploads/2022/03/Mucho_caliente_cs.jpg
GEO:46.197429;6.1301376
X-APPLE-STRUCTURED-LOCATION;VALUE=URI;X-ADDRESS=La Parfumerie 7 chemin de la Gravière Genève 1227 Switzerland;X-APPLE-RADIUS=500;X-TITLE=7 chemin de la Gravière:geo:6.1301376,46.197429
END:VEVENT
END:VCALENDAR