BEGIN:VCALENDAR
VERSION:2.0
PRODID:-//La parfumerie - ECPv6.15.11//NONSGML v1.0//EN
CALSCALE:GREGORIAN
METHOD:PUBLISH
X-ORIGINAL-URL:https://www.laparfumerie.ch
X-WR-CALDESC:Évènements pour La parfumerie
REFRESH-INTERVAL;VALUE=DURATION:PT1H
X-Robots-Tag:noindex
X-PUBLISHED-TTL:PT1H
BEGIN:VTIMEZONE
TZID:Europe/Paris
BEGIN:DAYLIGHT
TZOFFSETFROM:+0100
TZOFFSETTO:+0200
TZNAME:CEST
DTSTART:20200329T010000
END:DAYLIGHT
BEGIN:STANDARD
TZOFFSETFROM:+0200
TZOFFSETTO:+0100
TZNAME:CET
DTSTART:20201025T010000
END:STANDARD
BEGIN:DAYLIGHT
TZOFFSETFROM:+0100
TZOFFSETTO:+0200
TZNAME:CEST
DTSTART:20210328T010000
END:DAYLIGHT
BEGIN:STANDARD
TZOFFSETFROM:+0200
TZOFFSETTO:+0100
TZNAME:CET
DTSTART:20211031T010000
END:STANDARD
BEGIN:DAYLIGHT
TZOFFSETFROM:+0100
TZOFFSETTO:+0200
TZNAME:CEST
DTSTART:20220327T010000
END:DAYLIGHT
BEGIN:STANDARD
TZOFFSETFROM:+0200
TZOFFSETTO:+0100
TZNAME:CET
DTSTART:20221030T010000
END:STANDARD
END:VTIMEZONE
BEGIN:VEVENT
DTSTART;TZID=Europe/Paris:20210903T200000
DTEND;TZID=Europe/Paris:20210904T050000
DTSTAMP:20260425T011401
CREATED:20210901T122111Z
LAST-MODIFIED:20210901T122111Z
UID:10000326-1630699200-1630731600@www.laparfumerie.ch
SUMMARY:I LOVE 80's
DESCRIPTION:🎉💜 I Love 80’s 💜🎉 \nHey ! Devinez ce que c’est qu’une soirée « I Love 80’s » à la Parf ?! Vous avez trouvé ? \nBah voilà\, fin de la description.\nA vendredi ! 💜 \n⏰Horaires d’ouverture : \n🕗 20h – Ouverture des portes (Terrasse uniquement)\n🕚 23h – Ouverture Dancing\n🕛 05h – Fermeture \n💸Prix : \n💰 Gratuit de 20h à 23h\n💰 5 Chf de 23h à 00h00\n💰10 Chf après 00h00 \n— 🌴🍹La Terrasse🍺🌴 —\nBabyfoot\, Mario Kart\, Badminton\, Jeux de société à la demande \n—- 🎶💃Le Dancing🕺🤸‍♀ —-\n🎧 Soirée I LOVE 80’s by DJ DADA 🎧 \n———–⚠ ⚠ ⚠ CONDITIONS D’ADMISSION ⚠ ⚠ ⚠————- \nToutes les CONDITIONS D’ADMISSIONS liées au Certificat COVID sont désormais consignées sur un seul et même post Insta/Facebook. Un post dédié et complet intitulé « Comment éviter de se faire refouler » qui vous évitera de vous posez trop de questions ! \nLe lien du post ici : https://www.facebook.com/laparf/posts/4371036689644079
URL:https://www.laparfumerie.ch/evenement/i-love-80s-3/
LOCATION:La Parfumerie\, 7 chemin de la Gravière\, Genève\, 1227\, Switzerland
CATEGORIES:Saison 2020-2021,Soirée dansante
ATTACH;FMTTYPE=image/jpeg:https://www.laparfumerie.ch/wp-content/uploads/2021/09/Ilove80ssem5.jpg
GEO:46.197429;6.1301376
X-APPLE-STRUCTURED-LOCATION;VALUE=URI;X-ADDRESS=La Parfumerie 7 chemin de la Gravière Genève 1227 Switzerland;X-APPLE-RADIUS=500;X-TITLE=7 chemin de la Gravière:geo:6.1301376,46.197429
END:VEVENT
BEGIN:VEVENT
DTSTART;TZID=Europe/Paris:20210904T180000
DTEND;TZID=Europe/Paris:20210905T050000
DTSTAMP:20260425T011401
CREATED:20210902T123427Z
LAST-MODIFIED:20210902T135310Z
UID:10000327-1630778400-1630818000@www.laparfumerie.ch
SUMMARY:A 2 c'est mieux
DESCRIPTION:On sait ! La rentrée des fois ça pique un peu\, mais pas de panique ! On vous a préparé une soirée pour l’occasion : \n💖💞 « A 2 c’est mieux » 💞💖 \nC’est la boom de la rentrée\, elle commence tôt comme une vraie boom pour ceux qui sont claqués de la reprise et elle finit tard pour ceux qui en redemandent ! \nDe 18h à 23h c’est la « full boom »\, avec pleins de bonbons\, des chaises autour du dancefloor\, un mega buffet avec que des bonbons\, des sons de girls/boysband\, des slows\, de la lumière kitsch\, la déco qui va avec…. et le staff sapé comme jamais ! On ferme la terrasse jusqu’à 23h pour bien vous regrouper et créer la rencontre ! \nDès 23h on ouvre la terrasse\, on vire le bordel de la salle\, on change de DJ et on passe en mode « after boom » ! Une all style façon Parf’ avec encore quelques slows et sons dans le thème quand même ! \nVENEZ DÉGUISÉS\, on publiera quelques inspis dans les jours à venir ! \n⏰Horaires d’ouverture : \n🕗 18h – Ouverture des portes (Dancing uniquement\, en mode « full boom »)\n🕚 23h – Ouverture Terasse extérieur ( Dancing en mode soirée all style « after boom »)\n🕛 05h – Fermeture \n💸Prix : \n💰 Gratuit de 18h à 23h\n💰 5 Chf de 23h à 00h00\n💰10 Chf après 00h00 \n— 🌴🍹La Terrasse🍺🌴 — (23h à 5h)\nBabyfoot\, Mario Kart\, Badminton\, Jeux de société à la demande \n—- 🎶💃Le Dancing🕺🤸‍♀ —- (18h à 5h)\n🎧 « A 2 c’est mieux » musique de boom et slows jusqu’à 23h\, dès 23h All style teinté « boom » 🎧 \n———–⚠ ⚠ ⚠ CONDITIONS D’ADMISSION ⚠ ⚠ ⚠————- \nPASSE SANITAIRE OBLIGATOIRE \nToutes les CONDITIONS D’ADMISSIONS liées au Certificat COVID sont désormais consignées sur un seul et même post Insta/Facebook. Un post dédié et complet intitulé « Comment éviter de se faire refouler » qui vous évitera de vous poser trop de questions ! \nLe lien du post ici : https://www.facebook.com/laparf/posts/4371036689644079
URL:https://www.laparfumerie.ch/evenement/a-2-cest-mieux/
LOCATION:La Parfumerie\, 7 chemin de la Gravière\, Genève\, 1227\, Switzerland
CATEGORIES:Saison 2020-2021,Soirée dansante
ATTACH;FMTTYPE=image/jpeg:https://www.laparfumerie.ch/wp-content/uploads/2021/09/battleytsem6.jpg
GEO:46.197429;6.1301376
X-APPLE-STRUCTURED-LOCATION;VALUE=URI;X-ADDRESS=La Parfumerie 7 chemin de la Gravière Genève 1227 Switzerland;X-APPLE-RADIUS=500;X-TITLE=7 chemin de la Gravière:geo:6.1301376,46.197429
END:VEVENT
BEGIN:VEVENT
DTSTART;TZID=Europe/Paris:20210910T200000
DTEND;TZID=Europe/Paris:20210911T050000
DTSTAMP:20260425T011401
CREATED:20210907T105643Z
LAST-MODIFIED:20210910T155633Z
UID:10000337-1631304000-1631336400@www.laparfumerie.ch
SUMMARY:Soirée "Booty Shake"
DESCRIPTION:Soirée « Booty Shake » \nRSPT aux platines pour vous faire « wiggle wiggle » comme jamais ! Une base de all style\, agrémentée d’incitations à la fracture du bassin ! \nDe la bonne dose de Reggaeton style Bad Bunny\, aux bangers US façon Cardi B ou Nicky Minaj ! Sans oublier les classics Hits genre « Turn down for what » ou « Fatal bazooka – j’aime trop ton boule » parce qu’il y en aura pour tout le monde ! \n⏰Horaires d’ouverture : \n🕗 20h – Ouverture des portes (Terrasse uniquement)\n🕚 23h – Ouverture Dancing\n🕛 05h – Fermeture \n💸Prix : \n💰 Gratuit de 20h à 23h\n💰 5 Chf de 23h à 00h00\n💰10 Chf après 00h00 \n— 🌴🍹La Terrasse🍺🌴 —\nJust dance (20h à minuit)\, Babyfoot\, Mario Kart\, Pictionary\, Jeux de société à la demande \n—- 🎶💃Le Dancing🕺🤸‍♀ —-\n🎧 Soirée « Booty Shake » by RSPT [D!] 🎧 \n———–⚠ ⚠ ⚠ CONDITIONS D’ADMISSION ⚠ ⚠ ⚠————- \nPASSE SANITAIRE OBLIGATOIRE \nToutes les CONDITIONS D’ADMISSIONS liées au Certificat COVID sont désormais consignées sur un seul et même post Insta/Facebook. Un post dédié et complet intitulé « Comment éviter de se faire refouler » qui vous évitera de vous poser trop de questions ! \nLe lien du post ici : https://www.facebook.com/laparf/posts/4371036689644079
URL:https://www.laparfumerie.ch/evenement/soiree-booty-shake/
LOCATION:La Parfumerie\, 7 chemin de la Gravière\, Genève\, 1227\, Switzerland
CATEGORIES:Saison 2020-2021,Soirée dansante
ATTACH;FMTTYPE=image/jpeg:https://www.laparfumerie.ch/wp-content/uploads/2021/09/bootyshake.jpg
GEO:46.197429;6.1301376
X-APPLE-STRUCTURED-LOCATION;VALUE=URI;X-ADDRESS=La Parfumerie 7 chemin de la Gravière Genève 1227 Switzerland;X-APPLE-RADIUS=500;X-TITLE=7 chemin de la Gravière:geo:6.1301376,46.197429
END:VEVENT
BEGIN:VEVENT
DTSTART;TZID=Europe/Paris:20210911T200000
DTEND;TZID=Europe/Paris:20210912T050000
DTSTAMP:20260425T011401
CREATED:20210907T134815Z
LAST-MODIFIED:20210910T160511Z
UID:10000339-1631390400-1631422800@www.laparfumerie.ch
SUMMARY:Soirée "80s VS 90s"
DESCRIPTION:💥🤯 SOIRÉE 80s VS 90s ! 🤯💥 \nSoirée sous le signe de la schizophrénie ! DJ Dada se livrera à une battle versus lui-même. Ses meilleurs tubes 80s contre ses meilleures tubes 90s\, parce que quand c’est trop dur de choisir\, autant faire les deux ! \n⏰Horaires d’ouverture : \n🕗 20h – Ouverture des portes (Terrasse uniquement)\n🕚 23h – Ouverture Dancing\n🕛 05h – Fermeture \n💸Prix : \n💰 Gratuit de 20h à 23h\n💰 5 Chf de 23h à 00h00\n💰10 Chf après 00h00 \n— 🌴🍹La Terrasse🍺🌴 —\nBabyfoot\, Mario Kart\, Pictionary\, Jeux de société à la demande \n—- 🎶💃Le Dancing🕺🤸‍♀ —-\n🎧 Soirée « 80s VS 90s » by DJ DADA 🎧 \n———–⚠ ⚠ ⚠ CONDITIONS D’ADMISSION ⚠ ⚠ ⚠————- \nPASSE SANITAIRE OBLIGATOIRE \nToutes les CONDITIONS D’ADMISSIONS liées au Certificat COVID sont désormais consignées sur un seul et même post Insta/Facebook. Un post dédié et complet intitulé « Comment éviter de se faire refouler » qui vous évitera de vous poser trop de questions ! \nLe lien du post ici : https://www.facebook.com/laparf/posts/4371036689644079 \n 
URL:https://www.laparfumerie.ch/evenement/soiree-80s-vs-90s-2/
LOCATION:La Parfumerie\, 7 chemin de la Gravière\, Genève\, 1227\, Switzerland
CATEGORIES:Saison 2020-2021,Soirée dansante
ATTACH;FMTTYPE=image/jpeg:https://www.laparfumerie.ch/wp-content/uploads/2021/09/80sVS90s.jpg
GEO:46.197429;6.1301376
X-APPLE-STRUCTURED-LOCATION;VALUE=URI;X-ADDRESS=La Parfumerie 7 chemin de la Gravière Genève 1227 Switzerland;X-APPLE-RADIUS=500;X-TITLE=7 chemin de la Gravière:geo:6.1301376,46.197429
END:VEVENT
BEGIN:VEVENT
DTSTART;TZID=Europe/Paris:20210917T200000
DTEND;TZID=Europe/Paris:20210918T050000
DTSTAMP:20260425T011401
CREATED:20210913T120831Z
LAST-MODIFIED:20210913T121233Z
UID:10000373-1631908800-1631941200@www.laparfumerie.ch
SUMMARY:Soirée "Your Style"
DESCRIPTION:« Your style » c’est la All style démocratique dont vous êtes les héros. \nParce qu’il y en a marre des DJs qui dictent la musique qu’on doit écouter sous prétexte que c’est leurs « métiers ». Qui chialent parce que\, non\, la ils avaient pas prévu de mettre celle que t’aime bien … \nCette fois la Parf’ introduit pour vous\, « le droit de vote »\, un concept totalement novateur ! Recevez votre bulletin de vote à l’entrée et votez en mettant vos sélections dans l’urne ! Elisez vos sons en pleins set de façon totalement anonyme\, ludique et interactive ! \nUn système de vote totalement transparent\, garanti sans fraude\, puisque c’est les DJs eux même qui dépouilleront les votes ! Bah ouais\, c’est leurs métiers quand même ! \n… Wait… what ? \n⏰Horaires d’ouverture : \n🕗 20h – Ouverture des portes (Terrasse uniquement)\n🕚 23h – Ouverture Dancing\n🕛 05h – Fermeture \n💸Prix : \n💰 Gratuit de 20h à 23h\n💰 5 Chf de 23h à 00h00\n💰10 Chf après 00h00 \n— 🌴🍹La Terrasse🍺🌴 —\nBabyfoot\, Mario Kart\, Pictionary\, Jeux de société à la demande \n—- 🎶💃Le Dancing🕺🤸‍♀ —-\n🎧 Soirée « Your style » by DJ X-OR & DJ Jest 🎧 \n🔗 Check out DJ X-OR 🔗\nhttps://facebook.com/deejay.x.or \n\n———–⚠ ⚠ ⚠ CONDITIONS D’ADMISSION ⚠ ⚠ ⚠————- \nPASSE SANITAIRE OBLIGATOIRE \nToutes les CONDITIONS D’ADMISSIONS liées au Certificat COVID sont désormais consignées sur un seul et même post Insta/Facebook. Un post dédié et complet intitulé « Comment éviter de se faire refouler » qui vous évitera de vous poser trop de questions ! \nLe lien du post ici : https://www.facebook.com/laparf/posts/4371036689644079 \n 
URL:https://www.laparfumerie.ch/evenement/soiree-your-style/
LOCATION:La Parfumerie\, 7 chemin de la Gravière\, Genève\, 1227\, Switzerland
CATEGORIES:Saison 2020-2021,Soirée dansante
ATTACH;FMTTYPE=image/jpeg:https://www.laparfumerie.ch/wp-content/uploads/2021/09/Facebook_cover_21_semlast.jpg
GEO:46.197429;6.1301376
X-APPLE-STRUCTURED-LOCATION;VALUE=URI;X-ADDRESS=La Parfumerie 7 chemin de la Gravière Genève 1227 Switzerland;X-APPLE-RADIUS=500;X-TITLE=7 chemin de la Gravière:geo:6.1301376,46.197429
END:VEVENT
BEGIN:VEVENT
DTSTART;TZID=Europe/Paris:20210918T200000
DTEND;TZID=Europe/Paris:20210919T050000
DTSTAMP:20260425T011401
CREATED:20210914T145838Z
LAST-MODIFIED:20210914T145838Z
UID:10000374-1631995200-1632027600@www.laparfumerie.ch
SUMMARY:UltimateMegaHyperDuper All style
DESCRIPTION:Et bien oui\, c’est la dernière de la saison\, le dernier weekend\, la dernière danse (shout out Indila). \nPour finir en beauté cette saison 2021\, on vous sort la : \n🔥🤯💥 UltimateMegaHyperDuper All style ! 🔥🤯💥 \nUne all style avec un medley des idées loufoques qui font de la Parf’\, la Parf’. \nDu just dance\, du karaoké\, des vidéos clips\, des hits en-veux-tu-en-voilà\, et tout ce qui va avec ! On prend tout\, on mélange et on vous promet un mélange explosif avec des surprises en prime. \nCe n’est qu’un aurevoir\, mais il va être grandiose ! \n⏰Horaires d’ouverture : \n🕗 20h – Ouverture des portes (Terrasse uniquement)\n🕚 23h – Ouverture Dancing\n🕛 05h – Fermeture \n💸Prix : \n💰 Gratuit de 20h à 23h\n💰 5 Chf de 23h à 00h00\n💰10 Chf après 00h00 \n— 🌴🍹La Terrasse🍺🌴 —\nBabyfoot\, Mario Kart\, Pictionary\, Jeux de société à la demande \n—- 🎶💃Le Dancing🕺🤸‍♀ —-\n🎧 Soirée « UltimateMegaHyperDuper All style »\nby Les petits pédestres 🎧 \n———–⚠ ⚠ ⚠ CONDITIONS D’ADMISSION ⚠ ⚠ ⚠————- \nPASSE SANITAIRE OBLIGATOIRE \nToutes les CONDITIONS D’ADMISSIONS liées au Certificat COVID sont désormais consignées sur un seul et même post Insta/Facebook. Un post dédié et complet intitulé « Comment éviter de se faire refouler » qui vous évitera de vous poser trop de questions ! \nLe lien du post ici : https://www.facebook.com/laparf/posts/4371036689644079
URL:https://www.laparfumerie.ch/evenement/ultimatemegahyperduper-all-style/
LOCATION:La Parfumerie\, 7 chemin de la Gravière\, Genève\, 1227\, Switzerland
CATEGORIES:Saison 2020-2021,Soirée dansante
ATTACH;FMTTYPE=image/jpeg:https://www.laparfumerie.ch/wp-content/uploads/2021/09/Facebook_cover_21_semlast2.jpg
GEO:46.197429;6.1301376
X-APPLE-STRUCTURED-LOCATION;VALUE=URI;X-ADDRESS=La Parfumerie 7 chemin de la Gravière Genève 1227 Switzerland;X-APPLE-RADIUS=500;X-TITLE=7 chemin de la Gravière:geo:6.1301376,46.197429
END:VEVENT
END:VCALENDAR