BEGIN:VCALENDAR
VERSION:2.0
PRODID:-//La parfumerie - ECPv6.15.11//NONSGML v1.0//EN
CALSCALE:GREGORIAN
METHOD:PUBLISH
X-ORIGINAL-URL:https://www.laparfumerie.ch
X-WR-CALDESC:Évènements pour La parfumerie
REFRESH-INTERVAL;VALUE=DURATION:PT1H
X-Robots-Tag:noindex
X-PUBLISHED-TTL:PT1H
BEGIN:VTIMEZONE
TZID:Europe/Paris
BEGIN:DAYLIGHT
TZOFFSETFROM:+0100
TZOFFSETTO:+0200
TZNAME:CEST
DTSTART:20190331T010000
END:DAYLIGHT
BEGIN:STANDARD
TZOFFSETFROM:+0200
TZOFFSETTO:+0100
TZNAME:CET
DTSTART:20191027T010000
END:STANDARD
BEGIN:DAYLIGHT
TZOFFSETFROM:+0100
TZOFFSETTO:+0200
TZNAME:CEST
DTSTART:20200329T010000
END:DAYLIGHT
BEGIN:STANDARD
TZOFFSETFROM:+0200
TZOFFSETTO:+0100
TZNAME:CET
DTSTART:20201025T010000
END:STANDARD
BEGIN:DAYLIGHT
TZOFFSETFROM:+0100
TZOFFSETTO:+0200
TZNAME:CEST
DTSTART:20210328T010000
END:DAYLIGHT
BEGIN:STANDARD
TZOFFSETFROM:+0200
TZOFFSETTO:+0100
TZNAME:CET
DTSTART:20211031T010000
END:STANDARD
END:VTIMEZONE
BEGIN:VEVENT
DTSTART;TZID=Europe/Paris:20200731T230000
DTEND;TZID=Europe/Paris:20200801T040000
DTSTAMP:20260426T054045
CREATED:20200728T110438Z
LAST-MODIFIED:20200731T155114Z
UID:10000261-1596236400-1596254400@www.laparfumerie.ch
SUMMARY:Soirée Soul x Funk x Hip-Hop (ANNULÉE)
DESCRIPTION:—– SOIRÉE ANNULÉE —–\n\n\n\nSuite à l’arrêté cantonal du conseil d’État\, daté du 31 Juillet (16h45)\, les boîtes de nuits seront fermées dès ce soir et ce jusqu’au 23 Août minimum. Nous sommes donc dans l’obligation d’annuler l’événement de ce soir ainsi que les suivants jusqu’à nouvel ordre.\n\n\n\nMerci de votre compréhension et prenez soin de vous\,\n\n\n\nL’équipe de La Parfumerie\n\n\n\nPour plus de détails\, rendez-vous sur :\n\n\nhttps://www.ge.ch/document/covid-19-conseil-etat-intensifie-mesures-protection-contre-propagation-du-coronavirus\n\n  \n————————————————- \n  \n🎧🕺 Soirée Soul x Funk x Hip-Hop 💃🎧 \nMr Riddler est dans la place ! Avec ses skills de turntablist et son lot de pépites musicales habituelles\, accompagnés d’une bonne dose de CLASSICS de toutes les époques pour pas trop vous dépayser\, préparez-vous.. ça va groover ! \n___________________________ \nAu programme : \n—- 🎶💃Le Dancing🕺🤸‍♀ —-\n(Bar intérieur\, dancefloor et espace extérieur devant le dancefloor) \n🎧 SOIRÉE SOUL x FUNK x HIP-HOP by Mr Riddler 🎧 \n🕚 23h – 4h\n💰 10 Chf\n🚪 Entrée principale\n🔞 Carte d’identité obligatoire\n🚫 Sortie définitive\nMax. 300 personnes \n— 😷😢 La Terrasse : FERMÉE😷😢 —\nAttention : En raison des conditions spéciales d’exploitation COVID 19\, nous sommes contraints de fermer l’espace terrasse jusqu’à nouvel ordre. \n_______________________ \nAttention\, COVID 19 oblige\, ces soirées s’accompagnent de mesures exceptionnelles\, afin d’accueillir notre public dans le respect des recommandations de la Confédération. Nous vous prions donc de prendre connaissance des conditions d’admission et des consignes suivantes afin d’assurer le bon déroulement de nos futurs événements. \n———– ⚠ ⚠ ⚠ CONDITIONS D’ADMISSION ⚠ ⚠ ⚠ ———— \n– Carte d’identité OBLIGATOIRE : nous sommes tenus de recueillir vos informations personnelles\, afin de garantir la traçabilité du public. Ces informations seront vérifiées à l’aide de votre carte d’identité à l’entrée. Nous sommes dans l’obligation de refuser l’entrée à toutes personnes ne respectant pas cette consigne. \n– Sortie définitive. \n– La Parfumerie voit son espace temporairement réduit au Dancing uniquement : \nLe Dancing 23h -4h\n(Bar intérieur\, dancefloor et espace extérieur devant le dancefloor\, entrée principale et payante) \nLa Terrasse : Fermée\n(Bar extérieur\, Terrasse) \n– Le Dancing est limité à 300 personnes sur la durée totale de la soirée. Nous refuserons l’entrée une fois cette limite atteinte et ne feront aucune exception. \n– Les recommandations de distanciation sociale et sanitaires restent en vigueur dans la mesure du possible. Il vous est donc vivement recommandé de vous laver les mains régulièrement et d’éviter les contacts physiques superflus. \n– La Parfumerie ne proposera temporairement pas de vestiaire.\nNous sommes conscients que ces conditions ne sont pas idéales et nous espérons qu’elles évolueront rapidement. \nD’ici là\, nous vous remercions d’avance de votre soutien et de votre compréhension.
URL:https://www.laparfumerie.ch/evenement/soiree-soul-x-funk-x-hip-hop/
LOCATION:La Parfumerie\, 7 chemin de la Gravière\, Genève\, 1227\, Switzerland
CATEGORIES:Saison 2019-2020,Soirée dansante
ATTACH;FMTTYPE=image/jpeg:https://www.laparfumerie.ch/wp-content/uploads/2020/07/soulxfunkxhh-1030x539_annulé.jpg
GEO:46.197429;6.1301376
X-APPLE-STRUCTURED-LOCATION;VALUE=URI;X-ADDRESS=La Parfumerie 7 chemin de la Gravière Genève 1227 Switzerland;X-APPLE-RADIUS=500;X-TITLE=7 chemin de la Gravière:geo:6.1301376,46.197429
END:VEVENT
BEGIN:VEVENT
DTSTART;TZID=Europe/Paris:20200801T230000
DTEND;TZID=Europe/Paris:20200802T040000
DTSTAMP:20260426T054045
CREATED:20200728T110638Z
LAST-MODIFIED:20200731T160744Z
UID:10000262-1596322800-1596340800@www.laparfumerie.ch
SUMMARY:Soirée All Style (ANNULÉE)
DESCRIPTION:—– SOIRÉE ANNULÉE —–\n\n\n\nSuite à l’arrêté cantonal du conseil d’État\, daté du 31 Juillet (16h45)\, les boîtes de nuits seront fermées jusqu’au 23 Août minimum. Nous sommes donc dans l’obligation d’annuler l’événement ainsi que les suivants jusqu’à nouvel ordre.\n\n\n\nMerci de votre compréhension et prenez soin de vous\,\n\n\n\nL’équipe de La Parfumerie\n\n\n\nPour plus de détails\, rendez-vous sur :\n\n\nhttps://www.ge.ch/document/covid-19-conseil-etat-intensifie-mesures-protection-contre-propagation-du-coronavirus\n\n  \n—————————————————- \n  \n🎧🕺 Soirée All style 💃🎧 \nCeci est un message officiel de dj X-Or : \nSoyez les bienvenu-e-s-x dans cette nouvelle « all styles » et abandonnez votre raison – mais pas vos bonnes manières – aux portes de la Parf’ en criant « paaaaaaaaaaaaartéééééy ! » \nAvec\, dans le désordre\, une bonne rasade de tubes POP bien sucrés qui collent durablement aux dents\, des années 2000 au tube sorti par machin-e l’autre jour\, que toi aussi t’as été parmi les 528’430’291 à avoir visionné en tapant du pied\, mais aussi du HIP-HOP (j’ai même du Jul si vous insistez)\, de la DANCE qui tape pour le côté retro 2010\, une bonne rasade de musique LATINO caliente avec son REGGETON en sauce\, de l’ELECTRO\, en français\, allemand\, coréen\, russe\, vietnamien\, suédois\, et bien sûr\, en anglais\, les inévitables (quoi qu’on en dise) années 80 saupoudrées de la crème des 90’s\, du ROCK’n’ROLL des légendes d’hier aux petit-e-s nouveaux-velles d’aujourd’hui\, un peu de NEW-WAVE s’il pleut\, des flashes d’EDM pour ne plus toucher terre\, voire même un brin de DUBSTEP\, et qui sait\, un poil de METAL si j’ai trop bu et quelques légendes du PUNK (Ooooh!). Avec toujours un peu\, beaucoup\, passionnément de la CHANSON FRANÇAISE\, voire des variétés cosmiques et quelques ovnis musicaux\, tout ça avec un seul objectif : danser\, rigoler (toujours dans le désordre) jusqu’au bout de la nuit ! « all styles » puisqu’on vous l’dit! … \nEt comme dit J.Lo\, « If you go hard you gotta get on the floor\, If you’re a party freak then step on the floor\, If you’re an animal then tear up the floor\, Break a sweat on the floor\, Yeah we work on the floor »! \n___________________________ \nAu programme : \n—- 🎶💃Le Dancing🕺🤸‍♀ —-\n(Bar intérieur\, dancefloor et espace extérieur devant le dancefloor) \n🎧 SOIRÉE ALL STYLE by DJ X-Or 🎧\n🕚 23h – 4h\n💰 10 Chf\n🚪 Entrée principale\n🔞 Carte d’identité obligatoire\n🚫 Sortie définitive\nMax. 300 personnes \n— 😷😢 La Terrasse : FERMÉE😷😢 —\nAttention : En raison des conditions spéciales d’exploitation COVID 19\, nous sommes contraints de fermer l’espace terrasse jusqu’à nouvel ordre.\n_______________________ \nAttention\, COVID 19 oblige\, ces soirées s’accompagnent de mesures exceptionnelles\, afin d’accueillir notre public dans le respect des recommandations de la Confédération. Nous vous prions donc de prendre connaissance des conditions d’admission et des consignes suivantes afin d’assurer le bon déroulement de nos futurs événements. \n———– ⚠ ⚠ ⚠ CONDITIONS D’ADMISSION ⚠ ⚠ ⚠ ———— \n– Carte d’identité OBLIGATOIRE : nous sommes tenus de recueillir vos informations personnelles\, afin de garantir la traçabilité du public. Ces informations seront vérifiées à l’aide de votre carte d’identité à l’entrée. Nous sommes dans l’obligation de refuser l’entrée à toutes personnes ne respectant pas cette consigne. \n– Sortie définitive. \n– La Parfumerie voit son espace temporairement réduit au Dancing uniquement : \nLe Dancing 23h -4h\n(Bar intérieur\, dancefloor et espace extérieur devant le dancefloor\, entrée principale et payante) \nLa Terrasse : Fermée\n(Bar extérieur\, Terrasse) \n– Le Dancing est limité à 300 personnes sur la durée totale de la soirée. Nous refuserons l’entrée une fois cette limite atteinte et ne feront aucune exception. \n– Les recommandations de distanciation sociale et sanitaires restent en vigueur dans la mesure du possible. Il vous est donc vivement recommandé de vous laver les mains régulièrement et d’éviter les contacts physiques superflus. \n– La Parfumerie ne proposera temporairement pas de vestiaire.\nNous sommes conscients que ces conditions ne sont pas idéales et nous espérons qu’elles évolueront rapidement. \nD’ici là\, nous vous remercions d’avance de votre soutien et de votre compréhension.
URL:https://www.laparfumerie.ch/evenement/soiree-all-style-2/
LOCATION:La Parfumerie\, 7 chemin de la Gravière\, Genève\, 1227\, Switzerland
CATEGORIES:Saison 2019-2020,Soirée dansante
ATTACH;FMTTYPE=image/jpeg:https://www.laparfumerie.ch/wp-content/uploads/2020/07/annulé.jpg
GEO:46.197429;6.1301376
X-APPLE-STRUCTURED-LOCATION;VALUE=URI;X-ADDRESS=La Parfumerie 7 chemin de la Gravière Genève 1227 Switzerland;X-APPLE-RADIUS=500;X-TITLE=7 chemin de la Gravière:geo:6.1301376,46.197429
END:VEVENT
END:VCALENDAR